BEGIN:VCALENDAR
VERSION:2.0
PRODID:-//Tennis Tour Calendar - ECPv6.15.20//NONSGML v1.0//EN
CALSCALE:GREGORIAN
METHOD:PUBLISH
X-WR-CALNAME:Tennis Tour Calendar
X-ORIGINAL-URL:https://tennistourcalendar.com
X-WR-CALDESC:Events for Tennis Tour Calendar
REFRESH-INTERVAL;VALUE=DURATION:PT1H
X-Robots-Tag:noindex
X-PUBLISHED-TTL:PT1H
BEGIN:VTIMEZONE
TZID:Europe/Madrid
BEGIN:DAYLIGHT
TZOFFSETFROM:+0100
TZOFFSETTO:+0200
TZNAME:CEST
DTSTART:20250330T010000
END:DAYLIGHT
BEGIN:STANDARD
TZOFFSETFROM:+0200
TZOFFSETTO:+0100
TZNAME:CET
DTSTART:20251026T010000
END:STANDARD
BEGIN:DAYLIGHT
TZOFFSETFROM:+0100
TZOFFSETTO:+0200
TZNAME:CEST
DTSTART:20260329T010000
END:DAYLIGHT
BEGIN:STANDARD
TZOFFSETFROM:+0200
TZOFFSETTO:+0100
TZNAME:CET
DTSTART:20261025T010000
END:STANDARD
BEGIN:DAYLIGHT
TZOFFSETFROM:+0100
TZOFFSETTO:+0200
TZNAME:CEST
DTSTART:20270328T010000
END:DAYLIGHT
BEGIN:STANDARD
TZOFFSETFROM:+0200
TZOFFSETTO:+0100
TZNAME:CET
DTSTART:20271031T010000
END:STANDARD
END:VTIMEZONE
BEGIN:VEVENT
DTSTART;TZID=Europe/Madrid:20260420T000000
DTEND;TZID=Europe/Madrid:20260503T235959
DTSTAMP:20260421T014413
CREATED:20260414T115853Z
LAST-MODIFIED:20260414T115901Z
UID:3672-1776643200-1777852799@tennistourcalendar.com
SUMMARY:2026 Mutua Madrid Open
DESCRIPTION:The Mutua Madrid Open has long been the crown jewel of the European clay-court swing\, blending high-stakes athleticism with the undeniable glamour of the Spanish capital. As we look ahead to the 2026 edition\, the tournament continues its legacy as a mandatory ATP Masters 1000 and WTA 1000 event\, drawing the world’s elite to the iconic “Caja Mágica.” \n\n\n\nWhether you are a die-hard tennis aficionado or a casual fan looking to soak up the atmosphere in Madrid\, this evergreen guide provides everything you need to know about the 2026 tournament\, from the star-studded entry lists to the precise breakdown of the multi-million Euro prize pool. \n\n\n\n\n\n\n\nTournament Overview: Dates and Venue\n\n\n\nThe 2026 Mutua Madrid Open is scheduled to take place over two action-packed weeks\, beginning on Monday\, April 20\, and concluding on Sunday\, May 3\, 2026. \n\n\n\nThe Venue: Caja Mágica (The Magic Box)\n\n\n\nLocated in the San Fermín neighborhood along the Manzanares River\, the Caja Mágica is widely considered one of the most technologically advanced tennis facilities in the world. Designed by architect Dominique Perrault\, the structure is famous for its three main stadiums—Manolo Santana\, Arantxa Sánchez Vicario\, and Court 3—all of which feature retractable roofs. \n\n\n\nThis architectural marvel ensures that play can continue regardless of Madrid’s unpredictable spring showers. The facility isn’t just about tennis; it’s a social hub where Real Madrid footballers\, international celebrities\, and thousands of fans converge to witness world-class sport on the “red dirt.” \n\n\n\n\n\n\n\nThe 2026 Tournament Schedule\n\n\n\nThe schedule for 2026 follows the expanded two-week format\, allowing for a 96-player singles draw for both the ATP and WTA. This allows for a more relaxed pace in the early rounds while ensuring every day is packed with high-quality matchups. \n\n\n\nDateSession TypeKey Events/RoundsMon\, April 20DayATP & WTA Qualifying 1st RoundTue\, April 21DayWTA Main Draw 1st Round / ATP Qualifying 2nd RoundWed\, April 22DayATP & WTA 1st Round Main DrawThu\, April 23DayWTA 2nd Round / ATP 1st RoundFri\, April 24Day/NightATP 2nd Round / WTA 2nd RoundSat\, April 25Day/NightATP 2nd Round / WTA 3rd RoundSun\, April 26Day/NightATP 3rd Round / WTA 3rd RoundMon\, April 27Day/NightATP 3rd Round / WTA Round of 16Tue\, April 28Day/NightATP Round of 16 / WTA QuarterfinalsWed\, April 29Day/NightATP Quarterfinals / WTA QuarterfinalsThu\, April 30Day/NightATP Quarterfinals / WTA SemifinalsFri\, May 1Day/NightATP Semifinals / WTA Doubles SemifinalsSat\, May 2DayWTA Singles Final / ATP Doubles FinalSun\, May 3DayATP Singles Final / WTA Doubles Final\n\n\n\n\nNote: The “Night Sessions” at the Manolo Santana Stadium are legendary for their electric atmosphere\, often lasting well into the Spanish night. \n\n\n\n\n\n\n\n\nPrize Money and Ranking Points\n\n\n\nThe 2026 Mutua Madrid Open offers a total prize purse of €8\,235\,540\, reflecting its status as one of the most lucrative stops on the tour. In a continuing effort toward gender equality in sport\, the prize money structure is designed to reward players significantly as they progress through the grueling 96-player draw. \n\n\n\nSingles Prize Money (ATP & WTA)\n\n\n\nRoundPrize MoneyRanking PointsWinner€1\,007\,1651\,000Finalist€535\,585650 (ATP) / 650 (WTA)Semifinalist€297\,550400 (ATP) / 390 (WTA)Quarterfinalist€169\,375200 (ATP) / 215 (WTA)Round of 16€92\,470100 (ATP) / 120 (WTA)Round of 32€54\,11050 (ATP) / 65 (WTA)Round of 64€31\,58530 (ATP) / 35 (WTA)Round of 96€21\,28510\n\n\n\nDoubles Prize Money (Per Team)\n\n\n\nRoundPrize MoneyRanking PointsWinner€409\,5201\,000Finalist€216\,800600 (ATP) / 650 (WTA)Semifinalist€116\,430360 (ATP) / 390 (WTA)Quarterfinalist€58\,220180 (ATP) / 215 (WTA)Round of 16€31\,22090 (ATP) / 120 (WTA)Round of 32€17\,0600 (ATP) / 10 (WTA)\n\n\n\n\n\n\n\nThe 2026 Entry List: Who to Watch\n\n\n\nThe 2026 entry list is a “Who’s Who” of tennis royalty. Madrid’s altitude and clay conditions favor players who can combine power with heavy topspin. \n\n\n\nATP Top Seeds\n\n\n\nThe men’s side is headlined by home favorite Carlos Alcaraz\, who looks to reclaim his throne in Madrid. However\, he faces stiff competition from the world’s top-ranked players: \n\n\n\n\nCarlos Alcaraz (ESP): The two-time champion (2022\, 2023) and the darling of the Spanish crowd.\n\n\n\nJannik Sinner (ITA): Known for his blistering pace\, Sinner’s game has become increasingly dangerous on clay.\n\n\n\nNovak Djokovic (SRB): The veteran legend who always remains a threat for the title.\n\n\n\nAlexander Zverev (GER): A former champion whose serve-and-volley style thrives in Madrid’s thin air.\n\n\n\nLorenzo Musetti (ITA): A clay-court specialist with a beautiful one-handed backhand.\n\n\n\n\nOther notable names in the top 20 include Ben Shelton\, Daniil Medvedev\, and the rising Czech star Jakub Mensik. \n\n\n\nWTA Top Seeds\n\n\n\nThe women’s draw is arguably more competitive than ever\, with the “Big Three” of women’s tennis leading the pack: \n\n\n\n\nAryna Sabalenka: A powerhouse whose game is perfectly suited for the faster clay in Madrid.\n\n\n\nElena Rybakina (KAZ): Her flat hitting and massive serve make her a nightmare to play at altitude.\n\n\n\nIga Swiatek (POL): The undisputed queen of clay\, though Madrid’s faster conditions have historically been her biggest challenge on this surface.\n\n\n\nCoco Gauff (USA): The athletic American continues to improve her clay-court sliding and defensive prowess.\n\n\n\nJessica Pegula (USA): A model of consistency who has reached the deep stages in Madrid before.\n\n\n\n\nKeep an eye on Naomi Osaka and Emma Raducanu\, who appear in the top 25 and look to make deep runs on the dirt. \n\n\n\n\n\n\n\nImportant Info: What Makes Madrid Unique?\n\n\n\nTo truly appreciate the Mutua Madrid Open\, one must understand the nuances that differentiate it from other clay-court tournaments like Monte Carlo or Roland Garros. \n\n\n\n1. The Altitude Factor\n\n\n\nMadrid sits at approximately 650 meters (2\,100 feet) above sea level. In the world of tennis\, this is “high altitude.” The air is thinner\, meaning the ball moves faster through the air and bounces significantly higher. This often favors “big servers” and “power hitters” who might otherwise struggle on the slower clay of Paris. \n\n\n\n2. The “Caja Mágica” Atmosphere\n\n\n\nThe tournament is famous for its “Blue Clay” controversy of 2012 (which was quickly reverted to traditional red)\, but its current identity is defined by its energy. Because the main court is somewhat enclosed\, the sound of the ball hitting the strings echoes like a gunshot. The Spanish fans are passionate\, vocal\, and deeply supportive of their local heroes. \n\n\n\n3. Celebrity Sightings\n\n\n\nDon’t be surprised if the camera pans to the front row and catches icons like Cristiano Ronaldo or current Real Madrid stars like Vinícius Júnior. The tournament is a major stop on the European social calendar\, blending high fashion with high-performance sport. \n\n\n\n4. Transition to Clay\n\n\n\nWhile the tournament began as an indoor hard-court event in 2002\, its move to clay in 2009 cemented its place as a vital warm-up for the French Open. It is the second of the three “Masters 1000” clay events (following Monte Carlo and preceding Rome). \n\n\n\n\n\n\n\nConclusion\n\n\n\nThe 2026 Mutua Madrid Open promises to be a landmark event in the tennis calendar. With a prize pool exceeding €8 million and a field featuring legends like Djokovic alongside the new era of Alcaraz and Sinner\, the stakes have never been higher. Whether you are watching for the tactical masterclass on the red clay or the celebrity-filled stands of the Caja Mágica\, Madrid remains an unmissable spectacle. \n\n\n\nFor live scores\, draws\, and official updates\, fans are encouraged to visit the official website at www.mutuamadridopen.com.
URL:https://tennistourcalendar.com/event/2026-mutua-madrid-open/
LOCATION:Caja Mágica\, Cmo. de Perales\, 23\, Usera\, Madrid\, 28041\, Spain
CATEGORIES:ATP Tour,WTA Tour
ATTACH;FMTTYPE=image/jpeg:https://tennistourcalendar.com/wp-content/uploads/2026/04/Mutua-Madrid-Open-Tennis.jpg
END:VEVENT
END:VCALENDAR