BEGIN:VCALENDAR
VERSION:2.0
PRODID:-//Tennis Tour Calendar - ECPv6.15.20//NONSGML v1.0//EN
CALSCALE:GREGORIAN
METHOD:PUBLISH
X-ORIGINAL-URL:https://tennistourcalendar.com
X-WR-CALDESC:Events for Tennis Tour Calendar
REFRESH-INTERVAL;VALUE=DURATION:PT1H
X-Robots-Tag:noindex
X-PUBLISHED-TTL:PT1H
BEGIN:VTIMEZONE
TZID:Europe/Paris
BEGIN:DAYLIGHT
TZOFFSETFROM:+0100
TZOFFSETTO:+0200
TZNAME:CEST
DTSTART:20250330T010000
END:DAYLIGHT
BEGIN:STANDARD
TZOFFSETFROM:+0200
TZOFFSETTO:+0100
TZNAME:CET
DTSTART:20251026T010000
END:STANDARD
BEGIN:DAYLIGHT
TZOFFSETFROM:+0100
TZOFFSETTO:+0200
TZNAME:CEST
DTSTART:20260329T010000
END:DAYLIGHT
BEGIN:STANDARD
TZOFFSETFROM:+0200
TZOFFSETTO:+0100
TZNAME:CET
DTSTART:20261025T010000
END:STANDARD
BEGIN:DAYLIGHT
TZOFFSETFROM:+0100
TZOFFSETTO:+0200
TZNAME:CEST
DTSTART:20270328T010000
END:DAYLIGHT
BEGIN:STANDARD
TZOFFSETFROM:+0200
TZOFFSETTO:+0100
TZNAME:CET
DTSTART:20271031T010000
END:STANDARD
END:VTIMEZONE
BEGIN:VEVENT
DTSTART;TZID=Europe/Paris:20260518T000000
DTEND;TZID=Europe/Paris:20260607T235959
DTSTAMP:20260423T205537
CREATED:20260316T234007Z
LAST-MODIFIED:20260316T234012Z
UID:3496-1779062400-1780876799@tennistourcalendar.com
SUMMARY:2026 French Open
DESCRIPTION:Updated on April 14\, 2026\n\n\nThe tennis world is turning its gaze toward the iconic red clay of Paris as the 2026 French Open (Roland-Garros) approaches. Set to take place from 18 May to 7 June 2026\, this edition promises to be one of the most significant in recent memory. Coming off a historic 2025 tournament that many experts believe signaled the definitive dawn of a new era\, the 125th edition of the French Open is poised to deliver unmatched drama\, tactical brilliance\, and the relentless physical test that only the Parisian clay can provide. \n\n\n\nTable of Contents[Open][Close]Tournament EssentialsDefending Champions: The 2025 RecapMen’s Singles: Carlos AlcarazWomen’s Singles: Coco GauffExpected Prize Money (Based on 2025 Data)Key Storylines for 20261. The “Sincaraz” Rivalry Reaches Fever Pitch2. Iga Świątek’s Quest for Redemption3. The Sunset of the LegendsComplete Provisional Schedule: 2026Week 1: Qualifying & Early RoundsWeek 2: Finals & Prestige MatchesTechnical Analysis: Why Roland-Garros is DifferentDark Horses to WatchConclusion\n\n\n\nTournament Essentials\n\n\n\nThe venue remains the historic Stade Roland Garros in the 16th arrondissement of Paris. Known for its demanding surface\, the venue features the magnificent Court Philippe-Chatrier (with its retractable roof)\, the high-intensity Court Suzanne-Lenglen\, and the picturesque Court Simonne-Mathieu. \n\n\n\n\nQualifying Rounds: 18 May – 22 May\n\n\n\nMain Draw: 24 May – 7 June\n\n\n\nSurface: Red Clay (Terre Battue)\n\n\n\n\n\n\n\n\nDefending Champions: The 2025 Recap\n\n\n\nTo understand the stakes for 2026\, one must look back at the “Summer of Titans” in 2025. \n\n\n\nMen’s Singles: Carlos Alcaraz\n\n\n\nCarlos Alcaraz enters 2026 as the two-time defending champion. In 2025\, Alcaraz etched his name into the history books by winning what is now officially the longest men’s singles final in Roland-Garros history—a grueling 5-hour and 29-minute marathon against Jannik Sinner. Alcaraz displayed inhuman resilience\, saving three consecutive championship points in the fourth set to eventually triumph 4–6\, 6–7\, 6–4\, 7–6\, 7–6. By defending his title\, he confirmed his status as the undisputed king of the modern clay-court era. \n\n\n\nWomen’s Singles: Coco Gauff\n\n\n\nThe 2025 tournament saw a monumental shift on the women’s side. Coco Gauff captured her first Roland-Garros title and second career Grand Slam by defeating world No. 1 Aryna Sabalenka in a high-octane final. Gauff’s victory was particularly notable because it ended the three-year dominance of Iga Świątek\, who fell to Sabalenka in the semifinals. Gauff’s improved serve and court coverage on clay have made her a formidable force\, and she arrives in 2026 looking to cement her own “clay-court queen” status. \n\n\n\n\n\n\n\nExpected Prize Money (Based on 2025 Data)\n\n\n\nWhile the official 2026 figures are typically confirmed just weeks before the event\, we expect a continuation of the upward trend seen in 2025. Last year’s total prize pool was a staggering €56\,352\,000. \n\n\n\nRoundSingles (Men & Women)Doubles (Per Team)Winner€2\,550\,000€590\,000Runner-up€1\,275\,000€295\,000Semifinal€690\,000€148\,000Quarterfinal€440\,000€80\,000Round 16€265\,000€45\,000Round 128€78\,000–\n\n\n\n\n\n\n\nKey Storylines for 2026\n\n\n\n1. The “Sincaraz” Rivalry Reaches Fever Pitch\n\n\n\nThe Alcaraz-Sinner rivalry is now the gold standard of professional tennis. With Sinner winning Wimbledon 2025 and Alcaraz taking the French and US Opens\, the 2026 French Open is the primary battleground. Sinner is currently on a mission to complete his Career Grand Slam\, and Roland-Garros is the final piece of the puzzle. \n\n\n\n2. Iga Świątek’s Quest for Redemption\n\n\n\nAfter her streak was broken in 2025\, Iga Świątek returns to Paris with a point to prove. The four-time champion (2020\, 2022\, 2023\, 2024) still holds the most dominant record on clay of any active player. Tennis analysts are watching closely to see if she can reclaim her throne or if the field has finally closed the gap. \n\n\n\n3. The Sunset of the Legends\n\n\n\nAt 38\, Novak Djokovic remains a tactical threat\, but 2026 feels like a definitive “last dance” scenario for the veteran guard. After a gritty quarterfinal run in 2025\, fans are eager to see if Djokovic has one more miracle left in his legs to challenge the youth movement. \n\n\n\n\n\n\n\nComplete Provisional Schedule: 2026\n\n\n\nBelow is the full schedule of play across the main show courts and outside courts. \n\n\n\nWeek 1: Qualifying & Early Rounds\n\n\n\nDateDayPhilippe-ChatrierSuzanne-LenglenSimonne-MathieuOutside Courts18 MayMonPractice (10am-7pm)Qualifying (10am)ClosedQualifying (10am)19 MayTuePractice (10am-7pm)Qualifying (10am)ClosedQualifying (10am)20 MayWedPractice (10am-7pm)Qualifying (10am)ClosedQualifying (10am)21 MayThuPractice (10am-7pm)Qualifying (11am)ClosedQualifying (11am)22 MayFriPractice (10am-7pm)Qualifying (11am)ClosedQualifying (11am)23 MaySatYannick Noah’s DayYannick Noah’s DayYannick Noah’s DayYannick Noah’s Day24 MaySun1st Round (12pm)1st Round (11am)1st Round (11am)1st Round (11am)25 MayMon1st Round + Night Match1st Round (11am)1st Round (11am)1st Round (11am)26 MayTue1st Round + Night Match1st Round (11am)1st Round (11am)1st Round / Doubles27 MayWed2nd Round + Night Match2nd Round (11am)2nd Round (11am)2nd Round / Doubles28 MayThu2nd Round + Night Match2nd Round (11am)2nd Round (11am)2nd Round / Mixed29 MayFri3rd Round + Night Match3rd Round (11am)3rd Round (11am)3rd Round / Doubles30 MaySat3rd Round + Night Match3rd Round (11am)3rd Round (11am)3rd Round / Mixed\n\n\n\nWeek 2: Finals & Prestige Matches\n\n\n\nDateDayPhilippe-ChatrierSuzanne-LenglenSimonne-MathieuOutside Courts31 MaySun4th Round + Night Match4th Round (11am)Mixed / DoublesJuniors / Doubles01 JunMon4th Round + Night Match4th Round (11am)Mixed / JuniorsJuniors / Doubles02 JunTue1/4 Finals + Night MatchDoubles 1/4 FinalsLegends TrophyWheelchair / Juniors03 JunWed1/4 Finals + Night MatchMen’s Doubles 1/4Mixed 1/2 FinalsWheelchair / Juniors04 JunThuMixed Final / Women’s 1/2Wheelchair 1/2Men’s Doubles 1/2Juniors 1/4 Finals05 JunFriMen’s Singles 1/2 FinalsWheelchair / LegendsWomen’s Doubles 1/2Juniors 1/2 Finals06 JunSatWomen’s Singles FinalWheelchair FinalLegends TrophyJunior Finals07 JunSunMen’s Singles FinalLegends TrophyClosedEntertainment\n\n\n\n\n\n\n\nTechnical Analysis: Why Roland-Garros is Different\n\n\n\nThe 2026 French Open will be a test of sliding ability and heavy topspin. Unlike the fast hard courts of the Australian Open\, the clay at Roland Garros slows the ball down but causes it to bounce much higher. \n\n\n\nPlayers like Carlos Alcaraz use this to their advantage\, utilizing the “kick” on their serves and the extra time to set up devastating forehands. For the women\, Iga Świątek’s use of extreme topspin often pushes her opponents well behind the baseline\, a tactic that Coco Gauff successfully countered in 2025 by taking the ball earlier and using her superior speed to neutralize the spin. \n\n\n\nDark Horses to Watch\n\n\n\n\nArthur Fils (FRA): The French crowd will be firmly behind the young star\, who cracked the Top 15 in late 2025.\n\n\n\nMirra Andreeva: After reaching the semifinals in 2025 at just 18 years old\, she is no longer a “prodigy” but a legitimate title contender.\n\n\n\nLorenzo Musetti: His flair and one-handed backhand are built for clay\, as evidenced by his deep 2025 run.\n\n\n\n\n\n\n\n\nConclusion\n\n\n\nThe 2026 French Open stands at the intersection of tradition and a bold new future. Whether we witness Alcaraz completing a hat-trick of titles\, Sinner achieving his Grand Slam dream\, or Świątek reclaiming her clay-court kingdom\, the world will be watching. \n\n\n\nParis in the spring is always beautiful\, but when the gates of Roland Garros open on May 18th\, it becomes the most intense theater in sports.
URL:https://tennistourcalendar.com/event/2026-french-open/
LOCATION:Roland Garros Stadium\, 2 Av. Gordon Bennett\, Paris\, 75016\, France
CATEGORIES:Grand Slam
ATTACH;FMTTYPE=image/jpeg:https://tennistourcalendar.com/wp-content/uploads/2026/03/French-Open.jpg
ORGANIZER;CN="F%C3%A9d%C3%A9ration Fran%C3%A7aise de Tennis":MAILTO:accueil@fft.fr
END:VEVENT
END:VCALENDAR