BEGIN:VCALENDAR
VERSION:2.0
PRODID:-//Tennis Tour Calendar - ECPv6.15.20//NONSGML v1.0//EN
CALSCALE:GREGORIAN
METHOD:PUBLISH
X-ORIGINAL-URL:https://tennistourcalendar.com
X-WR-CALDESC:Events for Tennis Tour Calendar
REFRESH-INTERVAL;VALUE=DURATION:PT1H
X-Robots-Tag:noindex
X-PUBLISHED-TTL:PT1H
BEGIN:VTIMEZONE
TZID:Europe/London
BEGIN:DAYLIGHT
TZOFFSETFROM:+0000
TZOFFSETTO:+0100
TZNAME:BST
DTSTART:20250330T010000
END:DAYLIGHT
BEGIN:STANDARD
TZOFFSETFROM:+0100
TZOFFSETTO:+0000
TZNAME:GMT
DTSTART:20251026T010000
END:STANDARD
BEGIN:DAYLIGHT
TZOFFSETFROM:+0000
TZOFFSETTO:+0100
TZNAME:BST
DTSTART:20260329T010000
END:DAYLIGHT
BEGIN:STANDARD
TZOFFSETFROM:+0100
TZOFFSETTO:+0000
TZNAME:GMT
DTSTART:20261025T010000
END:STANDARD
BEGIN:DAYLIGHT
TZOFFSETFROM:+0000
TZOFFSETTO:+0100
TZNAME:BST
DTSTART:20270328T010000
END:DAYLIGHT
BEGIN:STANDARD
TZOFFSETFROM:+0100
TZOFFSETTO:+0000
TZNAME:GMT
DTSTART:20271031T010000
END:STANDARD
END:VTIMEZONE
BEGIN:VEVENT
DTSTART;TZID=Europe/London:20260622T000000
DTEND;TZID=Europe/London:20260712T235959
DTSTAMP:20260423T224238
CREATED:20260316T235651Z
LAST-MODIFIED:20260316T235656Z
UID:3503-1782086400-1783900799@tennistourcalendar.com
SUMMARY:2026 Wimbledon Championships
DESCRIPTION:Updated on April 14\, 2026\n\n\nAs the dew settles on the meticulously manicured lawns of the All England Lawn Tennis and Croquet Club (AELTC)\, the tennis world prepares for its annual pilgrimage to Church Road. The 2026 Wimbledon Championships\, scheduled from Monday\, 29 June to Sunday\, 12 July\, marks the 139th edition of the world’s most prestigious tennis tournament. \n\n\n\nWimbledon remains the only Grand Slam played on traditional grass\, a surface that demands feline-like movement\, lightning-quick reflexes\, and a mental fortitude unlike any other. In 2026\, the stakes are higher than ever as a new generation of icons seeks to cement their legacy on the hallowed turf of Centre Court. \n\n\n\nTable of Contents[Open][Close]Tournament Essentials: Dates and VenueReturning to the Throne: The Defending ChampionsGentlemen’s Singles: Jannik SinnerLadies’ Singles: Iga ŚwiątekPrize Money: A Record-Breaking PurseThe 2026 Provisional ScheduleWeek One: The FoundationWeek Two: The Business EndPlayers to Watch in 2026The Challengers (Men)The Contenders (Women)Traditions: More Than Just TennisThe Technology: Modernizing the ClassicConclusion: A Fortnight of Magic\n\n\n\nTournament Essentials: Dates and Venue\n\n\n\nThe Championships return to their iconic home in Wimbledon\, London. For two weeks\, the leafy suburbs of SW19 will transform into the epicenter of global sport. \n\n\n\n\nMain Draw Dates: 29 June – 12 July 2026\n\n\n\nQualifying Rounds: 22 June – 25 June 2026 (usually held at Bank of England Sports Centre\, Roehampton)\n\n\n\nVenue: All England Lawn Tennis and Croquet Club (AELTC)\n\n\n\nSurface: 100% Perennial Ryegrass\n\n\n\n\n\n\n\n\nReturning to the Throne: The Defending Champions\n\n\n\nGentlemen’s Singles: Jannik Sinner\n\n\n\nIn 2025\, the world witnessed a symbolic passing of the torch. Jannik Sinner became the first Italian in history to lift the Gentlemen’s Singles Trophy\, defeating the then-defending champion Carlos Alcaraz in a pulsating four-set final. Sinner’s 2025 run was a masterclass in controlled aggression; his ability to strike the ball flat and hard on the grass proved to be the antidote to Alcaraz’s variety. \n\n\n\nEntering 2026\, Sinner is no longer the underdog. He arrives as the man with the target on his back\, carrying the clinical composure that has seen him dominate the ATP rankings. The question for 2026 is whether Sinner can join the elite club of players who have successfully defended a Wimbledon title—a feat achieved only by greats like Federer\, Djokovic\, and Sampras in the modern era. \n\n\n\nLadies’ Singles: Iga Świątek\n\n\n\nFor years\, critics questioned whether Iga Świątek’s clay-court dominance could translate to the slick grass of SW19. In 2025\, she silenced every doubter. Świątek captured her first Wimbledon title with a historic performance\, capped by a “double-bagel” 6-0\, 6-0 victory in the final against Amanda Anisimova. \n\n\n\nHer transition to grass was fueled by a tactical shift—shortening her swings and improving her slide on the turf. As she returns in 2026\, Świątek aims to establish a dynasty on grass similar to her reign in Paris. With her technical vulnerabilities on the surface seemingly resolved\, she starts the 2026 Championships as the overwhelming favorite. \n\n\n\n\n\n\n\nPrize Money: A Record-Breaking Purse\n\n\n\nWhile the official 2026 figures are typically announced in the spring\, we can project a significant increase based on the record-breaking £53\,500\,000 total prize pot of 2025. Wimbledon continues to lead the way in player compensation\, focusing particularly on supporting lower-ranked players in the early rounds. \n\n\n\nProjected 2026 Prize Money (Based on 2025 Data): \n\n\n\nRoundSingles (Per Player)Doubles (Per Pair)Winner£3\,000\,000£680\,000Runner-up£1\,520\,000£345\,000Semi-finalists£775\,000£174\,000Quarter-finalists£400\,000£87\,500Fourth Round£240\,000—First Round£66\,000£16\,500\n\n\n\nNote: Mixed Doubles winners in 2025 received £135\,000 per team. \n\n\n\n\n\n\n\nThe 2026 Provisional Schedule\n\n\n\nThe Championships follow a carefully curated 14-day schedule. Below is the complete professional guide for the 2026 tournament. \n\n\n\nWeek One: The Foundation\n\n\n\nDayScheduleMon 29 JuneGentlemen’s and Ladies’ Singles First RoundTue 30 JuneGentlemen’s and Ladies’ Singles First RoundWed 1 JulySingles Second Round; Gentlemen’s Doubles First RoundThu 2 JulySingles Second Round; Gentlemen’s & Ladies’ Doubles First RoundFri 3 JulySingles Third Round; Gentlemen’s Doubles Second Round; Ladies’ Doubles First Round; Mixed Doubles First RoundSat 4 JulySingles Third Round; Doubles Second Round; Mixed Doubles First Round; Boys’ and Girls’ Singles First Round (18&U)Sun 5 JulySingles Fourth Round; Gentlemen’s Doubles Third Round; Ladies’ Doubles Second Round; Mixed Doubles Second Round; Boys’ and Girls’ Singles First Round (18&U)\n\n\n\nWeek Two: The Business End\n\n\n\nDayScheduleMon 6 JulySingles Fourth Round; Doubles Third Round; Mixed Doubles Quarter-finals; Girls’ Singles Second Round (18&U); Boys’ & Girls Doubles First Round (18&U)Tue 7 JulySingles Quarter-finals; Gentlemen’s Doubles Quarter-finals; Ladies’ Doubles Third Round; Mixed Semi-finals; Wheelchair Singles First Round; Junior & Invitation DoublesWed 8 JulySingles Quarter-finals; Doubles Quarter-finals; Quad & Wheelchair Doubles Quarter-finals; Junior & Invitation DoublesThu 9 JulyLadies’ Singles Semi-finals; Gentlemen’s Doubles Semi-finals; Mixed Doubles Final; Wheelchair & Junior Quarter-finals; 14&U SinglesFri 10 JulyGentlemen’s Singles Semi-finals; Ladies’ Doubles Semi-finals; Wheelchair & Junior Semi-finals; 14&U SinglesSat 11 JulyLadies’ Singles Final (Not before 4:00pm); Gentlemen’s Doubles Final; Wheelchair Finals; Junior FinalsSun 12 JulyGentlemen’s Singles Final (Not before 4:00pm); Ladies’ Doubles Final; Wheelchair Finals; Junior Finals; 14&U Finals\n\n\n\n\n\n\n\nPlayers to Watch in 2026\n\n\n\nThe Challengers (Men)\n\n\n\n\nCarlos Alcaraz: After losing his crown in 2025\, the Spaniard will be hungry for revenge. His variety and “explosive” grass-court game make him the biggest threat to Sinner’s defense.\n\n\n\nJack Draper: The British hope. Having broken into the top tier of the ATP\, Draper’s massive lefty serve and improved fitness make him a dark horse on home soil.\n\n\n\nNovak Djokovic: Never count out the seven-time champion. Even as he enters the twilight of his career\, his experience on Centre Court is unmatched.\n\n\n\n\nThe Contenders (Women)\n\n\n\n\nAryna Sabalenka: With her raw power\, Sabalenka is always a threat on grass. If she can manage the pressure of the later rounds\, she has the game to blast anyone off the court.\n\n\n\nCoco Gauff: The American has the athleticism to excel at Wimbledon. Having worked extensively on her serve and forehand\, 2026 could be the year she conquers the grass.\n\n\n\nMirra Andreeva: By 2026\, the young prodigy will be more physically mature. Her tactical intelligence is already far beyond her years.\n\n\n\n\n\n\n\n\nTraditions: More Than Just Tennis\n\n\n\nWimbledon is defined by its adherence to tradition\, which provides the tournament with a unique atmosphere found nowhere else in sport. \n\n\n\n\nThe Dress Code: Players must wear “almost entirely white” clothing. This rule is strictly enforced\, extending even to medical supports and visible undergarments.\n\n\n\nStrawberries and Cream: A staple of the tournament. Over 38 tons of strawberries and 10\,000 liters of cream are consumed annually.\n\n\n\nThe Queue: One of the few major sporting events where fans can buy premium tickets on the day of play. The “Queue” is a social phenomenon in itself\, with fans camping out overnight for a chance to sit on Centre Court.\n\n\n\nNo Advertising: Unlike other Slams\, there is no visible on-court advertising\, preserving the “tennis in a garden” aesthetic that the AELTC is famous for.\n\n\n\n\n\n\n\n\nThe Technology: Modernizing the Classic\n\n\n\nWhile steeped in tradition\, Wimbledon 2026 will utilize cutting-edge technology to ensure the best experience for fans and players. \n\n\n\n\nElectronic Line Calling: 2026 sees the continued use of AI-driven line calling\, ensuring 100% accuracy and removing the need for human line judges\, a shift that has significantly sped up the pace of play.\n\n\n\nRetractable Roofs: Both Centre Court and No.1 Court feature retractable roofs\, ensuring that “Rain Stops Play” is a thing of the past for the marquee matches.\n\n\n\nSustainability: The AELTC has committed to being “Environment Positive” by 2030. Expect to see more reusable packaging and a focus on reducing the carbon footprint of the thousands of international visitors.\n\n\n\n\n\n\n\n\nConclusion: A Fortnight of Magic\n\n\n\nWimbledon 2026 promises to be an unforgettable chapter in tennis history. Whether it’s the clinical brilliance of Sinner\, the dominant grace of Świątek\, or the rise of a new British hero\, the eyes of the world will be on SW19. From the first ball struck on Monday\, 29 June\, to the crowning of the champions on 12 July\, the tournament remains the pinnacle of sporting achievement.
URL:https://tennistourcalendar.com/event/2026-wimbledon-championships/
LOCATION:All England Lawn Tennis and Croquet Club\, Church Rd\, London SW19 5AG\, United Kingdom
CATEGORIES:Grand Slam
ATTACH;FMTTYPE=image/jpeg:https://tennistourcalendar.com/wp-content/uploads/2026/03/Wimbledon-Championships.jpg
END:VEVENT
END:VCALENDAR