BEGIN:VCALENDAR
VERSION:2.0
PRODID:-//Tennis Tour Calendar - ECPv6.15.20//NONSGML v1.0//EN
CALSCALE:GREGORIAN
METHOD:PUBLISH
X-ORIGINAL-URL:https://tennistourcalendar.com
X-WR-CALDESC:Events for Tennis Tour Calendar
REFRESH-INTERVAL;VALUE=DURATION:PT1H
X-Robots-Tag:noindex
X-PUBLISHED-TTL:PT1H
BEGIN:VTIMEZONE
TZID:America/New_York
BEGIN:DAYLIGHT
TZOFFSETFROM:-0500
TZOFFSETTO:-0400
TZNAME:EDT
DTSTART:20250309T070000
END:DAYLIGHT
BEGIN:STANDARD
TZOFFSETFROM:-0400
TZOFFSETTO:-0500
TZNAME:EST
DTSTART:20251102T060000
END:STANDARD
BEGIN:DAYLIGHT
TZOFFSETFROM:-0500
TZOFFSETTO:-0400
TZNAME:EDT
DTSTART:20260308T070000
END:DAYLIGHT
BEGIN:STANDARD
TZOFFSETFROM:-0400
TZOFFSETTO:-0500
TZNAME:EST
DTSTART:20261101T060000
END:STANDARD
BEGIN:DAYLIGHT
TZOFFSETFROM:-0500
TZOFFSETTO:-0400
TZNAME:EDT
DTSTART:20270314T070000
END:DAYLIGHT
BEGIN:STANDARD
TZOFFSETFROM:-0400
TZOFFSETTO:-0500
TZNAME:EST
DTSTART:20271107T060000
END:STANDARD
END:VTIMEZONE
BEGIN:VEVENT
DTSTART;TZID=America/New_York:20260824T000000
DTEND;TZID=America/New_York:20260913T235959
DTSTAMP:20260424T055233
CREATED:20260317T001014Z
LAST-MODIFIED:20260317T001018Z
UID:3510-1787529600-1789343999@tennistourcalendar.com
SUMMARY:2026 US Open
DESCRIPTION:Updated on April 14\, 2026\n\n\nAs the summer heat begins to simmer over the concrete jungle\, the tennis world turns its gaze toward the iconic blue courts of Queens. The 2026 US Open promises to be a monumental chapter in the sport’s history\, marking the 146th edition of this grand spectacle. From the high-octane night sessions at Arthur Ashe Stadium to the electric atmosphere of Fan Week\, the final Grand Slam of the year remains the ultimate test of grit and glamour. \n\n\n\nWhether you’re a die-hard fan or a casual observer of the “Alcaraz-Sinner” era\, here is everything you need to know heading into the 2026 US Open. \n\n\n\nTable of Contents[Open][Close]Tournament Dates and VenueKey Phases:Defending Champions: The Reign of PowerMen’s Singles: Carlos AlcarazWomen’s Singles: Aryna SabalenkaPrize Money: Breaking Records2026 Tournament ScheduleWeek 1: Fan Week & QualifyingWeek 2: Main Draw Early RoundsWeek 3: The Finals PushStorylines to Watch in 20261. The Alcaraz-Sinner Duopoly2. Sabalenka’s Quest for History3. American Renaissance: Anisimova\, Gauff\, and Pegula4. The “Old Guard” UpdateFan Tips and Atmosphere\n\n\n\nTournament Dates and Venue\n\n\n\nThe 2026 US Open will officially take place from Monday\, August 24\, to Sunday\, September 13\, 2026. \n\n\n\nAs per tradition\, the tournament is hosted at the USTA Billie Jean King National Tennis Center in Flushing Meadows–Corona Park\, Queens\, New York. The venue\, a sprawling complex of 22 courts\, features the crown jewel of tennis stadiums: Arthur Ashe Stadium\, the largest tennis-specific arena in the world with its retractable roof and 23\,000-plus capacity. \n\n\n\nKey Phases:\n\n\n\n\nFan Week (Qualifying): August 24 – August 29\n\n\n\nMain Draw Play: August 30 – September 13\n\n\n\n\n\n\n\n\nDefending Champions: The Reign of Power\n\n\n\nThe 2025 edition of the US Open was a masterclass in dominance and rivalry\, setting the stage for what many expect to be a repeat of the same intensity in 2026. \n\n\n\nMen’s Singles: Carlos Alcaraz\n\n\n\nIn 2025\, Carlos Alcaraz reclaimed his throne in New York by defeating his great rival\, Jannik Sinner\, in a final that many described as “video game tennis.” By capturing his second US Open and sixth career Grand Slam title\, Alcaraz proved that while Sinner might hold the top ranking for long stretches\, the Spaniard remains the king of the big stage in Flushing Meadows. His victory in 2025 ended Sinner’s 65-week reign at No. 1 and cemented Alcaraz as the second-youngest player ever to reach six major titles. \n\n\n\nWomen’s Singles: Aryna Sabalenka\n\n\n\nOn the women’s side\, Aryna Sabalenka achieved the rare feat of a successful title defense in 2025. Facing a resurgent Amanda Anisimova in the final\, Sabalenka used her trademark “tiger” intensity to secure a straight-sets victory (6-3\, 7-6). This win marked her fourth Grand Slam title\, tying her with legends like Naomi Osaka. Sabalenka’s consistency on hard courts has made her the woman to beat\, and she enters 2026 with a target on her back as she aims for a historic “three-peat.” \n\n\n\n\n\n\n\nPrize Money: Breaking Records\n\n\n\nWhile the official 2026 purse has yet to be finalized\, expectations are sky-high following the record-breaking 2025 payouts. In 2025\, total player compensation hit a staggering $90 million\, a 20% increase from the previous year. \n\n\n\nProvisional Prize Money (Based on 2025 Data): \n\n\n\nResultSingles (Per Player)Doubles (Per Team)Winner$5\,000\,000$1\,000\,000Runner-Up$2\,500\,000$500\,000Semifinalist$1\,260\,000$250\,000Quarterfinalist$660\,000$125\,000Round of 16$400\,000$75\,0001st Round$110\,000$30\,000\n\n\n\n\nNote: For the first time in 2025\, the winners of the Mixed Doubles Championship also took home a cool $1 million\, a trend expected to continue in 2026. \n\n\n\n\n\n\n\n\n2026 Tournament Schedule\n\n\n\nThe schedule for 2026 follows the successful expanded format\, starting with the high-energy Fan Week and concluding with the Championship Sunday on September 13. \n\n\n\nWeek 1: Fan Week & Qualifying\n\n\n\nDateSessionGatesPlay StartsEventAug 24 (Mon)Q110:00 AM11:00 AMSingles Qualifying MatchesAug 25 (Tue)Q210:00 AM11:00 AMSingles Qualifying MatchesAug 26 (Wed)Q310:00 AM11:00 AMSingles Qualifying MatchesAug 27 (Thu)Q410:00 AM11:00 AMSingles Qualifying Matches\n\n\n\nWeek 2: Main Draw Early Rounds\n\n\n\nDateSessionGatesPlay StartsEventAug 30 (Sun)1 / 209:30 AM / 06:00 PM11:00 AM / 07:00 PMMen’s & Women’s 1st RoundAug 31 (Mon)3 / 409:30 AM / 06:00 PM11:00 AM / 07:00 PMMen’s & Women’s 1st RoundSep 1 (Tue)5 / 609:30 AM / 06:00 PM11:00 AM / 07:00 PMMen’s & Women’s 1st RoundSep 2 (Wed)7 / 809:30 AM / 06:00 PM11:00 AM / 07:00 PMMen’s & Women’s 2nd RoundSep 3 (Thu)9 / 1009:30 AM / 06:00 PM11:00 AM / 07:00 PMMen’s & Women’s 2nd RoundSep 4 (Fri)11 / 1209:30 AM / 06:00 PM11:00 AM / 07:00 PMMen’s & Women’s 3rd RoundSep 5 (Sat)13 / 1409:30 AM / 06:00 PM11:00 AM / 07:00 PMMen’s & Women’s 3rd Round\n\n\n\nWeek 3: The Finals Push\n\n\n\nDateSessionGatesPlay StartsEventSep 6 (Sun)15 / 1609:30 AM / 06:00 PM11:00 AM / 07:00 PMMen’s & Women’s Round of 16Sep 7 (Mon)17 / 1809:30 AM / 06:00 PM11:00 AM / 07:00 PMMen’s & Women’s Round of 16Sep 8 (Tue)19 / 2009:30 AM / 06:00 PM11:30 AM / 07:00 PMMen’s & Women’s QuarterfinalsSep 9 (Wed)21 / 2209:30 AM / 06:00 PM11:30 AM / 07:00 PMMen’s & Women’s QuarterfinalsSep 10 (Thu)2311:00 AM07:00 PMWomen’s SemifinalsSep 11 (Fri)24 / 2511:00 AM / 06:00 PM03:00 PM / 07:00 PMMen’s SemifinalsSep 12 (Sat)2610:30 AM04:00 PMWomen’s FinalSep 13 (Sun)2710:30 AM02:00 PMMen’s Final\n\n\n\n\n\n\n\nStorylines to Watch in 2026\n\n\n\n1. The Alcaraz-Sinner Duopoly\n\n\n\nAs of March 2026\, the ATP landscape is firmly in the hands of Carlos Alcaraz and Jannik Sinner. After combining to win the last eight Grand Slam singles titles (a streak reminiscent of the Federer-Nadal 2005-2007 era)\, the question is whether anyone can break the “Wall of Iron” they’ve built around the major trophies. Alcaraz leads their lifetime head-to-head 10-5\, but Sinner’s efficiency on fast hard courts makes him a perennial threat. \n\n\n\n2. Sabalenka’s Quest for History\n\n\n\nOnly a handful of women have ever won three consecutive US Open titles. Aryna Sabalenka enters 2026 as the two-time defending champion. With her serve clicking and her mental game more stable than ever\, she is currently the world No. 1 for a reason. Her biggest hurdle? The home crowd favorites. \n\n\n\n3. American Renaissance: Anisimova\, Gauff\, and Pegula\n\n\n\nAmerican tennis is in its healthiest state in decades. Amanda Anisimova\, after her brilliant run to the 2025 final\, has climbed into the world’s top 6. Meanwhile\, Coco Gauff and Jessica Pegula remain mainstay contenders\, often feeding off the raucous New York crowd. Will 2026 be the year an American man finally ends the drought that has lasted since Andy Roddick in 2003? With Ben Shelton and Taylor Fritz still in their prime\, the hope is alive. \n\n\n\n4. The “Old Guard” Update\n\n\n\n2026 might be the definitive “last dance” season for some legends. Novak Djokovic\, still hovering near the top 10 as of early 2026\, continues to hunt for that elusive 25th Grand Slam. While the physical toll of the tour is visible\, his experience in five-set matches remains the ultimate wildcard. \n\n\n\n\n\n\n\nFan Tips and Atmosphere\n\n\n\nIf you’re planning to attend\, remember that the US Open is as much a cultural event as a sporting one. \n\n\n\n\nHoney Deuce: The signature cocktail of the tournament is expected to reach new sales records this year.\n\n\n\nNight Sessions: There is nothing quite like a 1:00 AM finish in Arthur Ashe. The energy is unpredictable\, loud\, and uniquely New Yorker.\n\n\n\nFan Week: If you can’t snag a ticket for the finals\, Fan Week (Aug 24-29) offers free grounds access\, practice session viewings\, and a chance to see the stars up close without the stadium prices.\n\n\n\n\nAs we look toward August 2026\, the stage is set for a collision of generations. Whether it’s the flashy brilliance of Alcaraz\, the relentless power of Sabalenka\, or a surprise run by a local underdog\, the US Open remains the world’s most electrifying stage for tennis.
URL:https://tennistourcalendar.com/event/2026-us-open/
LOCATION:USTA Billie Jean King National Tennis Center\, Flushing Meadows Corona Park\, Flushing\, NY\, 11368\, United States
CATEGORIES:Grand Slam
ATTACH;FMTTYPE=image/jpeg:https://tennistourcalendar.com/wp-content/uploads/2026/03/2026-US-Open.jpg
END:VEVENT
END:VCALENDAR