BEGIN:VCALENDAR
VERSION:2.0
PRODID:-//Tennis Tour Calendar - ECPv6.15.20//NONSGML v1.0//EN
CALSCALE:GREGORIAN
METHOD:PUBLISH
X-WR-CALNAME:Tennis Tour Calendar
X-ORIGINAL-URL:https://tennistourcalendar.com
X-WR-CALDESC:Events for Tennis Tour Calendar
REFRESH-INTERVAL;VALUE=DURATION:PT1H
X-Robots-Tag:noindex
X-PUBLISHED-TTL:PT1H
BEGIN:VTIMEZONE
TZID:Asia/Seoul
BEGIN:STANDARD
TZOFFSETFROM:+0900
TZOFFSETTO:+0900
TZNAME:KST
DTSTART:20250101T000000
END:STANDARD
END:VTIMEZONE
BEGIN:VEVENT
DTSTART;TZID=Asia/Seoul:20260110T160000
DTEND;TZID=Asia/Seoul:20260110T180000
DTSTAMP:20260422T173457
CREATED:20260103T120947Z
LAST-MODIFIED:20260110T105753Z
UID:2255-1768060800-1768068000@tennistourcalendar.com
SUMMARY:Hyundai Card Super Match 14: Jannik Sinner vs. Carlos Alcaraz
DESCRIPTION:Updated on January 10\, 2026\n\n\nThe Hyundai Card Super Match 14 successfully concluded on January 10\, 2026\, featuring a marquee exhibition between the world’s top two tennis players\, Carlos Alcaraz (Spain) and Jannik Sinner (Italy). Held at the INSPIRE Arena in Incheon\, South Korea\, the event served as a high-profile tune-up for the Australian Open\, drawing a sellout crowd of approximately 12\,000 to 15\,000 fans. \n\n\n\nMatch Result\n\n\n\n\nWinner: Carlos Alcaraz (World No. 1)\n\n\n\nScore: 7-5\, 7-6 (8-6)\n\n\n\nMatch Summary:\n\nAlcaraz defeated Sinner in straight sets in a match that lasted about 1 hour and 47 minutes.\n\n\n\nThe first set saw competitive baseline exchanges\, with Alcaraz securing a late break to win 7-5.\n\n\n\nThe second set was a tighter affair that went to a tiebreak. Sinner saved match points and displayed resilience\, but Alcaraz clinched the victory 8-6 in the tiebreak with a powerful forehand.\n\n\n\nHighlights: The match was praised for its balance of high-quality tennis and entertainment (“fan service”). Both players engaged with the crowd\, flashing “finger hearts” and performing trick shots (tweeners). A memorable moment occurred in the second set when Sinner invited a young boy from the stands onto the court to play a few points against Alcaraz.\n\n\n\n\n\n\nPrize Money & Appearance Fees\n\n\n\nReports indicate that this exhibition involved substantial financial guarantees for both players\, rivaling official Grand Slam payouts. \n\n\n\n\nReported Earnings: Multiple sources suggest that both Alcaraz and Sinner received a guaranteed appearance fee of approximately $2.3 million USD (approx. £1.7 million) each for participating in the event.\n\n\n\nNote: This figure is comparable to the prize money for winning a major tournament title\, highlighting the massive commercial value of this “new era” rivalry.\n\n\n\n\nEvent Details\n\n\n\n\nDate: January 10\, 2026 (Saturday)\n\n\n\nVenue: INSPIRE Arena\, Incheon\, South Korea\n\n\n\nHost: SEMA Sports Marketing\, INC. / Hyundai Card\n\n\n\nAttendance: Sold out (approx. 12\,000–15\,000 spectators)\n\n\n\n\nQuotes\n\n\n\n\nCarlos Alcaraz: Expressed his love for the Korean fans\, stating\, “I think the people were really into the match and they brought great energy… I can’t wait to be back.”\n\n\n\nJannik Sinner: Enjoyed the new experience\, noting\, “It’s nice to see new fans in Korea for sure… hopefully not the last one.”\n\n\n\n\nTicket Prices (Reference)\n\n\n\n\nOn-Court Experience: 3\,500\,000 KRW\n\n\n\nRoyal Box: 1\,730\,000 KRW\n\n\n\nLoge / Courtside: 1\,520\,000 KRW\n\n\n\nPremium A/B: 1\,250\,000 KRW / 1\,080\,000 KRW\n\n\n\nStandard A/B/C: 880\,000 KRW / 660\,000 KRW / 275\,000 KRW
URL:https://tennistourcalendar.com/event/hyundai-card-super-match-14-jannik-sinner-vs-carlos-alcaraz/
LOCATION:INSPIRE Arena\, 공항문화로 127\, Incheon\, Korea\, Republic of
CATEGORIES:Exhibition Tournament
ATTACH;FMTTYPE=image/jpeg:https://tennistourcalendar.com/wp-content/uploads/2026/01/Hyundai-Card-Super-Match-14.jpg
END:VEVENT
END:VCALENDAR