BEGIN:VCALENDAR
VERSION:2.0
PRODID:-//Tennis Tour Calendar - ECPv6.15.20//NONSGML v1.0//EN
CALSCALE:GREGORIAN
METHOD:PUBLISH
X-ORIGINAL-URL:https://tennistourcalendar.com
X-WR-CALDESC:Events for Tennis Tour Calendar
REFRESH-INTERVAL;VALUE=DURATION:PT1H
X-Robots-Tag:noindex
X-PUBLISHED-TTL:PT1H
BEGIN:VTIMEZONE
TZID:Europe/Paris
BEGIN:DAYLIGHT
TZOFFSETFROM:+0100
TZOFFSETTO:+0200
TZNAME:CEST
DTSTART:20240331T010000
END:DAYLIGHT
BEGIN:STANDARD
TZOFFSETFROM:+0200
TZOFFSETTO:+0100
TZNAME:CET
DTSTART:20241027T010000
END:STANDARD
BEGIN:DAYLIGHT
TZOFFSETFROM:+0100
TZOFFSETTO:+0200
TZNAME:CEST
DTSTART:20250330T010000
END:DAYLIGHT
BEGIN:STANDARD
TZOFFSETFROM:+0200
TZOFFSETTO:+0100
TZNAME:CET
DTSTART:20251026T010000
END:STANDARD
BEGIN:DAYLIGHT
TZOFFSETFROM:+0100
TZOFFSETTO:+0200
TZNAME:CEST
DTSTART:20260329T010000
END:DAYLIGHT
BEGIN:STANDARD
TZOFFSETFROM:+0200
TZOFFSETTO:+0100
TZNAME:CET
DTSTART:20261025T010000
END:STANDARD
END:VTIMEZONE
BEGIN:VEVENT
DTSTART;VALUE=DATE:20250922
DTEND;VALUE=DATE:20250929
DTSTAMP:20260421T235118
CREATED:20250923T075914Z
LAST-MODIFIED:20250928T160744Z
UID:776-1758499200-1759103999@tennistourcalendar.com
SUMMARY:2025 Lisboa Belém Open
DESCRIPTION:The 2025 Lisboa Belém Open was a professional tennis tournament played on outdoor clay courts. It was the ninth edition of the men’s event and the fifth edition of the women’s event\, and was part of the 2025 ATP Challenger Tour and the 2025 ITF Women’s World Tennis Tour. The tournament took place in Lisbon\, Portugal\, from September 22 to September 28\, 2025. \nTournament Details\n\n\n\nDate\n22–28 September\n\n\nEdition\n9th (men)\n\n\n5th (women)\n\n\nDraw\n32MS / 32WS / 16MD / 16WD\n\n\nCategory\nATP Challenger 100 (men)\n\n\nITF W100 (women)\n\n\nPrize Money\n€145\,250 (men)\n\n\n$100\,000 (women)\n\n\nSurface\nClay\n\n\nLocation\nLisbon\, Portugal\n\n\nVenue\nClub Internacional de Foot-Ball\n\n\n\nTournament Links\n\n\n\nATP Tournament Profile\n\n\nResults\nDraws\nSchedule\n\n\n\nChampions\n\n\n\nEvent\nChampion(s)\nRunner(s)-up\n\n\nMen’s Singles\n🇱🇹 Vilius Gaubas\n🇵🇹 Henrique Rocha\n\n\n6–7(3–7)\, 6–3\, 6–4\n\n\nWomen’s Singles\n🇨🇭 Simona Waltert\n🇱🇻 Darja Semeņistaja\n\n\n6–2\, 6–1\n\n\nMen’s Doubles\n🇪🇸 Pablo Llamas Ruiz\n🇪🇸 Sergio Martos Gornés\n🇷🇴 Alexandru Jecan\n🇷🇴 Bogdan Pavel\n\n\n7–6(7–5)\, 6–4\n\n\nWomen’s Doubles\n🇵🇹 Matilde Jorge\n🇨🇭 Naïma Karamoko\n🇸🇮 Dalila Jakupović\n🇸🇮 Nika Radišić\n\n\n6–2\, 6–3\n\n\n\nPrize Money and Ranking Points\nThe total prize money for men’s tournament is €145\,250. \nMen’s Singles\n\n\n\nStage\nPrize Money (EUR)\nRanking Points\n\n\nWinner\n€20\,630\n100\n\n\nFinalist\n€12\,110\n50\n\n\nSemifinalists\n€7\,225\n25\n\n\nQuarterfinalists\n€4\,195\n14\n\n\nRound of 16\n€2\,450\n7\n\n\nRound of 32\n€1\,515\n0\n\n\n\nMen’s Doubles (per pair)\n\n\n\nStage\nPrize Money (EUR)\nRanking Points\n\n\nWinner\n€7\,220\n100\n\n\nFinalist\n€4\,180\n60\n\n\nSemifinalists\n€2\,520\n36\n\n\nQuarterfinalists\n€1\,470\n20\n\n\nRound of 16\n€840\n0\n\n\n\nTournament Venue\nThe Lisboa Belém Open is held annually at the Club Internacional de Foot-Ball (CIF)\, a multi-sport club located in the Belém parish of Lisbon. The CIF’s tennis facilities are well-regarded and provide an ideal setting for the tournament. The main court\, Estádio Pinto Basto\, is the central hub for the most significant matches\, and the venue features multiple red clay courts that are essential for the competition. The location in Belém\, a historic district of Lisbon\, adds a unique and scenic backdrop to the event\, with its proximity to iconic landmarks like the Belém Tower and Jerónimos Monastery. \nThe CIF has a long history\, founded in 1902\, and has a strong tradition in Portuguese sports. The club’s tennis section has been a prominent part of its identity\, making it a natural fit to host a prestigious international tournament. The venue’s facilities\, including the outdoor clay courts\, are specifically suited to the type of play characteristic of the ATP Challenger and ITF tours\, providing a challenging and fair surface for competitors. The atmosphere is often intimate\, allowing fans to get up close to the action and witness rising stars and established players in a competitive environment. The tournament’s organization\, with the support of the Portuguese Tennis Federation and the city of Lisbon\, ensures a high-quality event for players and spectators alike. \nHistory of the Tournament\nThe Lisboa Belém Open has steadily grown in stature since its inception\, evolving into a significant stop on both the men’s and women’s professional tennis circuits. The men’s tournament was first established in 2017\, and has been a consistent part of the ATP Challenger Tour\, providing a platform for players to earn valuable ranking points and prize money. Over the years\, the event has attracted a diverse field of players\, from promising young talents to seasoned veterans. The women’s tournament was introduced later\, in 2021\, and has since been an integral part of the ITF Women’s World Tennis Tour\, offering female players a similar opportunity to compete at a high level. \nPast champions have included a mix of international and Portuguese players\, such as the 2024 men’s singles title winner Alexander Ritschard and the women’s singles champion Victoria Jiménez Kasintseva. The event has also seen notable doubles champions\, such as the 2024 men’s pairing of Romain Arneodo and Théo Arribagé\, and the women’s team of Francisca Jorge and Matilde Jorge. The tournament’s history is a testament to its success in providing a competitive and well-organized event that contributes to the growth of tennis in Portugal and on the international stage.
URL:https://tennistourcalendar.com/event/2025-lisboa-belem-open/
LOCATION:Club Internacional de Foot-Ball\, Estádio Pinto Basto\, Av. Bombeiros\, Lisboa\, 1400-036\, Portugal
CATEGORIES:ATP Challenger Tour,ITF Women's World Tennis Tour
ATTACH;FMTTYPE=image/jpeg:https://tennistourcalendar.com/wp-content/uploads/2025/09/Lisboa-Belem-Open-Tennis.jpg
END:VEVENT
END:VCALENDAR