BEGIN:VCALENDAR
VERSION:2.0
PRODID:-//Tennis Tour Calendar - ECPv6.15.20//NONSGML v1.0//EN
CALSCALE:GREGORIAN
METHOD:PUBLISH
X-ORIGINAL-URL:https://tennistourcalendar.com
X-WR-CALDESC:Events for Tennis Tour Calendar
REFRESH-INTERVAL;VALUE=DURATION:PT1H
X-Robots-Tag:noindex
X-PUBLISHED-TTL:PT1H
BEGIN:VTIMEZONE
TZID:Europe/Berlin
BEGIN:DAYLIGHT
TZOFFSETFROM:+0100
TZOFFSETTO:+0200
TZNAME:CEST
DTSTART:20250330T010000
END:DAYLIGHT
BEGIN:STANDARD
TZOFFSETFROM:+0200
TZOFFSETTO:+0100
TZNAME:CET
DTSTART:20251026T010000
END:STANDARD
BEGIN:DAYLIGHT
TZOFFSETFROM:+0100
TZOFFSETTO:+0200
TZNAME:CEST
DTSTART:20260329T010000
END:DAYLIGHT
BEGIN:STANDARD
TZOFFSETFROM:+0200
TZOFFSETTO:+0100
TZNAME:CET
DTSTART:20261025T010000
END:STANDARD
BEGIN:DAYLIGHT
TZOFFSETFROM:+0100
TZOFFSETTO:+0200
TZNAME:CEST
DTSTART:20270328T010000
END:DAYLIGHT
BEGIN:STANDARD
TZOFFSETFROM:+0200
TZOFFSETTO:+0100
TZNAME:CET
DTSTART:20271031T010000
END:STANDARD
END:VTIMEZONE
BEGIN:VTIMEZONE
TZID:Europe/Paris
BEGIN:DAYLIGHT
TZOFFSETFROM:+0100
TZOFFSETTO:+0200
TZNAME:CEST
DTSTART:20250330T010000
END:DAYLIGHT
BEGIN:STANDARD
TZOFFSETFROM:+0200
TZOFFSETTO:+0100
TZNAME:CET
DTSTART:20251026T010000
END:STANDARD
BEGIN:DAYLIGHT
TZOFFSETFROM:+0100
TZOFFSETTO:+0200
TZNAME:CEST
DTSTART:20260329T010000
END:DAYLIGHT
BEGIN:STANDARD
TZOFFSETFROM:+0200
TZOFFSETTO:+0100
TZNAME:CET
DTSTART:20261025T010000
END:STANDARD
BEGIN:DAYLIGHT
TZOFFSETFROM:+0100
TZOFFSETTO:+0200
TZNAME:CEST
DTSTART:20270328T010000
END:DAYLIGHT
BEGIN:STANDARD
TZOFFSETFROM:+0200
TZOFFSETTO:+0100
TZNAME:CET
DTSTART:20271031T010000
END:STANDARD
END:VTIMEZONE
BEGIN:VEVENT
DTSTART;TZID=Europe/Berlin:20260411T000000
DTEND;TZID=Europe/Berlin:20260419T235959
DTSTAMP:20260423T175319
CREATED:20260414T140720Z
LAST-MODIFIED:20260414T140724Z
UID:3696-1775865600-1776643199@tennistourcalendar.com
SUMMARY:2026 Porsche Tennis Grand Prix
DESCRIPTION:The Porsche Tennis Grand Prix stands as a crown jewel in the WTA calendar\, seamlessly blending high-octane automotive luxury with elite professional tennis. As we move into the 2026 edition\, the tournament continues its legacy as the oldest women’s indoor tournament in Europe\, held in the heart of Stuttgart\, Germany. \n\n\n\nFrom April 11 to 19\, 2026\, the world’s tennis elite descends upon the Porsche Arena to compete for more than just ranking points and a trophy. They are playing for the most coveted prize in sports: a brand-new Porsche. \n\n\n\n\n\n\n\nTournament Overview: Dates and Venue\n\n\n\nThe 2026 Porsche Tennis Grand Prix is officially categorized as a WTA 500 event\, though it consistently attracts a field comparable to a WTA 1000 or even a Grand Slam. \n\n\n\n\nDates: April 11–19\, 2026\n\n\n\nVenue: Porsche Arena\, Stuttgart\, Germany\n\n\n\nSurface: Indoor Red Clay\n\n\n\n\nThe Porsche Arena is unique in the tennis world. It is renowned for its intimate atmosphere\, where fans are remarkably close to the action. The tournament is famous for its “indoor clay” setup—a surface that requires meticulous preparation to ensure the red clay plays with the same bounce and slide as the outdoor courts of Roland Garros. This makes Stuttgart the premier preparation event for the European clay-court swing. \n\n\n\n\n\n\n\nThe 2026 Schedule: A Week of Elite Action\n\n\n\nThe tournament is structured to provide a crescendo of intensity\, beginning with the grit of the qualifying rounds and ending with the high-stakes final. \n\n\n\nQualifying Rounds (April 11 – 12)\n\n\n\nThe opening weekend focuses on the qualifying draw\, where 16 players battle for four coveted spots in the main draw. This is often where local German talents and rising stars test their mettle against seasoned veterans. \n\n\n\nMain Draw: Early Rounds (April 13 – 16)\n\n\n\nThe 28-player singles main draw begins on Monday. Because the top four seeds typically receive a “bye” into the second round\, the early days feature a dense schedule of high-quality matchups involving the middle-tier seeds and dangerous unseeded players. \n\n\n\nQuarterfinals & Semifinals (April 17 – 18)\n\n\n\nAs the weekend approaches\, the “Porsche Arena” transforms into a pressure cooker. Friday’s quarterfinals often see the world’s Top 10 players clashing. By Saturday\, only four women remain in the hunt for the keys to the Porsche. \n\n\n\nThe Grand Finale (April 19)\n\n\n\nChampionship Sunday features both the Doubles and Singles finals. It is a day of pageantry\, culminating in the traditional drive-on-court ceremony\, where the winner claims her trophy and her new car. \n\n\n\n\n\n\n\nThe Star-Studded Entry List\n\n\n\nThe 2026 field is particularly formidable\, featuring a “who’s who” of modern tennis. The entry list is headlined by a trio of superstars currently dominating the WTA rankings. \n\n\n\nThe Top Seeds\n\n\n\n\nElena Rybakina (KAZ): Ranked No. 2 in the world\, Rybakina’s flat\, powerful groundstrokes and clinical serve make her a threat on any surface\, including the indoor clay of Stuttgart.\n\n\n\nCoco Gauff (USA): The world No. 3 brings her incredible athleticism and defensive coverage to the Porsche Arena\, looking to add a premier clay title to her resume.\n\n\n\nIga Swiatek (POL): A perennial favorite in Stuttgart and the world No. 4. Swiatek’s heavy topspin and sliding movement are perfectly suited for the clay\, and she is always a threat to take home the car.\n\n\n\nElina Svitolina (UKR): Holding the No. 7 spot\, Svitolina’s tactical brilliance and tenacity make her a crowd favorite.\n\n\n\n\nDefending Champion\n\n\n\nJelena Ostapenko (LAT) returns to Stuttgart as the defending champion. Currently ranked No. 23\, Ostapenko is known for her “all-or-nothing” aggressive style. When her high-risk shots are landing\, she is virtually unplayable\, as she proved in her 2025 title run. \n\n\n\nGerman Favorites and Wildcards\n\n\n\nLocal fans have plenty to cheer for with a strong German contingent: \n\n\n\n\nLaura Siegemund: A former champion who knows every inch of the Porsche Arena.\n\n\n\nEva Lys: A rising star representing the next generation of German tennis.\n\n\n\nWildcards: The tournament has granted wildcards to promising local talents like Ella Seidel\, Tamara Korpatsch\, and Noma Noha Akugue\, providing them a platform to compete against the world’s best.\n\n\n\n\n\n\n\n\nPrize Money and Ranking Points\n\n\n\nThe 2026 Porsche Tennis Grand Prix offers a total prize purse of €1\,049\,083. Beyond the financial rewards\, the 500 ranking points awarded to the winner are crucial for the race to the WTA Finals. \n\n\n\nSingles Prize Money & Points Breakdown\n\n\n\nRoundPrize MoneyWTA PointsWinner€ 161\,310500Finalist€ 99\,565325Semifinalists€ 57\,395195Quarterfinalists€ 30\,435108Round of 16€ 15\,69060Round of 32€ 11\,3091\n\n\n\nDoubles Prize Money (Per Team)\n\n\n\nRoundPrize MoneyWTA PointsWinners€ 53\,510500Finalists€ 32\,520325Semifinalists€ 18\,890195Quarterfinalists€ 9\,700108Round of 16€ 5\,9101\n\n\n\n\n\n\n\nThe Ultimate Trophy: The Winner’s Car\n\n\n\nWhile the prize money is significant\, the most discussed prize in the locker room is the Winner’s Car. For 2026\, the champion will drive away in a Porsche 911 Carrera S cabriolet. \n\n\n\n\nColor: Cartagena Yellow Metallic\n\n\n\nSignificance: The tradition of the winner receiving a Porsche dates back to the tournament’s inception in 1978. For many players\, winning the Stuttgart title is a bucket-list item specifically because of the car. It is common to see players “scouting” the car\, which sits prominently on a podium behind the baseline throughout the week.\n\n\n\n\n\n\n\n\nTournament Leadership and Innovation\n\n\n\nThe success of the Porsche Tennis Grand Prix is driven by a leadership team that understands the nuances of the professional tour. \n\n\n\n\nTournament Director: Markus Günthardt\n\n\n\nSporting Director: Anke Huber (a former world No. 4 and two-time Stuttgart champion)\n\n\n\n\nUnder their guidance\, the tournament has been voted by players as their favorite WTA 500 event multiple times. The event is known for its “Aces for Charity” initiative\, where Porsche donates money for every ace served during the tournament to charitable organizations. \n\n\n\n\n\n\n\nImportant Spectator Information\n\n\n\nIf you are attending the 2026 event or following from home\, here are a few key things to keep in mind: \n\n\n\n\nThe Fan Village: Outside the main match court\, the Porsche Arena hosts a massive fan village featuring interactive tennis games\, the latest Porsche models\, and luxury hospitality suites.\n\n\n\nTechnological Integration: The tournament often serves as a testing ground for new broadcasting technologies\, including advanced player-tracking data and immersive 360-degree fan experiences.\n\n\n\nSustainability: In 2026\, the tournament continues its push toward carbon neutrality\, utilizing renewable energy for the arena and offering shuttle services using Porsche’s electric fleet (the Taycan and Macan Electric).\n\n\n\n\n\n\n\n\nThe Road to the Final\n\n\n\nThe 2026 Porsche Tennis Grand Prix is more than just a tennis tournament; it is a celebration of precision\, speed\, and excellence—values shared by both the WTA and Porsche. With a draw featuring heavyweights like Rybakina and Swiatek\, and the unpredictable flair of players like Ostapenko and Mirra Andreeva\, the 2026 edition promises to be a historic chapter in the tournament’s storied legacy. \n\n\n\nAs the players battle on the red clay of the Porsche Arena\, they aren’t just looking for a win; they are looking for the keys to that Cartagena Yellow 911. In Stuttgart\, the winner really does take it all.
URL:https://tennistourcalendar.com/event/2026-porsche-tennis-grand-prix/
LOCATION:Porsche-Arena\, Mercedesstraße 69\, Stuttgart\, 70372\, Germany
CATEGORIES:WTA Tour
ATTACH;FMTTYPE=image/jpeg:https://tennistourcalendar.com/wp-content/uploads/2026/04/Porsche-Tennis-Grand-Prix.jpg
END:VEVENT
BEGIN:VEVENT
DTSTART;TZID=Europe/Paris:20260411T000000
DTEND;TZID=Europe/Paris:20260419T235959
DTSTAMP:20260423T175319
CREATED:20260414T142523Z
LAST-MODIFIED:20260414T142528Z
UID:3703-1775865600-1776643199@tennistourcalendar.com
SUMMARY:2026 Open de Rouen
DESCRIPTION:The European clay-court swing is one of the most grueling and beautiful stretches in the professional tennis calendar. Nestled within this season is a gem of a tournament that has quickly become a player and fan favorite: the Open Capfinances Rouen Métropole. \n\n\n\nAs we look toward the 2026 edition\, the tournament continues to solidify its reputation as a premier WTA 250 event. Combining the tactical depth of clay-court tennis with the controlled conditions of an indoor arena\, Rouen offers a unique spectacle. This comprehensive guide provides everything you need to know about the 2026 tournament\, from the elite entry list to the financial breakdown of the prize pool. \n\n\n\n\n\n\n\nTournament Overview: Dates and Venue\n\n\n\nThe 2026 Open de Rouen is scheduled to take place from April 11 to April 19\, 2026. This timing is strategic\, placing the event right in the heart of the spring clay season\, serving as a vital preparation for the French Open at Roland-Garros. \n\n\n\nThe Venue: Kindarena\n\n\n\nThe tournament is hosted at the Kindarena (Palais des Sports de Rouen). Unlike many traditional clay events held outdoors\, Rouen utilizes an indoor clay surface. \n\n\n\n\nWhy Indoor Clay? Indoor clay eliminates the variables of wind and rain\, allowing for a “pure” clay-court experience. The balls travel slightly faster than they would in heavy humidity\, but the sliding and heavy topspin remains the hallmark of the game.\n\n\n\nCapacity: The Kindarena provides an intimate yet electric atmosphere\, with seating that puts fans right on top of the action.\n\n\n\n\n\n\n\n\nTournament Schedule: Day-by-Day Breakdown\n\n\n\nThe 2026 schedule is designed to build momentum\, starting with the high-stakes qualifying rounds and culminating in a “Super Sunday” of finals. \n\n\n\nDateSession TypeMatch DetailsStart TimeSaturday\, April 11Singles Qualifying12 Matches10:00 AMSunday\, April 12Singles Qualifying6 Matches11:00 AMMonday\, April 131st Round7 Matches1:30 PMTuesday\, April 141st Round10 Matches11:30 AMWednesday\, April 151st Round & Round of 1610 Matches11:30 AMThursday\, April 16Round of 168 Matches11:30 AMFriday\, April 17Quarterfinals6 Matches11:30 AMSaturday\, April 18Semifinals3 Matches1:00 PMSunday\, April 19Finals (Wheelchair\, Double\, Simple)—1:00 PM\n\n\n\n\nPro Tip: The final day is a marathon of championship tennis\, featuring the Wheelchair Tennis final\, the Doubles final\, and the Singles final back-to-back. \n\n\n\n\n\n\n\n\n2026 Prize Money and Points Distribution\n\n\n\nWith a total prize pool of €246\,388\, the Open de Rouen offers significant financial rewards and ranking points that can shift a player’s trajectory for the rest of the season. \n\n\n\nSingles Prize Money\n\n\n\nThe winner of the 2026 singles title will receive a cheque for €37\,390 along with 250 WTA ranking points. \n\n\n\nRoundPrize MoneyWTA PointsWinner€37\,390250Finalist€22\,125163Semifinals€12\,33198Quarterfinals€7\,02554Round of 16€4\,28530Round of 32€3\,0651\n\n\n\nDoubles Prize Money (Per Team)\n\n\n\nDoubles competition remains a cornerstone of the Rouen experience\, with the winning duo splitting €13\,600. \n\n\n\nRoundPrize MoneyWTA PointsWinner€13\,600250Finalist€7\,650163Semifinals€4\,39098Quarterfinals€2\,62054Round of 16€2\,0201\n\n\n\n\n\n\n\nThe 2026 Entry List: Seeds and Star Power\n\n\n\nThe 2026 field is remarkably deep\, featuring a mix of Top 30 stalwarts and dangerous clay-court specialists. \n\n\n\nThe Top 8 Seeds\n\n\n\n\nMarta Kostyuk (UKR) – Rank 27: The Ukrainian star headlines the field. Known for her athleticism and fierce competitive spirit\, Kostyuk enters as the favorite.\n\n\n\nSorana Cirstea (ROU) – Rank 29: A veteran with high-caliber power\, Cirstea is always a threat on the dirt.\n\n\n\nJaqueline Cristian (ROU) – Rank 33: Another Romanian powerhouse who thrives in the tactical environment of clay.\n\n\n\nHailey Baptiste (USA) – Rank 35: Leading the American contingent with a game built on heavy spin and variety.\n\n\n\nAnn Li (USA) – Rank 36\n\n\n\nJanice Tjen (INA) – Rank 41\n\n\n\nElisabetta Cocciaretto (ITA) – Rank 42: The Italian specialist is widely considered a “dark horse” for the title.\n\n\n\nMarketa Vondrousova (CZE) – Rank 45: A former Grand Slam champion whose presence adds immense prestige to the draw.\n\n\n\n\nNotable Wildcards and Entries\n\n\n\nThe tournament has also granted several Wildcards (WC) to ensure local representation and highlight major stars: \n\n\n\n\nSloane Stephens (USA): The former US Open champion is the biggest name among the wildcards\, bringing veteran experience and world-class shot-making to Rouen.\n\n\n\nFiona Ferro (FRA): A French favorite known for her grit on clay.\n\n\n\nDiane Parry (FRA): Boasting one of the most beautiful one-handed backhands on the tour.\n\n\n\nElsa Jacquemot (FRA): Another rising local star looking to make a deep run on home soil.\n\n\n\n\n\n\n\n\nWithdrawals and Lucky Losers\n\n\n\nTennis is a game of attrition\, and the 2026 edition has seen some significant changes to the initial roster: \n\n\n\n\nAnastasia Potapova: Withdrew due to a “change of schedule\,” opting to adjust her clay season preparations.\n\n\n\nMarketa Vondrousova: Despite being the 8th seed\, Vondrousova was forced to withdraw due to a shoulder injury. This is a significant blow to the draw\, as the Czech star was a major title contender.\n\n\n\nLucky Losers/Alternates: Following these withdrawals\, D. Salkova and M. Timofeeva have entered the main draw as alternates/lucky losers\, providing them with a massive opportunity to earn points and prize money.\n\n\n\n\n\n\n\n\nDoubles Draw: Teams to Watch\n\n\n\nThe doubles competition is led by top-tier specialists. The seeded teams for 2026 are: \n\n\n\n\nI. Khromacheva / G. Olmos (Combined Rank: 78)\n\n\n\nM. Kozyreva / I. Shymanovich (Combined Rank: 118)\n\n\n\nN. Kichenok / M. Ninomiya (Combined Rank: 126)\n\n\n\nJ. Maleckova / M. Skoch (Combined Rank: 136)\n\n\n\n\nThe pairing of Khromacheva and Olmos is particularly formidable\, with Olmos bringing high-level experience from the doubles finals of various major tournaments. \n\n\n\n\n\n\n\nImportant Tournament Information\n\n\n\nSupervision\n\n\n\nThe tournament is overseen by WTA Supervisor Martina Lutkova. Her role is to ensure all WTA regulations are followed\, manage the schedule under fluctuating match times\, and handle any on-court disputes. \n\n\n\nTicketing Policy\n\n\n\nFor those attending live\, it is important to note the tournament’s stance on programming: \n\n\n\n\nThe daily schedule is provided as an indication only.\n\n\n\nMatch times and court assignments may change due to player injuries or matches running long.\n\n\n\nNote: Changes to the schedule do not entitle ticket holders to an exchange or a refund. Fans are encouraged to check the official website after 7:00 PM each evening for the definitive schedule of the following day.\n\n\n\n\nInclusion: Wheelchair Tennis\n\n\n\nThe Open de Rouen is proud to feature a Wheelchair Tennis component. The final is held on the main court on Sunday\, April 19\, highlighting the tournament’s commitment to showcasing all disciplines of the sport at the highest level. \n\n\n\n\n\n\n\nFinal Thoughts\n\n\n\nThe 2026 Open Capfinances Rouen Métropole is more than just a tennis tournament; it is a showcase of the depth of the WTA tour. From the high-energy baseline rallies of Marta Kostyuk to the craftiness of Sloane Stephens\, the indoor clay of the Kindarena is the perfect stage for world-class drama. \n\n\n\nWhether you are following the scores from across the globe or sitting courtside in Rouen\, this tournament remains a vital chapter in the story of the 2026 tennis season. Keep an eye on the “Lucky Losers”—in a draw this open\, an alternate could very well be the one holding the trophy at the end of the week.
URL:https://tennistourcalendar.com/event/2026-open-de-rouen/
LOCATION:Kindarena Rouen Métropole\, 40 Rue de Lillebonne\, Rouen\, 76000\, France
CATEGORIES:WTA Tour
ATTACH;FMTTYPE=image/jpeg:https://tennistourcalendar.com/wp-content/uploads/2026/04/Open-de-Rouen.jpg
END:VEVENT
END:VCALENDAR