BEGIN:VCALENDAR
VERSION:2.0
PRODID:-//Tennis Tour Calendar - ECPv6.15.20//NONSGML v1.0//EN
CALSCALE:GREGORIAN
METHOD:PUBLISH
X-WR-CALNAME:Tennis Tour Calendar
X-ORIGINAL-URL:https://tennistourcalendar.com
X-WR-CALDESC:Events for Tennis Tour Calendar
REFRESH-INTERVAL;VALUE=DURATION:PT1H
X-Robots-Tag:noindex
X-PUBLISHED-TTL:PT1H
BEGIN:VTIMEZONE
TZID:Australia/Melbourne
BEGIN:STANDARD
TZOFFSETFROM:+1100
TZOFFSETTO:+1000
TZNAME:AEST
DTSTART:20260404T160000
END:STANDARD
BEGIN:DAYLIGHT
TZOFFSETFROM:+1000
TZOFFSETTO:+1100
TZNAME:AEDT
DTSTART:20261003T160000
END:DAYLIGHT
BEGIN:STANDARD
TZOFFSETFROM:+1100
TZOFFSETTO:+1000
TZNAME:AEST
DTSTART:20270403T160000
END:STANDARD
BEGIN:DAYLIGHT
TZOFFSETFROM:+1000
TZOFFSETTO:+1100
TZNAME:AEDT
DTSTART:20271002T160000
END:DAYLIGHT
BEGIN:STANDARD
TZOFFSETFROM:+1100
TZOFFSETTO:+1000
TZNAME:AEST
DTSTART:20280401T160000
END:STANDARD
BEGIN:DAYLIGHT
TZOFFSETFROM:+1000
TZOFFSETTO:+1100
TZNAME:AEDT
DTSTART:20280930T160000
END:DAYLIGHT
END:VTIMEZONE
BEGIN:VEVENT
DTSTART;TZID=Australia/Melbourne:20270111T000000
DTEND;TZID=Australia/Melbourne:20270131T235959
DTSTAMP:20260424T055440
CREATED:20260316T231759Z
LAST-MODIFIED:20260316T231803Z
UID:3493-1799625600-1801439999@tennistourcalendar.com
SUMMARY:2027 Australian Open
DESCRIPTION:Updated on February 12\, 2026\n\n\nAs the tennis world turns its eyes toward the Southern Hemisphere\, anticipation for the 2027 Australian Open has reached a fever pitch. Known affectionately as the “Happy Slam” for its electric atmosphere\, sun-drenched courts\, and world-class hospitality\, the tournament is set to host the world’s elite once again at the iconic Melbourne Park. With historic milestones achieved in the previous edition and a record-breaking prize pool on the horizon\, the 2027 event promises to be a landmark chapter in tennis history. \n\n\n\nTable of Contents[Open][Close]Tournament Dates and VenueThe Defending ChampionsMen’s Singles: Carlos AlcarazWomen’s Singles: Elena RybakinaOther 2026 Champions to Watch:Expected Prize Money2027 Provisional Tournament ScheduleOpening Week (Qualifying & Practice)Week 1: The Main Draw BeginsWeek 2: The Business EndSpecialized Events ScheduleTop Contenders and StorylinesThe Men’s Field: A Three-Way Tussle?The Women’s Field: Rivalries RenewedStorylines to Watch:Conclusion\n\n\n\nTournament Dates and Venue\n\n\n\nThe 2027 Australian Open will span three action-packed weeks\, officially beginning with the Opening Week on Monday\, January 11\, 2027\, and concluding with the Men’s Singles Final on Sunday\, January 31\, 2027. \n\n\n\nWhile the high-stakes qualifying rounds ignite the precinct during the first week\, the Main Draw is scheduled to commence on Sunday\, January 17\, 2027. This Sunday start\, now a staple of the tournament\, ensures three full days for the opening round\, allowing fans to catch more stars across the show courts earlier in the event. \n\n\n\nVenue: All matches will take place at Melbourne Park\, Victoria\, Australia. The complex\, featuring the retractable-roof marvels of Rod Laver Arena\, Margaret Court Arena\, and John Cain Arena\, ensures that play continues regardless of Melbourne’s unpredictable weather—from extreme heat to sudden summer showers. \n\n\n\n\n\n\n\nThe Defending Champions\n\n\n\nThe 2026 tournament was a year of “firsts” and “career-defining moments\,” setting a high bar for the 2027 title defense. \n\n\n\nMen’s Singles: Carlos Alcaraz\n\n\n\nIn 2026\, Carlos Alcaraz etched his name into the history books by defeating ten-time champion Novak Djokovic in a four-set final (2–6\, 6–2\, 6–3\, 7–5). At just 22 years old\, Alcaraz became the youngest man in history to complete a career Grand Slam in singles. His victory was particularly significant as it ended Djokovic’s unbeaten 10–0 record in Australian Open finals. Heading into 2027\, Alcaraz will be the man to beat as he looks to consolidate his status as the new king of Melbourne Park. \n\n\n\nWomen’s Singles: Elena Rybakina\n\n\n\nOn the women’s side\, Elena Rybakina claimed her first Australian Open crown (and second major overall) after a grueling three-set battle against top seed Aryna Sabalenka (6–4\, 4–6\, 6–4). Rybakina’s path to the title was legendary; she became only the second woman in the Open Era to defeat both the world No. 1 and No. 2 players en route to the Daphne Akhurst Memorial Cup. Known for her icy composure and thunderous serve\, Rybakina returns in 2027 to defend a title she fought so hard to earn. \n\n\n\nOther 2026 Champions to Watch:\n\n\n\n\nMen’s Doubles: Christian Harrison and Neal Skupski.\n\n\n\nWomen’s Doubles: Zhang Shuai and Elise Mertens.\n\n\n\nMixed Doubles: Local favorites Olivia Gadecki and John Peers.\n\n\n\nWheelchair Singles: Tokito Oda (Men’s) and Li Xiaohui (Women’s).\n\n\n\n\n\n\n\n\nExpected Prize Money\n\n\n\nWhile official 2027 figures are often finalized closer to the event\, the tournament is expected to at least match the record-breaking AUD $111\,500\,000 prize pool from 2026. Tennis Australia has shown a consistent commitment to increasing player compensation\, with the 2026 pool representing a 15.5% increase over the previous year. \n\n\n\nBased on 2026 data\, players can expect the following minimum payouts: \n\n\n\n\nSingles Winners: AUD $4\,150\,000.\n\n\n\nRunners-up: AUD $2\,150\,000.\n\n\n\nSemifinalists: AUD $1\,250\,000.\n\n\n\nFirst Round Main Draw: AUD $150\,000.\n\n\n\nFirst Round Qualifying: AUD $40\,500.\n\n\n\n\n\n\n\n\n2027 Provisional Tournament Schedule\n\n\n\nThe following professional schedule is projected based on the established patterns of the Australian Open. \n\n\n\nOpening Week (Qualifying & Practice)\n\n\n\n\nJan 11 – Jan 14: Men’s and Women’s Singles Qualifying rounds. Fans can enjoy high-intensity tennis as 128 players per draw battle for just 16 qualifying spots each.\n\n\n\n\nWeek 1: The Main Draw Begins\n\n\n\n\nSun\, Jan 17 – Tue\, Jan 19: Round 1 (Men’s and Women’s Singles).\n\n\n\nWed\, Jan 20 – Thu\, Jan 21: Round 2 (Men’s and Women’s Singles; Doubles begin).\n\n\n\nFri\, Jan 22 – Sat\, Jan 23: Round 3 (Men’s and Women’s Singles; Mixed Doubles begin).\n\n\n\nSun\, Jan 24: Round 4 (Men’s and Women’s Singles).\n\n\n\n\nWeek 2: The Business End\n\n\n\n\nMon\, Jan 25: Round 4 concludes.\n\n\n\nTue\, Jan 26 – Wed\, Jan 27: Quarterfinals (Men’s and Women’s Singles).\n\n\n\nThu\, Jan 28: Women’s Singles Semifinals; Men’s Doubles Semifinals.\n\n\n\nFri\, Jan 29: Men’s Singles Semifinals; Women’s Doubles Semifinals.\n\n\n\nSat\, Jan 30: Women’s Singles Final; Men’s Doubles Final.\n\n\n\nSun\, Jan 31: Men’s Singles Final; Women’s Doubles Final.\n\n\n\n\nSpecialized Events Schedule\n\n\n\n\nJunior Championships: Typically begin during the middle weekend and conclude on the final Friday/Saturday.\n\n\n\nWheelchair Championships: Usually scheduled across the final five days of the tournament.\n\n\n\n\n\n\n\n\nTop Contenders and Storylines\n\n\n\nThe Men’s Field: A Three-Way Tussle?\n\n\n\nWhile Carlos Alcaraz enters as the favorite\, the competition is fierce. Jannik Sinner\, a two-time champion (2024\, 2025)\, remains a dominant force on the Melbourne hard courts. Experts suggest the pace and height of the bounce in Melbourne perfectly suit Sinner’s aggressive baseline game. Meanwhile\, Novak Djokovic\, despite his 2026 final loss\, remains a massive threat as he chases an unprecedented 11th title in what could be one of his final appearances at the event. \n\n\n\nThe Women’s Field: Rivalries Renewed\n\n\n\nThe rivalry between Elena Rybakina and Aryna Sabalenka has become the centerpiece of the women’s tour. Sabalenka\, who reached four consecutive Australian Open finals between 2023 and 2026\, will be hungry to reclaim the top spot. Additionally\, world No. 1 Iga Świątek will be targeting a career Grand Slam in Melbourne\, a feat she has yet to achieve despite her dominance on other surfaces. Rising stars like Coco Gauff and Mirra Andreeva are also expected to make deep runs as they continue their ascent in the rankings. \n\n\n\nStorylines to Watch:\n\n\n\n\nThe Return of Legends: Will Rafael Nadal make a “last dance” appearance in 2027? Fans are hopeful for one final shot at glory for the Spanish icon.\n\n\n\nHome Favorites: After the 2026 success of Olivia Gadecki and John Peers\, Australian fans will be looking to Alex de Minaur to lead the charge in the singles draw.\n\n\n\nRecord Attendance: With the 2026 event drawing over 1.2 million fans\, the 2027 tournament is expected to push even further as the premier global sporting event in January.\n\n\n\n\n\n\n\n\nConclusion\n\n\n\nThe 2027 Australian Open is more than just a tennis tournament; it is a celebration of sport\, culture\, and high-stakes drama. From the first ball of the Opening Week to the crowning of champions on Rod Laver Arena\, the event offers something for every fan. Whether you are coming for the world-class matches\, the vibrant food and entertainment precinct\, or the chance to witness history being made\, Melbourne Park is the only place to be this January. Mark your calendars for January 11 – 31 and prepare for another unforgettable summer of tennis.
URL:https://tennistourcalendar.com/event/2027-australian-open/
LOCATION:Melbourne Park\, Melbourne & Olympic Parks\, Olympic Blvd\, Melbourne\, Victoria\, 3001\, Australia
CATEGORIES:Grand Slam
ATTACH;FMTTYPE=image/jpeg:https://tennistourcalendar.com/wp-content/uploads/2026/03/2027-Australian-Open.jpg
END:VEVENT
END:VCALENDAR