BEGIN:VCALENDAR
VERSION:2.0
PRODID:-//Tennis Tour Calendar - ECPv6.15.20//NONSGML v1.0//EN
CALSCALE:GREGORIAN
METHOD:PUBLISH
X-WR-CALNAME:Tennis Tour Calendar
X-ORIGINAL-URL:https://tennistourcalendar.com
X-WR-CALDESC:Events for Tennis Tour Calendar
REFRESH-INTERVAL;VALUE=DURATION:PT1H
X-Robots-Tag:noindex
X-PUBLISHED-TTL:PT1H
BEGIN:VTIMEZONE
TZID:America/Halifax
BEGIN:DAYLIGHT
TZOFFSETFROM:-0400
TZOFFSETTO:-0300
TZNAME:ADT
DTSTART:20240310T060000
END:DAYLIGHT
BEGIN:STANDARD
TZOFFSETFROM:-0300
TZOFFSETTO:-0400
TZNAME:AST
DTSTART:20241103T050000
END:STANDARD
BEGIN:DAYLIGHT
TZOFFSETFROM:-0400
TZOFFSETTO:-0300
TZNAME:ADT
DTSTART:20250309T060000
END:DAYLIGHT
BEGIN:STANDARD
TZOFFSETFROM:-0300
TZOFFSETTO:-0400
TZNAME:AST
DTSTART:20251102T050000
END:STANDARD
BEGIN:DAYLIGHT
TZOFFSETFROM:-0400
TZOFFSETTO:-0300
TZNAME:ADT
DTSTART:20260308T060000
END:DAYLIGHT
BEGIN:STANDARD
TZOFFSETFROM:-0300
TZOFFSETTO:-0400
TZNAME:AST
DTSTART:20261101T050000
END:STANDARD
END:VTIMEZONE
BEGIN:VTIMEZONE
TZID:Europe/Helsinki
BEGIN:DAYLIGHT
TZOFFSETFROM:+0200
TZOFFSETTO:+0300
TZNAME:EEST
DTSTART:20240331T010000
END:DAYLIGHT
BEGIN:STANDARD
TZOFFSETFROM:+0300
TZOFFSETTO:+0200
TZNAME:EET
DTSTART:20241027T010000
END:STANDARD
BEGIN:DAYLIGHT
TZOFFSETFROM:+0200
TZOFFSETTO:+0300
TZNAME:EEST
DTSTART:20250330T010000
END:DAYLIGHT
BEGIN:STANDARD
TZOFFSETFROM:+0300
TZOFFSETTO:+0200
TZNAME:EET
DTSTART:20251026T010000
END:STANDARD
BEGIN:DAYLIGHT
TZOFFSETFROM:+0200
TZOFFSETTO:+0300
TZNAME:EEST
DTSTART:20260329T010000
END:DAYLIGHT
BEGIN:STANDARD
TZOFFSETFROM:+0300
TZOFFSETTO:+0200
TZNAME:EET
DTSTART:20261025T010000
END:STANDARD
END:VTIMEZONE
BEGIN:VTIMEZONE
TZID:Asia/Shanghai
BEGIN:STANDARD
TZOFFSETFROM:+0800
TZOFFSETTO:+0800
TZNAME:CST
DTSTART:20240101T000000
END:STANDARD
END:VTIMEZONE
BEGIN:VEVENT
DTSTART;VALUE=DATE:20250817
DTEND;VALUE=DATE:20250824
DTSTAMP:20260424T200227
CREATED:20250804T011132Z
LAST-MODIFIED:20250829T081338Z
UID:61-1755388800-1755993599@tennistourcalendar.com
SUMMARY:2025 Winston-Salem Open
DESCRIPTION:The 2025 Winston-Salem Open was a men’s tennis tournament played on outdoor hard courts. It was the 56th edition of the tournament\, and the 15th as part of the ATP Tour since its move to Winston-Salem. It was a part of the ATP Tour 250 series on the 2025 ATP Tour. The tournament took place at the Wake Forest University in Winston-Salem\, North Carolina\, United States\, from August 17 to August 23\, 2025. It was the final men’s tournament before the US Open.1“Winston-Salem Overview”. atptour.com. Retrieved 17 August 2025. \n\nTournament Details\n\n\n\nDate\n17–23 August\n\n\nEdition\n56th\n\n\nDraw\n48 Singles / 16 Doubles\n\n\nCategory\nATP 250\n\n\nPrize Money\n$798\,335\n\n\nSurface\nHard\n\n\nLocation\nWinston-Salem\, United States\n\n\nVenue\nWake Forest University\n\n\n\nLinks\n\n\n\nOfficial ATP Tournament Profile\n\n\nResults\nDraws\nSchedule\n\n\n\nChampions\n\n\n\nSingles\n🇭🇺 Márton Fucsovics\n\n\nDoubles\n🇧🇷 Rafael Matos\n🇧🇷 Marcelo Melo\n\n\n\nVenue\nThe Winston-Salem Open is held at the Wake Forest Tennis Complex on the campus of Wake Forest University. This state-of-the-art facility was specifically built in 2011 to serve as the tournament’s home and the practice courts for the university’s men’s and women’s tennis teams. The complex features 13 outdoor hard courts\, including a main stadium court. The courts are surfaced with Laykold\, the same material used at the US Open\, providing a consistent and familiar playing surface for the professional athletes. Located adjacent to Allegacy Federal Credit Union Stadium\, the tennis center offers a world-class venue for both players and fans\, featuring modern amenities and spectator seating designed to enhance the viewing experience. \nSingles Main Draw Entrants\nThe main draw consisted of 48 players\, with four players advancing from the qualifying rounds. The top 16 seeds received a bye in the first round. \nSeeds\nThe following players were seeded based on their ATP rankings as of August 4\, 2025. \n\n\n\n\n\n\n\nCountry\nPlayer\nRank\nSeed\n\n\n\n\nGRE\nStefanos Tsitsipas\n29\n1\n\n\nNED\nTallon Griekspoor\n32\n2\n\n\nITA\nLuciano Darderi\n34\n3\n\n\nCAN\nGabriel Diallo\n35\n4\n\n\nITA\nLorenzo Sonego\n36\n5\n\n\nITA\nMatteo Arnaldi\n37\n6\n\n\nPOR\nNuno Borges\n38\n7\n\n\nFRA\nAlexandre Müller\n41\n8\n\n\nFRA\nGiovanni Mpetshi Perricard\n42\n9\n\n\nARG\nSebastián Báez\n43\n10\n\n\nUSA\nSebastian Korda\n45\n11\n\n\nESP\nJaume Munar\n48\n12\n\n\nSRB\nMiomir Kecmanović\n49\n13\n\n\nESP\nRoberto Bautista Agut\n53\n14\n\n\nGBR\nJacob Fearnley\n57\n15\n\n\nUSA\nMarcos Giron\n61\n16\n\n\n\n\n\n\n\nOther Entrants\nThe following players received wildcards into the main draw: \n\nStefan Dostanic\nMarcos Giron\nBrandon Holt\nStefanos Tsitsipas\n\nThe following players entered using a protected ranking: \n\nSebastian Ofner\n\nThe following players entered as alternates: \n\nHugo Gaston\nRoman Safiullin\n\nThe following players entered from the qualifying draw: \n\nDarwin Blanch\nNishesh Basavareddy\nValentin Royer\nAleksandar Vukic\n\nDoubles Main Draw Entrants\nThe doubles main draw consisted of 16 teams. \nSeeds\n\n\n\n\n\n\n\nCountry\nPlayer 1\nCountry\nPlayer 2\nRank\nSeed\n\n\n\n\nGBR\nJoe Salisbury\nGBR\nNeal Skupski\n23\n1\n\n\nIND\nYuki Bhambri\nNZL\nMichael Venus\n57\n2\n\n\nPOR\nFrancisco Cabral\nAUT\nLucas Miedler\n67\n3\n\n\nAUS\nMatthew Ebden\nAUS\nJohn Peers\n74\n4\n\n\nUSA\nNathaniel Lammons\nUSA\nJackson Withrow\n82\n5\n\n\nUSA\nAustin Krajicek\nUSA\nMackenzie McDonald\n90\n6\n\n\nMEX\nSantiago González\nFRA\nFabrice Martin\n98\n7\n\n\nMON\nRomain Arneodo\nGBR\nJulian Cash\n102\n8\n\n\n\n\n\n\n\nOther Entrants\nThe following pairs received wildcards into the doubles main draw: \n\nVasil Kirkov / Sebastian Korda\nLuca Pow / Dhakshineswar Suresh\n\nThe following pairs entered as alternates: \n\nRobert Galloway / Sem Verbeek\nAndré Göransson / David Pel\nManuel Guinard / Arthur Rinderknech\nRafael Matos / Marcelo Melo\nFernando Romboli / John-Patrick Smith\n\nWithdrawals\n\nAdam Pavlásek / Jan Zieliński\nIvan Dodig / Jamie Murray\nMarcel Granollers / Horacio Zeballos\n\nSchedule and Events\nThe tournament ran from August 17 to August 23\, with the first round beginning on Sunday\, August 17. The daily order of play on most show courts began at 2:00 p.m. local time (ET). The men’s singles final was scheduled for Saturday\, August 23. \nPrize Money and Ranking Points\n\n\n\n \nMen’s Singles\nMen’s Doubles\n\n\nWinner\n$109\,640 | 250 Points\n$42\,230 | 250 Points\n\n\nFinals\n$62\,895 | 150 Points\n$22\,690 | 150 Points\n\n\nSemi-Finals\n$36\,120 | 90 Points\n$13\,270 | 90 Points\n\n\nQuarter-Finals\n$20\,860 | 45 Points\n$7\,360 | 45 Points\n\n\nRound of 16\n$11\,915 | 20 Points\n$4\,340 | 0 Point\n\n\nRound of 32\n$7\,005 | 10 Points\n–\n\n\nRound of 48\n$4\,260 | 0 Point\n–\n\n\n\nReferences1“Winston-Salem Overview”. atptour.com. Retrieved 17 August 2025.
URL:https://tennistourcalendar.com/event/2025-winston-salem-open/
LOCATION:Wake Forest University\, 1834 Wake Forest Rd\, Winston-Salem\, NC\, 27109\, United States
CATEGORIES:ATP Tour
ATTACH;FMTTYPE=image/jpeg:https://tennistourcalendar.com/wp-content/uploads/2025/08/Winston-Salem.jpg
END:VEVENT
BEGIN:VEVENT
DTSTART;VALUE=DATE:20250807
DTEND;VALUE=DATE:20250819
DTSTAMP:20260424T200227
CREATED:20250804T003810Z
LAST-MODIFIED:20251001T023228Z
UID:43-1754524800-1755561599@tennistourcalendar.com
SUMMARY:2025 Cincinnati Open
DESCRIPTION:The 2025 Cincinnati Open was a professional tennis tournament that took place from August 5 to August 18\, 2025. It was a combined men’s and women’s event played on outdoor hardcourts. The tournament was held at the Lindner Family Tennis Center in Mason\, Ohio\, a suburb of Cincinnati\, United States. \nThe tournament was a significant fixture on both the Association of Tennis Professionals (ATP) Tour and the Women’s Tennis Association (WTA) Tour. The men’s event was part of the ATP Tour Masters 1000 series\, while the women’s event was classified as a WTA 1000 tournament. The 2025 edition marked the 124th men’s tournament and the 97th women’s tournament. \nThe event served as a key tune-up for the US Open\, the final Grand Slam tournament of the year. It featured singles and doubles competitions for both men and women\, attracting top-ranked players from around the world. The total prize money for the men’s tournament was $9\,193\,540\, while the women’s tournament offered a prize fund of $5\,152\,599. \nThe singles draws for both events were increased from 56 to 96 players that year. Qualifying matches were played on Tuesday\, August 5 and Wednesday\, August 6\, and both the men’s and women’s singles finals were held on Monday\, August 18. \nTournament Details\n\n\n\nDate\n7–18 August\n\n\nEdition\n124th (men) / 97th (women)\n\n\nDraw\n96MS/94WS/32MD/32WD\n\n\nCategory\nATP Tour Masters 1000 (men)\n\n\nWTA 1000 (women)\n\n\nTotal Prize Money\n$9\,193\,540 (men)\n\n\n$5\,152\,599 (women)\n\n\nSurface\nHard\n\n\nLocation\nCincinnati\, United States\n\n\nVenue\nLindner Family Tennis Center\n\n\n\nChampions\n\n\n\nMen’s Singles\n🇪🇸 Carlos Alcaraz\n\n\nWomen’s Singles\n🇵🇱 Iga Świątek\n\n\nMen’s Doubles\n🇭🇷 Nikola Mektić\n🇺🇲 Rajeev Ram\n\n\nWomen’s Doubles\n🇨🇦 Gabriela Dabrowski\n🇳🇿 Erin Routliffe\n\n\n\nCarlos Alcaraz and Iga Świątek claimed the singles titles at the 2025 Cincinnati Open\, though their paths to victory differed dramatically. Alcaraz captured his eighth Masters 1000 crown after defending champion Jannik Sinner retired down 0-5 in the final\, making Alcaraz the youngest men’s champion since Andy Murray in 2008. Świątek\, meanwhile\, was in dominant form\, defeating Jasmine Paolini 7-5\, 6-4 without dropping a set all tournament to secure her eleventh WTA 1000 title. \nThe event saw historic runs beyond the champions. Térence Atmane became the first qualifier to reach the semifinals since 2015\, while Aryna Sabalenka’s title defense ended in the quarterfinals with a loss to Elena Rybakina. \nIn doubles\, Nikola Mektić and Rajeev Ram won the men’s title\, and the women’s doubles crown was successfully defended by Erin Routliffe\, who won with new partner Gabriela Dabrowski. The tournament also crowned a new ATP doubles World No. 1\, as Lloyd Glasspool ascended to the top ranking. \nPrize Money\nMen’s Singles and Men’s Doubles\n\n\n\n\nMen’s Singles\nMen’s Doubles\n\n\nWinner\n$1\,124\,380\n$457\,150\n\n\nFinals\n$597\,890\n$242\,020\n\n\nSemi-Finals\n$332\,160\n$129\,970\n\n\nQuarter-Finals\n$189\,075\n$65\,000\n\n\nRound of 16\n$103\,225\n$34\,850\n\n\nRound of 32\n$60\,400\n$19\,050\n\n\nRound of 64\n$35\,260\n–\n\n\nRound of 96\n$23\,760\n–\n\n\n\nWomen’s Singles and Women’s Doubles\n\n\n\n\nWomen’s Singles\nWomen’s Doubles\n\n\nWinner\n$752\,275 | 1\,000 points\n$262\,780\n\n\nFinals\n$391\,600 | 650 points\n$139\,120\n\n\nSemi-Finals\n$206\,100 | 390 points\n$74\,700\n\n\nQuarter-Finals\n$106\,900 | 215 points\n$37\,360\n\n\nRound of 16\n$56\,678 | 120 points\n$19\,970\n\n\nRound of 32\n$32\,840 | 65 points\n$10\,950\n\n\nRound of 64\n$18\,200 | 35 points\n–\n\n\nRound of 96\n$11\,270 | 10 points\n–
URL:https://tennistourcalendar.com/event/2025-cincinnati-open/
LOCATION:Lindner Family Tennis Center\, 5460 Courseview Dr\, Mason\, OH\, 45040\, United States
CATEGORIES:ATP Tour,WTA Tour
ATTACH;FMTTYPE=image/jpeg:https://tennistourcalendar.com/wp-content/uploads/2025/08/Cincinnati-Open-1.jpg
ORGANIZER;CN="Beemok Sports & Entertainment":MAILTO:info@beemokse.com
END:VEVENT
BEGIN:VEVENT
DTSTART;VALUE=DATE:20250804
DTEND;VALUE=DATE:20250811
DTSTAMP:20260424T200227
CREATED:20250805T001704Z
LAST-MODIFIED:20251001T023436Z
UID:85-1754265600-1754870399@tennistourcalendar.com
SUMMARY:2025 Open Villa de Tauste
DESCRIPTION:The 2025 Open Villa de Tauste “Tomás Arrieta & Altra Logística” was a tennis tournament that took place in Tauste\, Spain\, from August 4-10\, 2025. It was part of the ITF Men’s World Tennis Tour and was classified as an M25+H event. The tournament featured men’s singles and qualifying rounds\, with matches played on a hard surface. The total prize money for the tournament was $30\,000. \nTournament Details\n\n\n\nDate\n4–10 August\n\n\nDraw\n32S (32Q) / 16D\n\n\nCategory\nITF Men’s World Tennis Tour M25\n\n\nPrize Money\n$30\,000\n\n\nSurface\nOutdoor – Hard\n\n\nLocation\nTauste\, Spain\n\n\nVenue\nClub Tenis Tauste\n\n\n\nDraws & Results \nChampions\n\n\n\nMen’s Singles\nSergio Callejón Hernando (ESP)\n\n\nMen’s Doubles\nJuan José Bianchi (VEN)\nDaniel Milavsky (USA)
URL:https://tennistourcalendar.com/event/2025-open-villa-de-tauste-tomas-arrieta-altra-logistica/
LOCATION:Club Tenis Tauste\, Avenida Independencia S/N\, Tauste\, Zaragoza\, 50660\, Spain
CATEGORIES:ITF Men's World Tennis Tour
ATTACH;FMTTYPE=image/jpeg:https://tennistourcalendar.com/wp-content/uploads/2025/08/Open-Villa-de-Tauste.jpg
END:VEVENT
BEGIN:VEVENT
DTSTART;VALUE=DATE:20250804
DTEND;VALUE=DATE:20250811
DTSTAMP:20260424T200227
CREATED:20250804T233645Z
LAST-MODIFIED:20250906T072921Z
UID:79-1754265600-1754870399@tennistourcalendar.com
SUMMARY:2025 Amman Mineral Men's World Tennis Championships
DESCRIPTION:The 2025 Amman Mineral Men’s World Tennis Championships was a tennis tournament held at the Bali Beach Country Club in Nusa Dua\, Bali\, Indonesia\, from August 4 to August 10\, 2025. It was part of the 2025 ITF Men’s World Tennis Tour as an M25 event\, featuring a total prize fund of US$30\,000. \nTournament Details\n\n\n\nDate\n4–10 August\n\n\nDraw\n32S (32Q) / 16D\n\n\nCategory\nITF Men’s World Tennis Tour M25\n\n\nTotal Prize Money\n$30\,000\n\n\nSurface\nOutdoor – Hard\n\n\nLocation\nNusa Dua\, Bali\, Indonesia\n\n\nVenue\nBali Beach Country Club\n\n\n\nDraws & Results \nChampions\n\n\n\nMen’s Singles\nArthur Géa (FRA)\n\n\nMen’s Doubles\nYusuke Kusuhara (JPN)\nShunsuke Nakagawa (JPN)
URL:https://tennistourcalendar.com/event/2025-amman-mineral-mens-world-tennis-championships/
LOCATION:Bali Beach Country Club\, Jl. Pantai Mengiat No. 88\, Kawasan ITDC\, Lot 5 No. 5\, Nusa Dua\, Bali\, 80363\, Indonesia
CATEGORIES:ITF Men's World Tennis Tour
ATTACH;FMTTYPE=image/jpeg:https://tennistourcalendar.com/wp-content/uploads/2025/08/M25-Bali-Tennis-Tournament.jpg
END:VEVENT
END:VCALENDAR