BEGIN:VCALENDAR
VERSION:2.0
PRODID:-//Tennis Tour Calendar - ECPv6.15.20//NONSGML v1.0//EN
CALSCALE:GREGORIAN
METHOD:PUBLISH
X-ORIGINAL-URL:https://tennistourcalendar.com
X-WR-CALDESC:Events for Tennis Tour Calendar
REFRESH-INTERVAL;VALUE=DURATION:PT1H
X-Robots-Tag:noindex
X-PUBLISHED-TTL:PT1H
BEGIN:VTIMEZONE
TZID:Asia/Bangkok
BEGIN:STANDARD
TZOFFSETFROM:+0700
TZOFFSETTO:+0700
TZNAME:+07
DTSTART:20240101T000000
END:STANDARD
END:VTIMEZONE
BEGIN:VTIMEZONE
TZID:Asia/Riyadh
BEGIN:STANDARD
TZOFFSETFROM:+0300
TZOFFSETTO:+0300
TZNAME:+03
DTSTART:20240101T000000
END:STANDARD
END:VTIMEZONE
BEGIN:VEVENT
DTSTART;TZID=Asia/Bangkok:20251210T000000
DTEND;TZID=Asia/Bangkok:20251219T235959
DTSTAMP:20260423T230235
CREATED:20251216T121058Z
LAST-MODIFIED:20251219T075440Z
UID:2150-1765324800-1766188799@tennistourcalendar.com
SUMMARY:Tennis at the 2025 SEA Games
DESCRIPTION:Updated on April 14\, 2026\n\n\nThe tennis competitions at the 2025 SEA Games will be held from December 10 to 19 at Thailand’s National Tennis Development Center in Nonthaburi. The sport will feature seven events: men’s singles\, women’s singles\, men’s doubles\, women’s doubles\, mixed doubles\, and men’s and women’s team competitions. \n\n\n\nMedalists\n\n\n\nEventGoldSilverBronzeMen’s Singles🇹🇭🇹🇭🇮🇩 Muhammad Rifqi Fitriadi—🇲🇾 Mitsuki Wei Kang LeongWomen’s Singles🇵🇭 Alexandra Eala🇹🇭 Mananchaya Sawangkaew🇹🇭 Thasaporn Naklo—🇮🇩 Janice TjenMen’s Doubles🇹🇭🇹🇭🇮🇩 Muhammad Rifqi Fitriadi🇮🇩 Christopher Rungkat—🇮🇩 Ignatius Anthony Susanto🇮🇩 Lucky Candra KurniawanWomen’s Doubles🇮🇩 Aldila Sutjiadi🇮🇩 Janice Tjen🇹🇭 Mananchaya Sawangkaew🇹🇭 Peangtarn Plipuech🇮🇩 Priska Madelyn Nugroho🇮🇩 Anjali Kirana Junarto—🇵🇭 Tennielle Madis🇵🇭 Stefi Martithe AludoMixed Doubles🇹🇭🇹🇭🇮🇩 Christopher Rungkat🇮🇩 Aldila Sutjiadi—🇵🇭 Alex Eala🇵🇭 Francis AlcantaraMen’s Team🇮🇩 IndonesiaChristopher RungkatIgnatius Anthony SusantoJustin BarkiLucky Candra KurniawanMuhammad Rifqi Fitriadi🇹🇭 ThailandKasidit SamrejMaximus JonesPawit SornlaksupPruchya IsaroWishaya Trongcharoenchaikul🇵🇭 PhilippinesAlberto Lim Jr.Arthur Craig PantinoEric Olivarez Jr.Francis AlcantaraRuben Gonzales—🇲🇾 MalaysiaDarrshan Suresh KumarImran Daniel Abd HazliKoay Hao ShengMitsuki Wei Kang LeongNaufal Siddiq KamaruzzamanWomen’s Team🇮🇩 IndonesiaAldila SutjiadiAnjali Kirana JunartoJanice TjenMeydiana Laviola ReinnamahPriska Madelyn Nugroho🇹🇭 ThailandLanlana TararudeeMananchaya SawangkaewPatcharin CheapchandejPeangtarn PlipuechThasaporn Naklo🇵🇭 PhilippinesAlexandra EalaAlexa Joy MilliamShaira Hope RiveraStefi Martithe AludoTennielle Madis—🇲🇾 MalaysiaDaania Danielle Abd HazliHannah Seen Ean YipSharifah Elsa Wan Abdul RahmanShihomi Li Xuan LeongZan Ning Lim
URL:https://tennistourcalendar.com/event/tennis-at-the-2025-sea-games/
LOCATION:National Tennis Development Center\, Muang Thong Thani\, Pak Kret\, Nonthaburi\, Thailand
CATEGORIES:Other
ATTACH;FMTTYPE=image/jpeg:https://tennistourcalendar.com/wp-content/uploads/2025/12/Tennis-at-the-2025-SEA-Games.jpg
ORGANIZER;CN="Thailand SEA Games Organizing Committee":MAILTO:sport.thasoc@gmail.com
END:VEVENT
BEGIN:VEVENT
DTSTART;TZID=Asia/Riyadh:20251217T000000
DTEND;TZID=Asia/Riyadh:20251221T235959
DTSTAMP:20260423T230235
CREATED:20251218T160810Z
LAST-MODIFIED:20251218T160816Z
UID:2184-1765929600-1766361599@tennistourcalendar.com
SUMMARY:2025 Next Gen ATP Finals
DESCRIPTION:The 2025 Next Gen ATP Finals represents the pinnacle of the season for the world’s best 20-and-under tennis players. Now in its third year in Jeddah\, Saudi Arabia\, the tournament continues its dual tradition: crowning the future stars of the ATP Tour while serving as a high-tech testing ground for the sport’s boldest innovations. \n\n\n\nHeld at the magnificent King Abdullah Sports City\, the event offers a glimpse into the crystal ball of tennis. Past champions like Jannik Sinner\, Carlos Alcaraz\, and Stefanos Tsitsipas used this platform as a launchpad to Grand Slam glory and World No. 1 rankings. The 2025 edition features a field of eight rising talents battling not just for a prestigious title\, but for a share of a record-breaking $2.1 million prize pot. \n\n\n\nTable of Contents[Open][Close]Tournament Rules and Format InnovationsThe Scoring SystemTime Management and Pace of PlayFan and “Game Flow” InitiativesThe 2025 Field: Groups and Qualified PlayersBlue GroupRed GroupWithdrawals and AbsencesPrize Money and DistributionTournament ScheduleHistory and Past ChampionsWhy This Tournament Matters\n\n\n\nTournament Rules and Format Innovations\n\n\n\nThe Next Gen ATP Finals is renowned as the “innovation lab” of professional tennis. It is the only tournament on the calendar that deviates entirely from traditional scoring and conduct rules to trial faster\, more TV-friendly formats. The 2025 event features a specific set of experimental rules designed to reduce downtime and increase intensity. \n\n\n\nThe Scoring System\n\n\n\nThe most radical difference is the scoring format\, which ensures high-stakes points occur more frequently. \n\n\n\n\nFirst-to-4 Games: Sets are shorter than the traditional first-to-6. A player wins a set by reaching 4 games (e.g.\, 4-0\, 4-1\, 4-2).\n\n\n\nBest-of-5 Sets: Despite shorter sets\, the match is best-of-five\, testing a young player’s endurance and mental fortitude over a longer quantity of “sprints” rather than a marathon.\n\n\n\nTie-Breaks at 3-All: If the score reaches 3-3\, a tie-break is played immediately to decide the set. This tie-break is first to 7 points (with a margin of two).\n\n\n\nSudden Death at 4-4 (Deciding Set Tie-Break): If the match goes to a deciding fifth set and reaches 3-3\, a final tie-break determines the winner.\n\n\n\nNo-Ad Scoring: The traditional “Deuce” is eliminated. At 40-40\, a single “Sudden Death” point is played. The server chooses which side (deuce or ad) to serve from. This rule drastically shortens games and creates immediate pressure on the server.\n\n\n\n\nTime Management and Pace of Play\n\n\n\nTo align with modern viewing habits\, the 2025 edition enforces strict time limits: \n\n\n\n\nServe Shot Clock: A strict 8-second rule applies between the first and second serve\, preventing players from resetting their routine after a fault.\n\n\n\nReduced Time Between Points: The shot clock is dynamic. If a rally is short (fewer than 3 shots)\, the time between points is cut from 25 seconds to just 15 seconds. For longer rallies (3+ shots)\, the standard 25 seconds applies.\n\n\n\nWarm-up: On-court warm-ups are limited to just 3 minutes\, forcing players to be ready to compete almost immediately upon entering the arena.\n\n\n\nShortened Changeovers: Players do not sit down after the first game of a set. Sit-downs occur after 3 games (90 seconds)\, and at the end of a set. This is a reduction from the standard 120-second set break.\n\n\n\n\nFan and “Game Flow” Initiatives\n\n\n\n\n“No Let” Rule: The service let is abolished. If a serve clips the net tape and lands in the service box\, the ball is live. This removes the need to replay points and adds an element of unpredictability.\n\n\n\nFree Fan Movement: In a break from tennis tradition\, fans are allowed to move freely around the stadium during play (except for areas directly behind the baselines). This creates a more relaxed\, NBA-style atmosphere.\n\n\n\nWearable Tech: Players are permitted to wear biometric data-tracking devices during matches\, allowing coaches to monitor physical stress and heart rate in real-time.\n\n\n\n\n\n\n\n\nThe 2025 Field: Groups and Qualified Players\n\n\n\nThe field consists of the top eight 20-and-under players from the PIF ATP Live Race to Jeddah. For the 2025 edition\, the players have been divided into two round-robin groups: The Blue Group and the Red Group. \n\n\n\nBlue Group\n\n\n\nThis group is headlined by the tournament’s top seed and features a heavy Spanish presence. \n\n\n\n1. Learner Tien (USA) \n\n\n\n\nAge: 20\n\n\n\nRank: World No. 28\n\n\n\nBio: The top seed and 2024 finalist returns with unfinished business. Tien had a breakout 2025 season\, climbing from outside the Top 100 to the Top 30. A lefty with exceptional court craft and tennis IQ\, Tien captured his first ATP title in Metz this year and reached the Beijing final. He is the favorite to lift the trophy.\n\n\n\n\n2. Martín Landaluce (ESP) \n\n\n\n\nAge: 19\n\n\n\nRank: World No. 135\n\n\n\nBio: One of Spain’s brightest prospects post-Alcaraz. Landaluce qualified after a strong season on the Challenger Tour\, including a title in Orleans. He possesses a heavy forehand and has been mentored by Rafael Nadal’s academy system. He served as an alternate in 2024 but enters 2025 as a main draw contender.\n\n\n\n\n3. Rafael Jódar (ESP) \n\n\n\n\nAge: 19\n\n\n\nRank: World No. 167\n\n\n\nBio: A teammate and friend of Landaluce\, Jodar experienced a late-season surge\, winning three Challenger titles in the final three months of the year to secure his spot. Currently playing college tennis for the University of Virginia\, he brings a unique blend of team-atmosphere experience to the pro circuit.\n\n\n\n\n4. Nicolai Budkov Kjær (NOR) \n\n\n\n\nAge: 19\n\n\n\nRank: World No. 133\n\n\n\nBio: Following in the footsteps of Casper Ruud\, Budkov Kjær is putting Norway on the tennis map. He became the youngest Norwegian to win multiple Challenger titles in a single season (Tampere\, Astana) and is known for his icy demeanor and solid baseline game.\n\n\n\n\nRed Group\n\n\n\nThe Red Group is led by Belgian talent and features the youngest player in the tournament. \n\n\n\n1. Alexander Blockx (BEL) \n\n\n\n\nAge: 20\n\n\n\nRank: World No. 115\n\n\n\nBio: The 2023 Australian Open Junior champion has transitioned smoothly to the pro tour. Blockx earned his first ATP Tour-level win in Cincinnati this year. He is an aggressive baseliner who thrives on fast indoor surfaces\, making the Jeddah conditions ideal for his game.\n\n\n\n\n2. Dino Prižmić (CRO) \n\n\n\n\nAge: 20\n\n\n\nRank: World No. 127\n\n\n\nBio: Prižmić famously took a set off Novak Djokovic at the Australian Open earlier in 2024\, earning praise from the legend himself. A gritty competitor from Croatia\, he struggled with injuries mid-season but rebounded with two Challenger titles (Zagreb\, Bratislava) to qualify.\n\n\n\n\n3. Nishesh Basavareddy (USA) \n\n\n\n\nAge: 20\n\n\n\nRank: World No. 166\n\n\n\nBio: Returning for his second consecutive Next Gen Finals\, Basavareddy is a Stanford University standout who balances college studies with the pro tour. He reached the semifinals in Auckland to start the season. He recently added Daniil Medvedev’s former coach\, Gilles Cervara\, to his team\, signaling serious intent.\n\n\n\n\n4. Justin Engel (GER) \n\n\n\n\nAge: 18\n\n\n\nRank: World No. 182\n\n\n\nBio: The youngest player in the field (born 2007). Engel received a late call-up following withdrawals but has proven he belongs\, having become the youngest German to win a Challenger match since Boris Becker. He is the wildcard factor of the group—untested at this level but playing with “house money.”\n\n\n\n\n\n\n\n\nWithdrawals and Absences\n\n\n\nThe road to Jeddah is grueling\, and the late position in the calendar often leads to attrition. The 2025 edition saw two high-profile absences that reshaped the field: \n\n\n\n\nJakub Menšík (CZE): The highest-ranked eligible teenager (World No. 19) was forced to withdraw due to medical issues. Menšík was expected to be the top seed and a heavy favorite alongside Tien. His withdrawal opened the door for Justin Engel.\n\n\n\nJoão Fonseca (BRA) – The Defending Champion: In a cruel twist\, the 2024 champion João Fonseca qualified comfortably (Ranked No. 24) but withdrew due to injury. As the reigning titleholder\, his absence guarantees a new champion will be crowned in Jeddah.\n\n\n\n\n\n\n\n\nPrize Money and Distribution\n\n\n\nThe 2025 Next Gen ATP Finals offers a record-breaking total prize pool of $2\,101\,250. Because there are no ATP Ranking points awarded at this event (it is strictly an exhibition of talent)\, the financial incentives are massive for players at this stage of their careers. \n\n\n\nBreakdown of Earnings: \n\n\n\n\nUndefeated Champion: A player who wins the title without losing a group match can take home up to $539\,750.\n\n\n\nParticipation Fee: Every player receives $154\,000 just for taking part (playing all 3 group matches).\n\n\n\nMatch Wins: Each round-robin win is worth an additional $37\,500.\n\n\n\nKnockout Bonuses:\n\nSemi-Final Win: $116\,000\n\n\n\nFinal Win: $157\,250\n\n\n\n\n\nAlternate Fee: The alternate player receives $15\,000 even if they do not play.\n\n\n\n\nFor players ranked outside the Top 100 (like Engel or Jodar)\, the participation fee alone can exceed their entire season’s earnings on the Challenger Tour\, providing vital funding for coaching and travel in 2026. \n\n\n\n\n\n\n\nTournament Schedule\n\n\n\nThe event takes place over five days\, with a condensed format ensuring high-intensity action daily. \n\n\n\n\nWednesday\, Dec 17 (Day 1): Round Robin Matches (4 matches). Play begins at 12:00 PM local time.\n\nHighlights: Blockx vs. Engel; Prizmic vs. Basavareddy.\n\n\n\n\n\nThursday\, Dec 18 (Day 2): Round Robin Matches (4 matches).\n\nHighlights: Tien vs. Landaluce; Group standings begin to take shape.\n\n\n\n\n\nFriday\, Dec 19 (Day 3): Round Robin Matches (4 matches).\n\nThe final day of group play where semi-final spots are decided. Ties are broken by head-to-head records or percentage of sets won.\n\n\n\n\n\nSaturday\, Dec 20 (Semi-Finals):\n\nSemi-Final 1: Winner Group A vs. Runner-up Group B (Not before 5:00 PM).\n\n\n\nSemi-Final 2: Winner Group B vs. Runner-up Group A (Not before 7:00 PM).\n\n\n\n\n\nSunday\, Dec 21 (The Final):\n\nChampionship Match: 8:00 PM local time.\n\n\n\n\n\n\n\n\n\n\nHistory and Past Champions\n\n\n\nFirst established in 2017 in Milan\, Italy\, the Next Gen ATP Finals has successfully predicted the future hierarchy of men’s tennis. The list of past champions reads like a “Who’s Who” of the current ATP Top 10. \n\n\n\n\n2017 (Milan): Hyeon Chung. The inaugural winner shocked the field. While injuries later derailed his career\, his victory validated the concept.\n\n\n\n2018 (Milan): Stefanos Tsitsipas. The Greek star used this title to vault into the elite\, winning the main ATP Finals just one year later.\n\n\n\n2019 (Milan): Jannik Sinner. Entering as a wildcard\, Sinner dominated the field. By 2024\, he was World No. 1 and a multiple Grand Slam champion.\n\n\n\n2020: Not held due to COVID-19.\n\n\n\n2021 (Milan): Carlos Alcaraz. The Spaniard dropped only one set the entire tournament. Within a year\, he had won the US Open and become the youngest World No. 1 in history.\n\n\n\n2022 (Milan): Brandon Nakashima. The American defeated fellow rising star Jiri Lehecka to take the title.\n\n\n\n2023 (Jeddah): Hamad Medjedovic. The Serbian powerhouse won the first edition held in Saudi Arabia\, defeating Arthur Fils in a thrilling five-set final.\n\n\n\n2024 (Jeddah): João Fonseca. The “Little Monster” from Brazil became the lowest-ranked champion in history\, showcasing devastating power to defeat Learner Tien.\n\n\n\n\nWhy This Tournament Matters\n\n\n\nThe 2025 Next Gen ATP Finals is more than an exhibition; it is a graduation ceremony. For players like Learner Tien and Alexander Blockx\, it is the final stop before they are considered full-fledged tour veterans rather than “prospects.” \n\n\n\nThe history of the event suggests that the winner in Jeddah this week is not just collecting a check; they are putting the rest of the tour on notice. Whether it is the tactical brilliance of Tien\, the raw power of Blockx\, or the underdog story of Engel\, the champion crowned on December 21st will carry the mantle of the “Next Gen” into the 2026 season. \n\n\n\nWith the “Big Three” era firmly in the rearview mirror and the Alcaraz/Sinner era in full swing\, the tennis world watches Jeddah to answer one question: Who is next?
URL:https://tennistourcalendar.com/event/2025-next-gen-atp-finals/
LOCATION:King Abdullah Sports City\, King Abdulaziz International Airport\, Jeddah\, 23737\, Saudi Arabia
CATEGORIES:ATP Finals
ATTACH;FMTTYPE=image/jpeg:https://tennistourcalendar.com/wp-content/uploads/2025/12/2025-Next-Gen-ATP-Finals.jpg
END:VEVENT
END:VCALENDAR