BEGIN:VCALENDAR
VERSION:2.0
PRODID:-//Tennis Tour Calendar - ECPv6.15.20//NONSGML v1.0//EN
CALSCALE:GREGORIAN
METHOD:PUBLISH
X-WR-CALNAME:Tennis Tour Calendar
X-ORIGINAL-URL:https://tennistourcalendar.com
X-WR-CALDESC:Events for Tennis Tour Calendar
REFRESH-INTERVAL;VALUE=DURATION:PT1H
X-Robots-Tag:noindex
X-PUBLISHED-TTL:PT1H
BEGIN:VTIMEZONE
TZID:Europe/Moscow
BEGIN:STANDARD
TZOFFSETFROM:+0300
TZOFFSETTO:+0300
TZNAME:MSK
DTSTART:20240101T000000
END:STANDARD
END:VTIMEZONE
BEGIN:VEVENT
DTSTART;VALUE=DATE:20251101
DTEND;VALUE=DATE:20251109
DTSTAMP:20260425T231251
CREATED:20251004T045648Z
LAST-MODIFIED:20251108T213612Z
UID:1006-1761955200-1762646399@tennistourcalendar.com
SUMMARY:2025 WTA Finals
DESCRIPTION:The 2025 WTA Finals was a year-end championship tennis tournament held by the Women’s Tennis Association (WTA) for the eight best singles players and eight best doubles teams of the 2025 WTA Tour. The tournament took place from November 1 to November 8\, 2025\, in Riyadh\, Saudi Arabia\, for the second consecutive year. It marked the 54th edition of the singles event and the 49th edition of the doubles competition.\n\nChampions\nSingles\nElena Rybakina wrapped up her 2025 season in style\, taking down Aryna Sabalenka 6–3\, 7–6(7–0) to claim the WTA Finals singles title. It’s her 11th career trophy on the WTA Tour—and a special one\, as she became the first player from Kazakhstan ever to lift the prestigious year-end title. \nSabalenka\, meanwhile\, continued to make history in her own way. She was the top seed for the third year in a row—a feat only legends like Steffi Graf\, Martina Navratilova\, and Chris Evert had done before. She also became the first player since Angelique Kerber in 2016 to reach the finals of three Grand Slams and the WTA Finals in the same season. \nLast year’s champion\, Coco Gauff\, couldn’t repeat her magic this time—she was knocked out in the round-robin stage. The tournament did see some fresh faces\, though: Amanda Anisimova made her WTA Finals debut\, and Ekaterina Alexandrova joined the singles lineup as an alternate. Interestingly\, this was the first time since 2002 that four American women made the cut for singles—proof that U.S. women’s tennis is still thriving. \nUnfortunately\, Madison Keys had to pull out before her last group match due to illness\, with Alexandrova stepping in as her replacement. First alternate Mirra Andreeva decided to skip the call-up. And just like last year\, Jasmine Paolini managed to qualify for both singles and doubles—a rare double-duty achievement. \nDoubles\nVeronika Kudermetova and Elise Mertens claimed the doubles crown at the 2025 WTA Finals after defeating Tímea Babos and Luisa Stefani 7–6(7–4)\, 6–1 in the championship match. The win marked their second title together and their first since 2022. Along the way\, they pulled off a dramatic escape in the semifinals\, saving a match point against Kateřina Siniaková and Taylor Townsend. \nDefending champions Gabriela Dabrowski and Erin Routliffe couldn’t repeat their success this year\, bowing out during the round-robin stage. \nThe tournament also saw several new faces in the doubles field\, with Mirra Andreeva\, Diana Shnaider\, Luisa Stefani\, and Asia Muhammad all making their debuts. For the second straight year\, Jasmine Paolini stood out as the only player to qualify for both singles and doubles. \nKateřina Siniaková capped off her season by securing the year-end WTA No. 1 doubles ranking for a record-tying fifth time\, clinched after Sara Errani and Paolini’s early exit. Errani\, who was chasing the rare Career Super Slam in women’s doubles\, saw that dream end with their elimination in the group stage. \nVenue\nThe 2025 WTA Finals is hosted at the King Saud University Indoor Arena in Riyadh\, Saudi Arabia. The event is played on an indoor hard court surface. This is the second year in a row that Riyadh has hosted the prestigious season-ending tournament.\nQualification\nThe eight singles players and eight doubles teams that qualify for the WTA Finals are determined by the “PIF WTA Race to the Finals\,” a season-long points race. Players earn points at all WTA-sanctioned tournaments\, including the four Grand Slams. Singles Qualification Criteria:\n\nThe top seven singles players on the leaderboard at the conclusion of the regular WTA season automatically qualify.\nThe eighth spot is awarded to the highest-ranked current-year Grand Slam winner who is ranked between 8th and 20th in the standings. If no player meets this criterion\, the eighth-ranked player in the race qualifies.\n\nThe points for a player’s race ranking are calculated from their results in 18 tournaments\, including:\n\nThe four Grand Slam events.\nThe best six results from the seven combined WTA 1000 tournaments (Indian Wells\, Miami\, Madrid\, Rome\, Toronto/Montreal\, Cincinnati\, and Beijing).\nThe best result from the three non-combined WTA 1000 tournaments (Doha\, Dubai\, and Wuhan).\nThe best seven results from all other non-WTA 125 tournaments.\n\nDoubles Qualification Criteria:\n\nSimilar to singles\, the top seven doubles teams on the leaderboard automatically qualify.\nThe eighth spot is awarded to the highest-ranked current-year Grand Slam winning team ranked from 8th to 20th. If no team meets this criterion\, the eighth-ranked team in the race qualifies.\n\nFor doubles\, the point totals are based on the team’s 12 best results from any of the non-WTA 125 WTA tournaments and Grand Slams throughout the season. The previous article section on the tournament format needs to be updated to include the specific group stage draw\, which was conducted on October 28\, 2025\, in Riyadh. The groups are named in honor of WTA legends who have held the World No. 1 ranking for the most weeks\, celebrating the 50th anniversary of the PIF WTA Rankings.\nQualified Players\nSingles\nThe singles line-up features the best of the best\, including a major title winner from the USA and the final qualifier who clinched her spot in the final possible event. The Confirmed Singles Eight:\n\nAryna Sabalenka: Secured her spot early in the season (July 8th)\, solidifying her place as the world No. 1. She is the reigning US Open champion and a consistent threat in the Finals.\nIga Świątek: Qualified after a dominant season\, highlighted by her Wimbledon victory\, sealing her spot in August.\nCoco Gauff: The American secured her return to Riyadh\, aiming to be the first player since Serena Williams to defend the title after winning the French Open in 2025.\nAmanda Anisimova: Making her WTA Finals debut\, Anisimova qualified in October after a phenomenal breakout season. She reached two Grand Slam finals\, Wimbledon and the US Open\, and captured her first WTA 1000 title in Doha.\nMadison Keys: The 2025 Australian Open champion\, Keys returns to the WTA Finals for the first time since 2016 after a triumphant start to the year.\nJessica Pegula: An established presence at the year-end event\, Pegula secured her berth after a strong run to the Wuhan WTA 1000 final.\nJasmine Paolini: The Italian star qualified in October\, adding her consistency to the top group.\nElena Rybakina: Clinched the final spot in dramatic fashion at the Pan Pacific Open in Tokyo. This marks her third consecutive appearance at the WTA Finals\, with two WTA 500 titles this season.\n\nDoubles\nThe doubles field is stacked with Grand Slam winners and former champions\, showcasing incredible partnership synergy. The Confirmed Doubles Eight:\n\nKateřina Siniaková / Taylor Townsend: The first team to qualify\, they kicked off the season by winning their second major together at the Australian Open and also claimed the WTA 1000 title in Dubai.\nSara Errani / Jasmine Paolini: Qualified in September\, this Olympic gold-medal-winning duo added the Roland Garros title to their resume in 2025.\nGabriela Dabrowski / Erin Routliffe: The 2024 WTA Finals champions secured their spot to defend their title after winning the US Open.\nVeronika Kudermetova / Elise Mertens: Qualified after a standout season highlighted by winning The Championships\, Wimbledon.\nMirra Andreeva / Diana Shnaider: The young Russian pair will make their WTA Finals debut after winning their first major titles together\, including the WTA 1000 Miami Open and the WTA 500 Brisbane International.\nHsieh Su-Wei / Jelena Ostapenko: This experienced pairing reached multiple finals throughout the year\, including the Australian Open and Wimbledon finals.\nTimea Babos / Luisa Stefani: Qualified after securing three titles this season\, with Babos bringing her three-time championship pedigree.\nAsia Muhammad / Demi Schuurs: The team earned their place with hard-court success\, winning the WTA 1000 Indian Wells and the WTA 500 HSBC Championships at Queen’s Club.\n\nTournament Format and Group Stage Draw\nBoth the singles and doubles events follow a round-robin format\, with the eight players/teams divided into two groups of four. Over the first six days of the tournament\, each player/team competes against the other three in their respective group once. The top two players/teams from each group advance to the knockout stage\, consisting of the semifinals on Friday\, November 7\, and the championship matches on Saturday\, November 8. In the semifinals\, the first-placed player/team from one group plays against the second-placed player/team from the other group. Tie-breaking methods for the round-robin groups include:\n\nGreatest number of match wins.\nHead-to-head result if only two players/teams are tied.\nIf three players/teams are tied:\n\nIf one player has played fewer than all three matches\, they are automatically eliminated. The remaining two players’ head-to-head result determines who advances.\nIf all three players have completed their matches\, the tie is broken by the highest percentage of sets won\, followed by the highest percentage of games won.\n\n\n\n2025 Group Stage Draw\nThe draw ceremony was conducted on October 28\, 2025\, with Tournament Director and 2021 WTA Finals champion Garbiñe Muguruza officiating alongside defending champion Coco Gauff\, and past doubles winners Gabriela Dabrowski and Erin Routliffe. To celebrate the 50th anniversary of the PIF WTA Rankings\, the groups have been named after WTA legends who held the No. 1 ranking for the most weeks.\nSingles Groups\n\n\n\nGroup Name (Legend)\nSeeded Players Included\n\n\n\n\nStefanie Graf Group\n[1] Aryna Sabalenka\, [3] Coco Gauff\, [5] Jessica Pegula\, [8] Jasmine Paolini\n\n\nSerena Williams Group\n[2] Iga Świątek\, [4] Amanda Anisimova\, [6] Elena Rybakina\, [7] Madison Keys\n\n\n\nDoubles Groups\n\n\n\nGroup Name (Legend)\nSeeded Teams Included\n\n\n\n\nMartina Navratilova Group\n[1] Sara Errani & Jasmine Paolini\, [4] Veronika Kudermetova & Elise Mertens\, [6] Hsieh Su-Wei & Jelena Ostapenko\, [8] Asia Muhammad & Demi Schuurs\n\n\nLiezel Huber Group\n[2] Kateřina Siniaková & Taylor Townsend\, [3] Gabriela Dabrowski & Erin Routliffe\, [5] Mirra Andreeva & Diana Shnaider\, [7] Timea Babos & Luisa Stefani\n\n\n\nPrize Money\nMain article: WTA Finals 2025 Prize Money and Points on Offer \nThe total prize money for the 2025 WTA Finals is a record-breaking $15.5 million\, a significant increase from previous years. The prize money is distributed based on performance\, with an undefeated singles champion standing to earn over $5 million\, and an undefeated doubles team earning over $950\,000. The prize money breakdown is structured to reward success at every stage of the tournament\, from participation to winning the title.\nPast Champions\nThe WTA Finals has a rich history of legendary champions. The list of past winners includes some of the greatest names in women’s tennis\, highlighting the tournament’s importance as a pinnacle of the tennis season. Singles:\n\nMartina Navratilova: The most successful player in the tournament’s history with eight singles titles.\nSteffi Graf and Serena Williams: Tied for second with five titles each.\nChris Evert: The inaugural winner and a four-time champion.\nMonica Seles and Kim Clijsters: Both three-time champions.\nCoco Gauff: The defending singles champion from the 2024 event in Riyadh.\n\nDoubles:\n\nMartina Navratilova: Holds the record for most doubles titles with 13.\nGabriela Dabrowski and Erin Routliffe: The defending champions from 2024.\n\nThe WTA Finals continues to be a showcase of the best talent in women’s tennis\, providing a fitting conclusion to the season and a platform for the sport’s biggest stars to compete for one of its most prestigious titles.
URL:https://tennistourcalendar.com/event/2025-wta-finals/
LOCATION:King Saud University Indoor Arena\, King Saud University\, Riyadh\, 12372\, Saudi Arabia
CATEGORIES:WTA Finals
ATTACH;FMTTYPE=image/jpeg:https://tennistourcalendar.com/wp-content/uploads/2025/10/2025-WTA-Finals-Riyadh.jpg
END:VEVENT
END:VCALENDAR