BEGIN:VCALENDAR
VERSION:2.0
PRODID:-//Tennis Tour Calendar - ECPv6.15.20//NONSGML v1.0//EN
CALSCALE:GREGORIAN
METHOD:PUBLISH
X-ORIGINAL-URL:https://tennistourcalendar.com
X-WR-CALDESC:Events for Tennis Tour Calendar
REFRESH-INTERVAL;VALUE=DURATION:PT1H
X-Robots-Tag:noindex
X-PUBLISHED-TTL:PT1H
BEGIN:VTIMEZONE
TZID:Europe/Paris
BEGIN:DAYLIGHT
TZOFFSETFROM:+0100
TZOFFSETTO:+0200
TZNAME:CEST
DTSTART:20250330T010000
END:DAYLIGHT
BEGIN:STANDARD
TZOFFSETFROM:+0200
TZOFFSETTO:+0100
TZNAME:CET
DTSTART:20251026T010000
END:STANDARD
BEGIN:DAYLIGHT
TZOFFSETFROM:+0100
TZOFFSETTO:+0200
TZNAME:CEST
DTSTART:20260329T010000
END:DAYLIGHT
BEGIN:STANDARD
TZOFFSETFROM:+0200
TZOFFSETTO:+0100
TZNAME:CET
DTSTART:20261025T010000
END:STANDARD
BEGIN:DAYLIGHT
TZOFFSETFROM:+0100
TZOFFSETTO:+0200
TZNAME:CEST
DTSTART:20270328T010000
END:DAYLIGHT
BEGIN:STANDARD
TZOFFSETFROM:+0200
TZOFFSETTO:+0100
TZNAME:CET
DTSTART:20271031T010000
END:STANDARD
END:VTIMEZONE
BEGIN:VTIMEZONE
TZID:America/Argentina/Buenos_Aires
BEGIN:STANDARD
TZOFFSETFROM:-0300
TZOFFSETTO:-0300
TZNAME:-03
DTSTART:20250101T000000
END:STANDARD
END:VTIMEZONE
BEGIN:VTIMEZONE
TZID:America/New_York
BEGIN:DAYLIGHT
TZOFFSETFROM:-0500
TZOFFSETTO:-0400
TZNAME:EDT
DTSTART:20250309T070000
END:DAYLIGHT
BEGIN:STANDARD
TZOFFSETFROM:-0400
TZOFFSETTO:-0500
TZNAME:EST
DTSTART:20251102T060000
END:STANDARD
BEGIN:DAYLIGHT
TZOFFSETFROM:-0500
TZOFFSETTO:-0400
TZNAME:EDT
DTSTART:20260308T070000
END:DAYLIGHT
BEGIN:STANDARD
TZOFFSETFROM:-0400
TZOFFSETTO:-0500
TZNAME:EST
DTSTART:20261101T060000
END:STANDARD
BEGIN:DAYLIGHT
TZOFFSETFROM:-0500
TZOFFSETTO:-0400
TZNAME:EDT
DTSTART:20270314T070000
END:DAYLIGHT
BEGIN:STANDARD
TZOFFSETFROM:-0400
TZOFFSETTO:-0500
TZNAME:EST
DTSTART:20271107T060000
END:STANDARD
END:VTIMEZONE
BEGIN:VTIMEZONE
TZID:America/Santiago
BEGIN:STANDARD
TZOFFSETFROM:-0300
TZOFFSETTO:-0400
TZNAME:-04
DTSTART:20250406T030000
END:STANDARD
BEGIN:DAYLIGHT
TZOFFSETFROM:-0400
TZOFFSETTO:-0300
TZNAME:-03
DTSTART:20250907T040000
END:DAYLIGHT
BEGIN:STANDARD
TZOFFSETFROM:-0300
TZOFFSETTO:-0400
TZNAME:-04
DTSTART:20260405T030000
END:STANDARD
BEGIN:DAYLIGHT
TZOFFSETFROM:-0400
TZOFFSETTO:-0300
TZNAME:-03
DTSTART:20260906T040000
END:DAYLIGHT
BEGIN:STANDARD
TZOFFSETFROM:-0300
TZOFFSETTO:-0400
TZNAME:-04
DTSTART:20270404T030000
END:STANDARD
BEGIN:DAYLIGHT
TZOFFSETFROM:-0400
TZOFFSETTO:-0300
TZNAME:-03
DTSTART:20270905T040000
END:DAYLIGHT
END:VTIMEZONE
BEGIN:VEVENT
DTSTART;TZID=Europe/Paris:20260201T000000
DTEND;TZID=Europe/Paris:20260208T235959
DTSTAMP:20260422T072806
CREATED:20251105T142816Z
LAST-MODIFIED:20260201T194843Z
UID:1782-1769904000-1770595199@tennistourcalendar.com
SUMMARY:2026 Open Occitanie
DESCRIPTION:Updated on August 7\, 2025\n\n\nThe ATP Tour returns to the south of France this February for the 16th edition of the Open Occitanie. Held at the Sud de France Arena\, this ATP 250 event has become a staple of the indoor hard-court season\, consistently attracting a blend of established stars and rising talent. \n\n\n\nFollowing Félix Auger-Aliassime’s triumph in 2025\, a new field of contenders has arrived in Montpellier\, including top-ranked Frenchman Ugo Humbert and Dutch star Tallon Griekspoor. \n\n\n\nQuick Tournament Facts\n\n\n\nDetailInformationOfficial NameOpen Occitanie (ATP 250)Edition16thDatesSunday\, February 1 – Sunday\, February 8\, 2026VenueSud de France Arena\, Montpellier\, FranceSurfaceHard (Indoor)CategoryATP Tour 250Tournament DirectorSébastien GrosjeanTicketing InformationTickets available at: https://www.openoccitanie.com/en/tickets/\n\n\n\nProvisional Schedule\n\n\n\nPlease note that all times are subject to change due to match length\, television scheduling\, and unforeseen circumstances. \n\n\n\nDateDayStage of CompetitionDoors OpenStart of First MatchEnd of Matches (Approx.)February 1SundaySingles Qualifiers (Round 1)10:00 am10:30 am5:00 pmFebruary 2MondaySingles Qualifiers (Round 2)\, Singles Round of 32\, Doubles Round of 1611:30 am12:00 pm11:00 pmFebruary 3TuesdaySingles Round of 32\, Doubles Round of 1611:30 am12:30 pm11:00 pmFebruary 4WednesdaySingles Round of 32 (End) / Singles Round of 16 (Start)\, Doubles Round of 16 (End) / Doubles Quarterfinals (Start)11:30 am12:00 pm11:00 pmFebruary 5ThursdaySingles Round of 16\, Doubles Quarterfinals11:30 am12:30 pm11:00 pmFebruary 6FridaySingles Quarterfinals\, Doubles First Semifinal11:30 am12:30 pm11:00 pmFebruary 7SaturdaySingles Semifinals\, Doubles Second Semifinal11:30 am12:30 pm6:00 pmFebruary 8SundayFinals Day: Doubles Final (12:30 pm start)\, Singles Final (3:00 pm start)11:30 am12:30 pm4:30 pm\n\n\n\nPlayer Field: Who to Watch\n\n\n\nThe 2026 acceptance list features a heavy-hitting lineup\, headlined by defending champion Felix Auger-Aliassime and a deep pool of French talent looking to reclaim the title on home soil. \n\n\n\nTop Seeds & Contenders:\n\n\n\n\nFelix Auger-Aliassime (CAN): The World No. 8 and top seed returns as the defending champion. Known for his indoor prowess\, “King Felix” is the man to beat in Montpellier.\n\n\n\nFlavio Cobolli (ITA): The second seed and a rising star in the Top 30\, Cobolli brings intensity and a high-energy baseline game to the Sud de France Arena.\n\n\n\nTomas Machac (CZE): Seeded third\, Machac is one of 2026’s early success stories\, having already captured a title in Adelaide this January.\n\n\n\nTallon Griekspoor (NED): The Dutch No. 1 enters as the fourth seed\, looking to find his rhythm and add another indoor trophy to his mantle.\n\n\n\nUgo Humbert (FRA): As the fifth seed and highest-ranked Frenchman\, Humbert thrives under the roof. He is arguably the local favorite to lift the trophy.\n\n\n\nArthur Fils (FRA): The sixth seed makes a highly anticipated return to competitive action this week. Despite a recent injury layoff\, his explosive power makes him a “dangerous floater.”\n\n\n\n\nOther Notable Entries:\n\n\n\n\nHubert Hurkacz (POL): The seventh seed is a perennial threat on fast courts with his massive serve.\n\n\n\nAleksandar Kovacevic (USA): The 2025 runner-up returns as the eighth seed\, aiming to go one better after his narrow defeat in last year’s final.\n\n\n\nStan Wawrinka (SUI): The three-time Grand Slam champion continues his farewell tour with a wildcard entry\, drawing massive crowds for his opening matches.\n\n\n\nFrench Veterans & Rising Stars: The draw is rounded out by established names like Adrian Mannarino and Botic van de Zandschulp\, alongside young French talents Arthur Cazaux and Giovanni Mpetshi Perricard.\n\n\n\n\nPrize Money and Points Distribution (2026)\n\n\n\nThe total financial commitment for the 2026 edition has reached €612\,620\, marking a 5.42% increase from last year. This boost reflects the tournament’s growing stature on the ATP calendar. \n\n\n\nSingles Distribution\n\n\n\nRoundPrize MoneyRanking PointsWinner€93\,175250Finalist€54\,360165Semi-finalist€31\,955100Quarter-finalist€18\,51550Round of 16€10\,75025Round of 32€6\,5700\n\n\n\nDoubles Distribution (Per Team)\n\n\n\nRoundPrize MoneyRanking PointsWinner€32\,410250Finalist€17\,410150Semi-finalist€10\,19090Quarter-finalist€5\,65045Round of 16€3\,3300\n\n\n\nTournament Fact Sheet & History\n\n\n\nSince its move to Montpellier in 2010\, the Open Occitanie (formerly Open Sud de France) has been a fortress for French tennis. However\, recent years have seen international stars break through\, with champions like Alexander Bublik\, Jannik Sinner\, and Félix Auger-Aliassime claiming the trophy. \n\n\n\nPast Champions (Singles): \n\n\n\n\n2025: Félix Auger-Aliassime (def. Aleksandar Kovacevic)\n\n\n\n2024: Alexander Bublik (def. Borna Ćorić)\n\n\n\n2023: Jannik Sinner (def. Maxime Cressy)\n\n\n\n2022: Alexander Bublik (def. Alexander Zverev)\n\n\n\n2021: David Goffin (def. Roberto Bautista Agut)\n\n\n\n2020: Gaël Monfils (def. Vasek Pospisil)\n\n\n\n\n2026 Champions (To Be Updated)\n\n\n\n\nSingles Winner: TBD\n\n\n\nDoubles Winners: TBD\n\n\n\n\nThis section will be updated following the conclusion of the finals on February 8\, 2026. \n\n\n\nTickets and Venue Information\n\n\n\nAll official information regarding tickets\, hospitality packages\, and general event details can be found on the tournament’s official website. For fans eager to secure their seats and experience the vibrant atmosphere in person\, the dedicated ticketing page is the place to go: \n\n\n\nOfficial Ticketing Link: https://www.openoccitanie.com/en/tickets/ \n\n\n\nThe Sud de France Arena is a premier sports venue\, providing excellent viewing angles and modern amenities for spectators. Given the popularity of this ATP 250 event\, securing tickets early\, especially for the high-demand weekend sessions (Quarterfinals\, Semifinals\, and Finals)\, is strongly recommended. The week-long competition offers fantastic value\, giving fans the opportunity to witness the best of men’s professional tennis in the heart of the Occitanie region. Mark your calendars for February 1 – 8\, 2026\, for a week of unmissable indoor hardcourt action.
URL:https://tennistourcalendar.com/event/2026-open-occitanie/
LOCATION:Sud de France Arena\, Montpellier Exhibition Center\, Rte de la Foire\, Montpellier\, 34470\, France
CATEGORIES:ATP Tour
ATTACH;FMTTYPE=image/jpeg:https://tennistourcalendar.com/wp-content/uploads/2025/11/Open-Occitanie-Tennis.jpg
ORGANIZER;CN="TV Sport Events":MAILTO:contact@tvsportevents.com
END:VEVENT
BEGIN:VEVENT
DTSTART;TZID=America/Argentina/Buenos_Aires:20260207T000000
DTEND;TZID=America/Argentina/Buenos_Aires:20260215T235959
DTSTAMP:20260422T072806
CREATED:20260211T190912Z
LAST-MODIFIED:20260211T190918Z
UID:3042-1770422400-1771199999@tennistourcalendar.com
SUMMARY:2026 Argentina Open
DESCRIPTION:The 2026 IEB+ Argentina Open is currently underway\, marking the 29th edition of this prestigious clay-court event. Held at the historic “Cathedral of Argentinean Tennis\,” this tournament serves as a crucial stop in the South American “Golden Swing.” \n\n\n\n\n\n\n\nTournament Profile: Dates & Venue\n\n\n\n\nDates: February 9 – February 15\, 2026\n\n\n\nVenue: Buenos Aires Lawn Tennis Club\, Argentina\n\n\n\nSurface: Outdoor Clay\n\n\n\nCategory: ATP Tour 250\n\n\n\nDraw Size: 28 Singles / 16 Doubles\n\n\n\n\n\n\n\n\nStars to Watch: Seeded Players\n\n\n\nThe 2026 entry list features a strong mix of local favorites and international clay-court specialists. Notably\, João Fonseca returns to defend his title after his historic breakthrough last year. \n\n\n\nSeedPlayerNationality1Francisco CerúndoloArgentina2Luciano DarderiItaly3João FonsecaBrazil4Sebastián BáezArgentina5Daniel AltmaierGermany6Camilo Ugo CarabelliArgentina7Tomás Martín EtcheverryArgentina8Matteo BerrettiniItaly\n\n\n\n\n\n\n\nTournament Schedule\n\n\n\nThe tournament follows a standard week-long progression\, with day sessions usually beginning at 1:00 PM and evening sessions at 6:30 PM. \n\n\n\n\nFeb 7–8: Qualifying Rounds\n\n\n\nFeb 9–10: First Round (Main Draw)\n\n\n\nFeb 11–12: Round of 16\n\n\n\nFeb 13: Quarterfinals\n\n\n\nFeb 14: Semifinals (1:00 PM / 4:00 PM / 6:00 PM)\n\n\n\nFeb 15: Finals (1:30 PM / 4:00 PM)\n\n\n\n\n\n\n\n\nPrize Money & ATP Points\n\n\n\nThe total financial commitment for the 2026 edition is USD 675\,310. Here is the breakdown for the singles competition: \n\n\n\nRoundPrize Money (USD)ATP PointsWinner$102\,715250Finalist$59\,920165Semifinalist$35\,230100Quarterfinalist$20\,41050Round of 16$11\,85025Round of 32$7\,2450\n\n\n\n\n\n\n\nPast Champions (Open Era Highlights)\n\n\n\nBuenos Aires has a rich history of elite champions. João Fonseca made headlines in 2025 by becoming the youngest champion in the tournament’s history. \n\n\n\n\n2025: João Fonseca (Brazil)\n\n\n\n2024: Facundo Díaz Acosta (Argentina)\n\n\n\n2023: Carlos Alcaraz (Spain)\n\n\n\n2022: Casper Ruud (Norway)\n\n\n\n2021: Diego Schwartzman (Argentina)\n\n\n\nNotable Legends: Rafael Nadal (2015)\, David Ferrer (2012–14)\, Gustavo Kuerten (2001).
URL:https://tennistourcalendar.com/event/2026-argentina-open/
LOCATION:Buenos Aires Lawn Tennis Club\, Av. Olleros 1510\, C1426CRB Cdad.\, Autónoma de Buenos Aires\, Argentina
CATEGORIES:ATP Tour
ATTACH;FMTTYPE=image/jpeg:https://tennistourcalendar.com/wp-content/uploads/2026/02/Argentina-Open-Tennis.jpg
END:VEVENT
BEGIN:VEVENT
DTSTART;TZID=America/New_York:20260213T000000
DTEND;TZID=America/New_York:20260222T235959
DTSTAMP:20260422T072806
CREATED:20260212T014807Z
LAST-MODIFIED:20260212T014812Z
UID:3099-1770940800-1771804799@tennistourcalendar.com
SUMMARY:2026 Delray Beach Open
DESCRIPTION:Updated on August 7\, 2025\n\n\nThe 2026 tennis season heats up this February as the ATP Tour arrives in South Florida for the 34th edition of the Delray Beach Open. As the world’s only 10-day combined event featuring both an ATP 250 tournament and a star-studded Legends tour\, this year’s installment promises to be a historic celebration of tennis. From world-class competition on the Plexipave hard courts to the iconic “Food & Wine Series” in the hospitality pavilion\, the Delray Beach Open is more than a tournament—it is a cornerstone of the Florida sporting calendar. \n\n\n\nTable of Contents[Open][Close]Tournament Dates and VenuePrize Money and Player CompensationProvisional Schedule: From Qualifying to the FinalsThe Opening Weekend (Feb 13–15)ATP 250 Main Draw (Feb 16–22)Stars to Watch: The 2026 Player FieldPast Champions and Tournament HistorySpecial Events and Fan ExperienceHow to Watch\n\n\n\nTournament Dates and Venue\n\n\n\nThe 2026 Delray Beach Open officially spans ten days\, from Friday\, February 13 to Sunday\, February 22\, 2026. \n\n\n\nThe matches will be held at the prestigious Delray Beach Stadium & Tennis Center\, located at 30 NW 1st Ave\, Delray Beach\, Florida. This venue is renowned for its intimate atmosphere\, allowing fans to get closer to the action than at almost any other stop on the ATP circuit. The stadium court\, which can host over 8\,000 spectators\, will serve as the primary stage for the week’s most high-stakes matchups. \n\n\n\n\n\n\n\nPrize Money and Player Compensation\n\n\n\nThe 2026 tournament features a total player compensation package exceeding $1\,000\,000. While the specific ATP 250 prize pool is structured at approximately $700\,045\, the event’s comprehensive investment includes the Legends tour and various appearance incentives. \n\n\n\nRoundPrize Money (Singles)ATP PointsWinner$106\,460250Finalist$62\,115165Semifinalist$36\,520100Quarterfinalist$21\,15550Round of 16$12\,28525Round of 32$7\,5100\n\n\n\n\n\n\n\nProvisional Schedule: From Qualifying to the Finals\n\n\n\nThe tournament is divided into two distinct phases: the Opening Weekend (featuring Legends and Qualifying) and the ATP 250 Main Draw. \n\n\n\n\nThe 2026 Delray Beach Open Complete Schedule is Here\n\n\n\n\nThe Opening Weekend (Feb 13–15)\n\n\n\n\nFriday\, Feb 13: The tournament opens with the Legends Event at 6:00 PM. Fans will see icons like Juan Martin del Potro and the Bryan Brothers take the court.\n\n\n\nSaturday\, Feb 14: ATP 250 Qualifying begins at 10:00 AM\, where 16 players battle for four coveted spots in the main draw. Legends sessions continue in the afternoon and evening.\n\n\n\nSunday\, Feb 15: Qualifying Finals and the conclusion of the Legends tour\, featuring a marquee doubles match between the Bryan Bros and the team of Del Potro and Tommy Haas.\n\n\n\n\nATP 250 Main Draw (Feb 16–22)\n\n\n\n\nMonday & Tuesday (Feb 16–17): First-round singles and doubles action. Day sessions start at 11:00 AM; Night sessions at 6:00 PM.\n\n\n\nWednesday & Thursday (Feb 18–19): Second-round play. Defending historic champion Taylor Fritz is slated for his debut on Thursday night.\n\n\n\nFriday\, Feb 20: The Quarterfinals. Matches become increasingly intense as the field narrows to the final four.\n\n\n\nSaturday\, Feb 21: The Semifinals. The first singles finalist is decided at 3:00 PM\, with the second finalist emerging following the 8:00 PM session.\n\n\n\nSunday\, Feb 22: Championship Sunday. The Doubles Final takes place at 1:00 PM\, followed by the Singles Final at 4:00 PM.\n\n\n\n\n\n\n\n\nStars to Watch: The 2026 Player Field\n\n\n\nThe 2026 lineup is one of the strongest in the event’s history\, featuring seven players currently ranked in the world’s Top 30. \n\n\n\n\nTaylor Fritz (USA): The “King of Delray” returns with a chance to make history. Having won back-to-back titles in 2023 and 2024\, Fritz is aiming to become the first player in 34 years to hoist the trophy three times.\n\n\n\nCasper Ruud (Norway): Making his tournament debut\, the world No. 13 and three-time Grand Slam finalist brings a tactical brilliance to the Florida hard courts. His father\, Christian\, played here in 1998\, adding a legacy element to his appearance.\n\n\n\nTommy Paul (USA): A local resident and 2024 finalist\, Paul is currently ranked in the Top 20 and is a heavy favorite for the title after a breakthrough 2025 season.\n\n\n\nFrances Tiafoe (USA): The 2018 champion and fan favorite returns to one of his most successful hunting grounds.\n\n\n\nThe Next Gen Stars: Keep an eye on Alex Michelsen and Learner Tien. Tien\, a rising American star\, won the Next Gen ATP Finals in December 2025 and is a dark horse to reach the finals here.\n\n\n\n\n\n\n\n\nPast Champions and Tournament History\n\n\n\nThe Delray Beach Open has a storied history of crowning legendary champions. The 2025 defending champion is Miomir Kecmanovic\, who secured a thrilling comeback victory over Alejandro Davidovich Fokina (3-6\, 6-1\, 7-5). \n\n\n\nNotable Past Singles Champions: \n\n\n\n\nTaylor Fritz (2023\, 2024)\n\n\n\nCameron Norrie (2022)\n\n\n\nHubert Hurkacz (2021)\n\n\n\nReilly Opelka (2020)\n\n\n\nFrances Tiafoe (2018)\n\n\n\nMarin Cilic (2014)\n\n\n\nJuan Martin del Potro (2011)\n\n\n\nKei Nishikori (2008 – Youngest winner at age 18)\n\n\n\n\n\n\n\n\nSpecial Events and Fan Experience\n\n\n\nWhat sets Delray Beach apart is its “Festival of Tennis” atmosphere. The DBO Food & Wine Series is a major draw\, featuring sold-out events like: \n\n\n\n\nBurgers\, Bourbon and Brew (Feb 18): Craft spirits paired with gourmet sliders.\n\n\n\nTacos\, Tequila and Tennis (Feb 19): A South Florida staple.\n\n\n\nGame\, Set\, Pour (Feb 20): The ultimate craft beer and wine tasting.\n\n\n\n\nBeyond the food\, the tournament honors the community with Military & First Responder Appreciation Day\, Senior Days\, and the USTA Florida Kids Day. Fans can also test their own skills at the BMW Interactive Fan Zone\, featuring speed-of-serve cages and racing simulators. \n\n\n\n\n\n\n\nHow to Watch\n\n\n\nFor those who cannot make it to the stadium\, the tournament is televised nationally on The Tennis Channel in the United States and distributed to over 135 countries worldwide. Whether watching from the front row or a screen across the globe\, the 2026 Delray Beach Open is set to be an unforgettable week of ATP tennis.
URL:https://tennistourcalendar.com/event/2026-delray-beach-open/
LOCATION:Delray Beach Tennis Center\, 201 W Atlantic Ave\, Delray Beach\, Florida\, 33444\, United States
CATEGORIES:ATP Tour
ATTACH;FMTTYPE=image/jpeg:https://tennistourcalendar.com/wp-content/uploads/2026/02/Delray-Beach-Open-Tennis.jpg
END:VEVENT
BEGIN:VEVENT
DTSTART;TZID=America/Santiago:20260221T000000
DTEND;TZID=America/Santiago:20260301T235959
DTSTAMP:20260422T072806
CREATED:20260225T004433Z
LAST-MODIFIED:20260225T004443Z
UID:3222-1771632000-1772409599@tennistourcalendar.com
SUMMARY:2026 Chile Open
DESCRIPTION:Updated on August 7\, 2025\n\n\nThe 2026 Chile Open\, officially known as the BCI Seguros Chile Open for sponsorship reasons\, returns to the scenic clay courts of Santiago as a cornerstone of the ATP 250 South American “Golden Swing.” Running from February 23 through March 1\, 2026\, this 27th edition of the tournament promises a high-stakes finale to the region’s clay-court season before the tour shifts to the hard courts of North America. \n\n\n\nSet against the majestic backdrop of the Andes Mountains\, the tournament is more than just a tennis event; it is a celebration of Chilean sporting culture\, featuring local heroes and international clay-court specialists vying for the prestigious copper trophy. \n\n\n\n\n\n\n\nTournament Essentials: Dates and Venue\n\n\n\nThe 2026 edition is hosted at the Club Deportivo Universidad Católica in the Las Condes district of Santiago. The center of the action is the Court Central Jaime Fillol\, named after the Chilean tennis legend. \n\n\n\n\nDates: February 23 – March 1\, 2026\n\n\n\nSurface: Outdoor Red Clay\n\n\n\nClassification: ATP 250\n\n\n\nVenue: Club Deportivo Universidad Católica (San Carlos de Apoquindo)\n\n\n\n\nThe high altitude of Santiago (approximately 500 meters above sea level) combined with the summer heat often makes the clay play faster than European counterparts\, favoring aggressive clay-courters who can control the lively ball. \n\n\n\n\n\n\n\nPrize Money and Ranking Points\n\n\n\nThe 2026 BCI Seguros Chile Open features a total financial commitment of USD 700\,045. Beyond the financial rewards\, players are competing for critical ranking points that can shift the balance of the mid-season standings. \n\n\n\nSingles Prize Money & Points\n\n\n\nRoundPrize Money (USD)ATP PointsWinner$106\,460250Finalist$62\,115165Semifinals$36\,520100Quarterfinals$21\,15550Round of 16$12\,28525Round of 32$7\,5100\n\n\n\nDoubles Prize Money & Points (Per Team)\n\n\n\nRoundPrize Money (USD)ATP PointsWinner$37\,030250Finalist$19\,900150Semifinals$11\,64090Quarterfinals$6\,45045Round of 16$3\,8100\n\n\n\n\n\n\n\nProvisional Schedule\n\n\n\nThe tournament follows a standard week-long format\, with the heat of the Chilean summer usually necessitating evening sessions for the marquee matches. \n\n\n\n\nMonday & Tuesday (Feb 23–24): First Round Singles and Doubles.\n\n\n\nWednesday & Thursday (Feb 25–26): Second Round (Round of 16) action.\n\n\n\nFriday (Feb 27): Quarterfinals Day – The field narrows to the final four.\n\n\n\nSaturday (Feb 28): Semifinals for Singles; Doubles Championship match.\n\n\n\nSunday (Mar 1): The Grand Finale – Singles Championship match.\n\n\n\n\n\n\n\n\nPlayer Field and Seeded Entrants\n\n\n\nThe 2026 entry list is dominated by South American powerhouses and seasoned European veterans. Argentina enters the tournament with significant momentum\, holding four of the top five seeds. \n\n\n\nSingles Seeds\n\n\n\nSeedPlayerATP Rank*1Francisco Cerundolo (ARG)192Luciano Darderi (ITA)213Sebastian Baez (ARG)324Camilo Ugo Carabelli (ARG)465Tomas Martin Etcheverry (ARG)516Matteo Berrettini (ITA)577Francisco Comesana (ARG)638Alejandro Tabilo (CHI)68\n\n\n\n\nNote on Withdrawals: Tomas Martin Etcheverry (Seed 5) unfortunately withdrew prior to his opening match citing fatigue following a deep run in Rio. He was replaced in the draw by Lucky Loser Vilius Gaubas. \n\n\n\n\nDoubles Seeds\n\n\n\nThe doubles draw features high-ranking specialists and interesting cross-national pairings. \n\n\n\n\nGonzalez / Molteni (Rank 55)\n\n\n\nLuz / Matos (Rank 75)\n\n\n\nDemoliner / Romboli (Rank 126)\n\n\n\nGille / Verbeek (Rank 127)\n\n\n\n\nEarly withdrawal: The team of Darderi / Tabilo withdrew due to Tabilo’s fatigue\, replaced by the alternate pair J. Cerundolo / H. Dellien. \n\n\n\n\n\n\n\nStorylines to Watch\n\n\n\n1. The Local Hope: Alejandro Tabilo\n\n\n\nWith the withdrawal of some top names\, the weight of a nation falls on Alejandro Tabilo. As the #8 seed and Chile’s primary hope in the absence of a fully fit Nicolas Jarry (who entered via wildcard)\, Tabilo’s left-handed variety is tailor-made for the Santiago clay. \n\n\n\n2. The Cerundolo Dominance\n\n\n\nFrancisco Cerundolo arrives as the top seed and the man to beat. His heavy forehand and improved consistency on clay make him the favorite to take home the copper trophy\, especially after a strong showing in Buenos Aires earlier this month. \n\n\n\n3. The Berrettini Factor\n\n\n\nFormer Wimbledon finalist Matteo Berrettini is the wildcard in more ways than one. While primarily known for his grass and hard-court prowess\, the Italian has been using the Golden Swing to build match fitness and ranking points. His massive serve and forehand are dangerous on any surface\, and his presence adds significant star power to the Santiago draw. \n\n\n\n4. The “Golden Swing” Conclusion\n\n\n\nFor many of these players\, Santiago represents the final opportunity to bank points on their preferred surface before the ATP Tour moves to the desert of Indian Wells. Expect high intensity as players fight for every point to secure better seeding for the upcoming Masters 1000 events. \n\n\n\n\n\n\n\nTournament Traditions: The Copper Trophy\n\n\n\nA unique aspect of the Chile Open is its trophy. Crafted from pure Chilean copper\, the award celebrates the country’s status as the world’s leading copper producer. The design is inspired by the jagged peaks of the Andes Mountains\, making it one of the most distinctive prizes on the ATP Tour. \n\n\n\nThe BCI Seguros Chile Open continues to be a vital pulse for tennis in South America\, blending world-class athleticism with the passionate atmosphere of the Santiago crowd. Whether it’s a veteran like Berrettini finding his footing or a local star like Tabilo rising to the occasion\, the 2026 edition is set to be a classic.
URL:https://tennistourcalendar.com/event/2026-chile-open/
LOCATION:Estadio San Carlos de Apoquindo\, Cv Las Flores 13000\, Las Condes\, Región Metropolitana\, Chile
CATEGORIES:ATP Tour
ATTACH;FMTTYPE=image/jpeg:https://tennistourcalendar.com/wp-content/uploads/2026/02/Chile-Open-Tennis.jpg
END:VEVENT
END:VCALENDAR