BEGIN:VCALENDAR
VERSION:2.0
PRODID:-//Tennis Tour Calendar - ECPv6.15.20//NONSGML v1.0//EN
CALSCALE:GREGORIAN
METHOD:PUBLISH
X-ORIGINAL-URL:https://tennistourcalendar.com
X-WR-CALDESC:Events for Tennis Tour Calendar
REFRESH-INTERVAL;VALUE=DURATION:PT1H
X-Robots-Tag:noindex
X-PUBLISHED-TTL:PT1H
BEGIN:VTIMEZONE
TZID:America/Santiago
BEGIN:STANDARD
TZOFFSETFROM:-0300
TZOFFSETTO:-0400
TZNAME:-04
DTSTART:20250406T030000
END:STANDARD
BEGIN:DAYLIGHT
TZOFFSETFROM:-0400
TZOFFSETTO:-0300
TZNAME:-03
DTSTART:20250907T040000
END:DAYLIGHT
BEGIN:STANDARD
TZOFFSETFROM:-0300
TZOFFSETTO:-0400
TZNAME:-04
DTSTART:20260405T030000
END:STANDARD
BEGIN:DAYLIGHT
TZOFFSETFROM:-0400
TZOFFSETTO:-0300
TZNAME:-03
DTSTART:20260906T040000
END:DAYLIGHT
BEGIN:STANDARD
TZOFFSETFROM:-0300
TZOFFSETTO:-0400
TZNAME:-04
DTSTART:20270404T030000
END:STANDARD
BEGIN:DAYLIGHT
TZOFFSETFROM:-0400
TZOFFSETTO:-0300
TZNAME:-03
DTSTART:20270905T040000
END:DAYLIGHT
END:VTIMEZONE
BEGIN:VEVENT
DTSTART;TZID=America/Santiago:20260221T000000
DTEND;TZID=America/Santiago:20260301T235959
DTSTAMP:20260422T083756
CREATED:20260225T004433Z
LAST-MODIFIED:20260225T004443Z
UID:3222-1771632000-1772409599@tennistourcalendar.com
SUMMARY:2026 Chile Open
DESCRIPTION:Updated on August 7\, 2025\n\n\nThe 2026 Chile Open\, officially known as the BCI Seguros Chile Open for sponsorship reasons\, returns to the scenic clay courts of Santiago as a cornerstone of the ATP 250 South American “Golden Swing.” Running from February 23 through March 1\, 2026\, this 27th edition of the tournament promises a high-stakes finale to the region’s clay-court season before the tour shifts to the hard courts of North America. \n\n\n\nSet against the majestic backdrop of the Andes Mountains\, the tournament is more than just a tennis event; it is a celebration of Chilean sporting culture\, featuring local heroes and international clay-court specialists vying for the prestigious copper trophy. \n\n\n\n\n\n\n\nTournament Essentials: Dates and Venue\n\n\n\nThe 2026 edition is hosted at the Club Deportivo Universidad Católica in the Las Condes district of Santiago. The center of the action is the Court Central Jaime Fillol\, named after the Chilean tennis legend. \n\n\n\n\nDates: February 23 – March 1\, 2026\n\n\n\nSurface: Outdoor Red Clay\n\n\n\nClassification: ATP 250\n\n\n\nVenue: Club Deportivo Universidad Católica (San Carlos de Apoquindo)\n\n\n\n\nThe high altitude of Santiago (approximately 500 meters above sea level) combined with the summer heat often makes the clay play faster than European counterparts\, favoring aggressive clay-courters who can control the lively ball. \n\n\n\n\n\n\n\nPrize Money and Ranking Points\n\n\n\nThe 2026 BCI Seguros Chile Open features a total financial commitment of USD 700\,045. Beyond the financial rewards\, players are competing for critical ranking points that can shift the balance of the mid-season standings. \n\n\n\nSingles Prize Money & Points\n\n\n\nRoundPrize Money (USD)ATP PointsWinner$106\,460250Finalist$62\,115165Semifinals$36\,520100Quarterfinals$21\,15550Round of 16$12\,28525Round of 32$7\,5100\n\n\n\nDoubles Prize Money & Points (Per Team)\n\n\n\nRoundPrize Money (USD)ATP PointsWinner$37\,030250Finalist$19\,900150Semifinals$11\,64090Quarterfinals$6\,45045Round of 16$3\,8100\n\n\n\n\n\n\n\nProvisional Schedule\n\n\n\nThe tournament follows a standard week-long format\, with the heat of the Chilean summer usually necessitating evening sessions for the marquee matches. \n\n\n\n\nMonday & Tuesday (Feb 23–24): First Round Singles and Doubles.\n\n\n\nWednesday & Thursday (Feb 25–26): Second Round (Round of 16) action.\n\n\n\nFriday (Feb 27): Quarterfinals Day – The field narrows to the final four.\n\n\n\nSaturday (Feb 28): Semifinals for Singles; Doubles Championship match.\n\n\n\nSunday (Mar 1): The Grand Finale – Singles Championship match.\n\n\n\n\n\n\n\n\nPlayer Field and Seeded Entrants\n\n\n\nThe 2026 entry list is dominated by South American powerhouses and seasoned European veterans. Argentina enters the tournament with significant momentum\, holding four of the top five seeds. \n\n\n\nSingles Seeds\n\n\n\nSeedPlayerATP Rank*1Francisco Cerundolo (ARG)192Luciano Darderi (ITA)213Sebastian Baez (ARG)324Camilo Ugo Carabelli (ARG)465Tomas Martin Etcheverry (ARG)516Matteo Berrettini (ITA)577Francisco Comesana (ARG)638Alejandro Tabilo (CHI)68\n\n\n\n\nNote on Withdrawals: Tomas Martin Etcheverry (Seed 5) unfortunately withdrew prior to his opening match citing fatigue following a deep run in Rio. He was replaced in the draw by Lucky Loser Vilius Gaubas. \n\n\n\n\nDoubles Seeds\n\n\n\nThe doubles draw features high-ranking specialists and interesting cross-national pairings. \n\n\n\n\nGonzalez / Molteni (Rank 55)\n\n\n\nLuz / Matos (Rank 75)\n\n\n\nDemoliner / Romboli (Rank 126)\n\n\n\nGille / Verbeek (Rank 127)\n\n\n\n\nEarly withdrawal: The team of Darderi / Tabilo withdrew due to Tabilo’s fatigue\, replaced by the alternate pair J. Cerundolo / H. Dellien. \n\n\n\n\n\n\n\nStorylines to Watch\n\n\n\n1. The Local Hope: Alejandro Tabilo\n\n\n\nWith the withdrawal of some top names\, the weight of a nation falls on Alejandro Tabilo. As the #8 seed and Chile’s primary hope in the absence of a fully fit Nicolas Jarry (who entered via wildcard)\, Tabilo’s left-handed variety is tailor-made for the Santiago clay. \n\n\n\n2. The Cerundolo Dominance\n\n\n\nFrancisco Cerundolo arrives as the top seed and the man to beat. His heavy forehand and improved consistency on clay make him the favorite to take home the copper trophy\, especially after a strong showing in Buenos Aires earlier this month. \n\n\n\n3. The Berrettini Factor\n\n\n\nFormer Wimbledon finalist Matteo Berrettini is the wildcard in more ways than one. While primarily known for his grass and hard-court prowess\, the Italian has been using the Golden Swing to build match fitness and ranking points. His massive serve and forehand are dangerous on any surface\, and his presence adds significant star power to the Santiago draw. \n\n\n\n4. The “Golden Swing” Conclusion\n\n\n\nFor many of these players\, Santiago represents the final opportunity to bank points on their preferred surface before the ATP Tour moves to the desert of Indian Wells. Expect high intensity as players fight for every point to secure better seeding for the upcoming Masters 1000 events. \n\n\n\n\n\n\n\nTournament Traditions: The Copper Trophy\n\n\n\nA unique aspect of the Chile Open is its trophy. Crafted from pure Chilean copper\, the award celebrates the country’s status as the world’s leading copper producer. The design is inspired by the jagged peaks of the Andes Mountains\, making it one of the most distinctive prizes on the ATP Tour. \n\n\n\nThe BCI Seguros Chile Open continues to be a vital pulse for tennis in South America\, blending world-class athleticism with the passionate atmosphere of the Santiago crowd. Whether it’s a veteran like Berrettini finding his footing or a local star like Tabilo rising to the occasion\, the 2026 edition is set to be a classic.
URL:https://tennistourcalendar.com/event/2026-chile-open/
LOCATION:Estadio San Carlos de Apoquindo\, Cv Las Flores 13000\, Las Condes\, Región Metropolitana\, Chile
CATEGORIES:ATP Tour
ATTACH;FMTTYPE=image/jpeg:https://tennistourcalendar.com/wp-content/uploads/2026/02/Chile-Open-Tennis.jpg
END:VEVENT
END:VCALENDAR