BEGIN:VCALENDAR
VERSION:2.0
PRODID:-//Tennis Tour Calendar - ECPv6.15.20//NONSGML v1.0//EN
CALSCALE:GREGORIAN
METHOD:PUBLISH
X-ORIGINAL-URL:https://tennistourcalendar.com
X-WR-CALDESC:Events for Tennis Tour Calendar
REFRESH-INTERVAL;VALUE=DURATION:PT1H
X-Robots-Tag:noindex
X-PUBLISHED-TTL:PT1H
BEGIN:VTIMEZONE
TZID:America/Chicago
BEGIN:DAYLIGHT
TZOFFSETFROM:-0600
TZOFFSETTO:-0500
TZNAME:CDT
DTSTART:20250309T080000
END:DAYLIGHT
BEGIN:STANDARD
TZOFFSETFROM:-0500
TZOFFSETTO:-0600
TZNAME:CST
DTSTART:20251102T070000
END:STANDARD
BEGIN:DAYLIGHT
TZOFFSETFROM:-0600
TZOFFSETTO:-0500
TZNAME:CDT
DTSTART:20260308T080000
END:DAYLIGHT
BEGIN:STANDARD
TZOFFSETFROM:-0500
TZOFFSETTO:-0600
TZNAME:CST
DTSTART:20261101T070000
END:STANDARD
BEGIN:DAYLIGHT
TZOFFSETFROM:-0600
TZOFFSETTO:-0500
TZNAME:CDT
DTSTART:20270314T080000
END:DAYLIGHT
BEGIN:STANDARD
TZOFFSETFROM:-0500
TZOFFSETTO:-0600
TZNAME:CST
DTSTART:20271107T070000
END:STANDARD
END:VTIMEZONE
BEGIN:VEVENT
DTSTART;TZID=America/Chicago:20260328T000000
DTEND;TZID=America/Chicago:20260405T235959
DTSTAMP:20260423T045833
CREATED:20260303T074948Z
LAST-MODIFIED:20260303T125450Z
UID:3328-1774656000-1775433599@tennistourcalendar.com
SUMMARY:2026 U.S. Men's Clay Court Championships
DESCRIPTION:The U.S. Men’s Clay Court Championships\, held annually in Houston\, Texas\, stands as a unique fixture on the ATP Tour. As the only ATP Tour-level event in the United States played on clay\, it offers a distinct transition for players shifting from the hard-court season toward the European red clay swing. The 2026 edition promises to continue its long-standing tradition of high-intensity tennis and Southern hospitality. \n\n\n\nTournament Overview and Venue\n\n\n\nThe 2026 U.S. Men’s Clay Court Championships will take place at the historic River Oaks Country Club. Known for its intimate atmosphere and meticulously maintained maroon-colored clay courts\, the venue has hosted this prestigious event since 2008. The tournament is part of the ATP 250 series\, providing a crucial opportunity for specialists and rising stars to earn valuable ranking points early in the clay season. \n\n\n\n2026 Dates and Provisional Schedule\n\n\n\nThe tournament is scheduled to run from March 28 to April 5\, 2026. Based on the provisional schedule\, the action begins with qualifying rounds to determine the final entrants into the main draw. \n\n\n\n\nMarch 28–29: Qualifying First Round and Final Round (11:00 AM start)\n\n\n\nMarch 30–31: Singles and Doubles First Round\n\n\n\nApril 1–2: Round of 16 (Singles Second Round) and Doubles Quarterfinals\n\n\n\nApril 3: Singles Quarterfinals and Doubles Semifinals\n\n\n\nApril 4: Singles Semifinals (2:00 PM) and Doubles Semifinal (12:00 PM)\n\n\n\nApril 5: Championship Sunday featuring the Doubles Final (12:00 PM) followed by the Singles Final (2:30 PM)\n\n\n\n\n\nFull Schedule\n\n\n\n\nTournament Points and Prize Money\n\n\n\nThe 2026 U.S. Men’s Clay Court Championships features a total financial commitment of $700\,045. As an ATP 250 event\, the tournament offers significant ranking points that can shift a player’s standing heading into the European clay season. \n\n\n\nBelow is the detailed breakdown of the distribution for both the Singles and Doubles draws: \n\n\n\nSingles Draw\n\n\n\nCompetitors in the singles main draw and qualifying rounds earn points and prize money based on their furthest round reached: \n\n\n\nRoundPointsPrize MoneyWinner250$106\,460Finals165$62\,115Semifinals (SF)100$36\,520Quarterfinals50$21\,155Round of 1625$12\,285Round of 280$7\,510Qualifier13$0Qualifier 27$3\,755Qualifier 10$2\,050\n\n\n\n\n\n\n\nDoubles Draw\n\n\n\nPrize money for doubles is awarded per team: \n\n\n\nRoundPointsPrize MoneyWinner250$37\,030Finals150$19\,900Semifinals (SF)90$11\,640Quarterfinals45$6\,450Round of 160$3\,810\n\n\n\n\n\n\n\n\nNote: The “Round of 28” refers to the first-round losers in the 28-player singles main draw. While these players do not receive ATP ranking points\, they receive a guaranteed payout for their participation in the opening round. \n\n\n\n\nThe 2026 Player Field\n\n\n\nThe 2026 entry list features a strong contingent of American talent\, highlighting the depth of U.S. men’s tennis. Fans can expect to see high-profile names and explosive athletes competing for the title. Notable players headlined in the initial field include: \n\n\n\n\nBen Shelton: Known for his massive serve and athletic baseline play.\n\n\n\nTommy Paul: A versatile competitor with excellent movement on dirt.\n\n\n\nFrances Tiafoe: A former champion in Houston who thrives in the River Oaks atmosphere.\n\n\n\nRising Stars: The field also includes young talents like Alex Michelsen and Learner Tien\, alongside established names like Brandon Nakashima\, Reilly Opelka\, and Jenson Brooksby.\n\n\n\n\n\nComplete Player Field\n\n\n\n\nTournament History and Surface\n\n\n\nUnlike the traditional red clay found at Roland Garros\, the “Har-Tru” or maroon clay in Houston plays slightly faster\, allowing big servers and aggressive baseliners to remain highly competitive. The event dates back to 1910\, making it one of the oldest tennis tournaments in the United States. Winning here is considered a badge of honor\, joining a list of former champions that includes legends like Andre Agassi\, Jimmy Connors\, and Andy Roddick. \n\n\n\nChampions Gallery\n\n\n\nThis section is reserved for updates following the conclusion of the 2026 tournament. \n\n\n\n\n2025 Singles Champion: Jenson Brooksby (USA)\n\n\n\n2025 Doubles Champions: Fernando Romboli (BRA) / John-Patrick Smith (AUS)\n\n\n\n2026 Singles Champion: TBD\n\n\n\n2026 Doubles Champions: TBD
URL:https://tennistourcalendar.com/event/2026-u-s-mens-clay-court-championships/
LOCATION:River Oaks Country Club\, 1600 River Oaks Blvd\, Houston\, Texas\, 77019\, United States
CATEGORIES:ATP Tour
ATTACH;FMTTYPE=image/jpeg:https://tennistourcalendar.com/wp-content/uploads/2026/03/U.S.-Mens-Clay-Court-Championships.jpg
END:VEVENT
END:VCALENDAR