BEGIN:VCALENDAR
VERSION:2.0
PRODID:-//Tennis Tour Calendar - ECPv6.15.20//NONSGML v1.0//EN
CALSCALE:GREGORIAN
METHOD:PUBLISH
X-ORIGINAL-URL:https://tennistourcalendar.com
X-WR-CALDESC:Events for Tennis Tour Calendar
REFRESH-INTERVAL;VALUE=DURATION:PT1H
X-Robots-Tag:noindex
X-PUBLISHED-TTL:PT1H
BEGIN:VTIMEZONE
TZID:America/Chicago
BEGIN:DAYLIGHT
TZOFFSETFROM:-0600
TZOFFSETTO:-0500
TZNAME:CDT
DTSTART:20250309T080000
END:DAYLIGHT
BEGIN:STANDARD
TZOFFSETFROM:-0500
TZOFFSETTO:-0600
TZNAME:CST
DTSTART:20251102T070000
END:STANDARD
BEGIN:DAYLIGHT
TZOFFSETFROM:-0600
TZOFFSETTO:-0500
TZNAME:CDT
DTSTART:20260308T080000
END:DAYLIGHT
BEGIN:STANDARD
TZOFFSETFROM:-0500
TZOFFSETTO:-0600
TZNAME:CST
DTSTART:20261101T070000
END:STANDARD
BEGIN:DAYLIGHT
TZOFFSETFROM:-0600
TZOFFSETTO:-0500
TZNAME:CDT
DTSTART:20270314T080000
END:DAYLIGHT
BEGIN:STANDARD
TZOFFSETFROM:-0500
TZOFFSETTO:-0600
TZNAME:CST
DTSTART:20271107T070000
END:STANDARD
END:VTIMEZONE
BEGIN:VTIMEZONE
TZID:Europe/Amsterdam
BEGIN:DAYLIGHT
TZOFFSETFROM:+0100
TZOFFSETTO:+0200
TZNAME:CEST
DTSTART:20250330T010000
END:DAYLIGHT
BEGIN:STANDARD
TZOFFSETFROM:+0200
TZOFFSETTO:+0100
TZNAME:CET
DTSTART:20251026T010000
END:STANDARD
BEGIN:DAYLIGHT
TZOFFSETFROM:+0100
TZOFFSETTO:+0200
TZNAME:CEST
DTSTART:20260329T010000
END:DAYLIGHT
BEGIN:STANDARD
TZOFFSETFROM:+0200
TZOFFSETTO:+0100
TZNAME:CET
DTSTART:20261025T010000
END:STANDARD
BEGIN:DAYLIGHT
TZOFFSETFROM:+0100
TZOFFSETTO:+0200
TZNAME:CEST
DTSTART:20270328T010000
END:DAYLIGHT
BEGIN:STANDARD
TZOFFSETFROM:+0200
TZOFFSETTO:+0100
TZNAME:CET
DTSTART:20271031T010000
END:STANDARD
END:VTIMEZONE
BEGIN:VEVENT
DTSTART;TZID=America/Chicago:20260207T000000
DTEND;TZID=America/Chicago:20260215T235959
DTSTAMP:20260426T074529
CREATED:20260118T142227Z
LAST-MODIFIED:20260118T155305Z
UID:2588-1770422400-1771199999@tennistourcalendar.com
SUMMARY:2026 Nexo Dallas Open
DESCRIPTION:The 2026 Nexo Dallas Open marks the dawn of a new era for tennis in Texas. Now officially upgraded to an ATP 500 event\, the tournament has evolved from a respected 250-level stop into one of the premier indoor hard-court events on the global calendar. \n\n\n\nThis year’s edition promises to be the biggest yet\, featuring a massive increase in prize money\, a star-studded player field\, and a return to the spectacular Ford Center at The Star in Frisco. As the only indoor ATP Tour event in the United States\, the Dallas Open offers a unique\, electrifying atmosphere that blends elite sports with high-end Texas hospitality. \n\n\n\nBelow is your complete guide to the 2026 tournament\, including the provisional schedule\, player field analysis\, prize money breakdown\, and a look back at past champions. \n\n\n\nTournament Fast Facts\n\n\n\nCategoryDetailsLevelATP 500 (Upgraded from ATP 250)DatesFebruary 7–15\, 2026Main Draw Size28 Singles / 16 DoublesSurfaceIndoor Hard (SportMaster)VenueFord Center at The Star (Frisco\, TX)Total Financial Commitment~$2\,833\,335 USDDefending ChampionDenis Shapovalov (CAN)\n\n\n\nThe Venue: A World-Class Stage\n\n\n\nThe tournament takes place at the Ford Center at The Star\, the world corporate headquarters and training facility of the NFL’s Dallas Cowboys. \n\n\n\nThe move from the SMU campus (Styslinger/Altec Tennis Complex) to the Ford Center was a game-changer initiated in 2025. The facility transforms a 12\,000-seat indoor football stadium into an intimate yet massive tennis arena. \n\n\n\n\nCapacity: The stadium holds approx. 6\,000–12\,000 fans for tennis (depending on configuration)\, triple the capacity of the previous venue.\n\n\n\nExperience: Fans can access “The Star District\,” a 91-acre campus filled with dining\, shopping\, and entertainment options just steps from the court.\n\n\n\nPremium Seating: New options include the Choctaw Club (courtside suites) and the Comfort Loge\, offering all-inclusive food and beverages—a standard befitting an ATP 500 event.\n\n\n\n\n2026 Player Field: The Stars Align\n\n\n\nThanks to the ATP 500 upgrade\, the 2026 field is arguably the strongest in the tournament’s history. The draw features a heavy concentration of top American talent alongside elite international stars. \n\n\n\nThe Contenders\n\n\n\n\n🇺🇸 Ben Shelton: The explosive American lefty returns as a top seed. Known for his blistering serve and charisma\, Shelton thrives in indoor conditions where his power is amplified.\n\n\n\n🇺🇸 Taylor Fritz: A consistent Top 10 presence\, Fritz is looking to add a home-soil ATP 500 title to his resume. His flat\, penetrating groundstrokes are perfectly suited for the Ford Center courts.\n\n\n\n🇳🇴 Casper Ruud: The former World No. 2 and multi-time Grand Slam finalist adds international prestige. Ruud reached the final here in 2025 and will be eager to go one step further this year.\n\n\n\n🇨🇦 Denis Shapovalov (Defending Champion): The Canadian produced a stunning run in 2025 to lift the trophy. His flashy lefty one-handed backhand makes him a fan favorite in Dallas.\n\n\n\n🇧🇬 Grigor Dimitrov: One of the most elegant players on tour\, Dimitrov’s veteran experience and variety make him a dangerous threat on fast indoor courts.\n\n\n\n\nOther Notable Entrants: \n\n\n\n\n🇺🇸 Tommy Paul (2024 Champion)\n\n\n\n🇪🇸 Alejandro Davidovich Fokina\n\n\n\n🇺🇸 Frances Tiafoe\n\n\n\n🇺🇸 Learner Tien (Next Gen Star)\n\n\n\n\nProvisional Schedule of Events\n\n\n\nNote: Times are subject to change. Check daily orders of play. \n\n\n\n\nSaturday\, Feb 7:\n\nQualifying Rounds: 10:00 AM Start.\n\n\n\n“All-American Classic” (Exhibition): 8:00 PM. Featuring legends John McEnroe and Andy Roddick vs. John Isner and Sam Querrey.\n\n\n\n\n\nSunday\, Feb 8:\n\nQualifying Finals: 12:00 PM Start.\n\n\n\nKids Weekend: Special activities for families.\n\n\n\n\n\nMonday\, Feb 9 – Thursday\, Feb 12:\n\nEarly Rounds (R32 & R16): Day sessions typically start at 12:00 PM; Night sessions at 7:00 PM.\n\n\n\n\n\nFriday\, Feb 13:\n\nQuarterfinals: 12:00 PM and 7:00 PM Sessions.\n\n\n\n\n\nSaturday\, Feb 14:\n\nSemifinals: 12:00 PM (Doubles/Singles) and 6:00 PM (Singles Feature).\n\n\n\n\n\nSunday\, Feb 15:\n\nFinals: Doubles Final at 1:00 PM\, followed by the Singles Final.\n\n\n\n\n\n\nPrize Money & Ranking Points\n\n\n\nThe jump to ATP 500 status brings a significant financial boost. The total prize money pool exceeds $2.8 million\, a sharp increase from the ~$800k offered in the ATP 250 era. \n\n\n\nResultPointsPrize Money (Est.)*Winner500~$516\,000Finalist330~$277\,000Semifinalist200~$148\,000Quarterfinalist100~$75\,000Round of 1650~$40\,000Round of 320~$22\,000\n\n\n\n*Figures are estimates based on standard ATP 500 distributions and 2025 data; subject to final confirmation by the tournament. \n\n\n\nPast Champions (Dallas Era)\n\n\n\nThe tournament relocated to Dallas in 2022 (previously the New York Open). Since landing in Texas\, it has seen a mix of giant servers and agile baseliners lift the trophy. \n\n\n\n\n2025: 🇨🇦 Denis Shapovalov def. 🇳🇴 Casper Ruud (6–4\, 6–4)\n\n\n\n2024: 🇺🇸 Tommy Paul def. 🇺🇸 Marcos Giron (7–6\, 5–7\, 6–3)\n\n\n\n2023: 🇨🇳 Wu Yibing def. 🇺🇸 John Isner (6–7\, 7–6\, 7–6)\n\nHistory Made: Wu saved 4 championship points to become the first Chinese player to win an ATP Tour title.\n\n\n\n\n\n2022: 🇺🇸 Reilly Opelka def. 🇺🇸 Jenson Brooksby (7–6\, 7–6)
URL:https://tennistourcalendar.com/event/2026-dallas-open/
LOCATION:Ford Center at The Star\, 9 Cowboys Way\, Frisco\, Texas\, 75034\, United States
CATEGORIES:ATP Tour
ATTACH;FMTTYPE=image/jpeg:https://tennistourcalendar.com/wp-content/uploads/2026/01/Dallas-Open.jpg
ORGANIZER;CN="Peter Lebedevs":MAILTO:plebedevs@gfsportsandentertainment.com
END:VEVENT
BEGIN:VEVENT
DTSTART;TZID=Europe/Amsterdam:20260207T000000
DTEND;TZID=Europe/Amsterdam:20260215T235959
DTSTAMP:20260426T074529
CREATED:20260119T080657Z
LAST-MODIFIED:20260214T111437Z
UID:2616-1770422400-1771199999@tennistourcalendar.com
SUMMARY:2026 ABN AMRO Open
DESCRIPTION:Updated on January 22\, 2026\n\n\nThe tennis world turns its eyes to Rotterdam this February as the ABN AMRO Open celebrates its 53rd edition. Known as one of the most prestigious indoor tournaments on the ATP Tour\, this ATP 500 event consistently attracts a Grand Slam-calibre field to the Netherlands. From reigning champions to rising stars\, the 2026 edition promises high-octane action on the hard courts of the Rotterdam Ahoy. \n\n\n\n\n\n\n\nTournament Information\n\n\n\n\nTournament: ABN AMRO Open (53rd Edition)\n\n\n\nDates: February 7 – 15\, 2026\n\n\n\nLocation: Rotterdam\, Netherlands\n\n\n\nVenue: Rotterdam Ahoy\n\n\n\nSurface: Indoor Hard\n\n\n\nCategory: ATP 500 (Men’s)\, ITF 1 Series (Wheelchair)\n\n\n\nTotal Prize Pool: €2\,462\,660\n\n\n\n\nThe ABN AMRO Open is unique in its integration of able-bodied and wheelchair tennis\, hosting both tournaments simultaneously at the same venue. This inclusive approach has made it a favorite among players and fans alike. \n\n\n\nSchedule and Key Dates\n\n\n\nThe 2026 tournament kicks off with the qualifying rounds on the first weekend\, followed by main draw action. \n\n\n\n\nQualifying: Saturday\, Feb 7 – Sunday\, Feb 8\n\n\n\nMain Draw Starts: Monday\, Feb 9\n\n\n\nTheme Days:\n\nTasty Tuesday: Feb 10\n\n\n\nKids Day: Wednesday\, Feb 11\n\n\n\n#NextGen Day: Thursday\, Feb 12\n\n\n\n\n\nQuarterfinals: Friday\, Feb 13\n\n\n\nSemifinals: Saturday\, Feb 14 (Afternoon & Evening sessions)\n\n\n\nFinals: Sunday\, Feb 15\n\nDoubles Final: 1:00 PM\n\n\n\nSingles Final: 3:30 PM\n\n\n\n\n\n\nSee the full schedule here. \n\n\n\n\n\n\n\nPrize Money and Points Distribution\n\n\n\nThe 2026 edition features a total financial commitment of €2\,462\,660\, a 2.54% increase over 2025. The official breakdown for the ATP 500 event is as follows: \n\n\n\nSingles\n\n\n\nRoundPrize MoneyATP PointsWinner€460\,555500Finalist€247\,800330Semifinalist€132\,060200Quarterfinalist€67\,470100Round of 16€36\,01550Round of 32€19\,2050\n\n\n\nDoubles (Per Team)\n\n\n\nRoundPrize MoneyATP PointsWinner€151\,280500Finalist€80\,680300Semifinalist€40\,820180Quarterfinalist€20\,42090Round of 16€10\,5600\n\n\n\n\n\n\n\nHistory & Past Champions\n\n\n\nThe ABN AMRO Open has a storied history of champions\, with legends like Roger Federer\, Arthur Ashe\, and Stefan Edberg lifting the trophy. The last five years have seen a mix of established stars and new icons claiming the title. \n\n\n\nYearSingles ChampionRunner-UpScore2025Carlos Alcaraz (ESP)Alex de Minaur (AUS)6-4\, 3-6\, 6-22024Jannik Sinner (ITA)Alex de Minaur (AUS)7-5\, 6-42023Daniil MedvedevJannik Sinner (ITA)5-7\, 6-2\, 6-22022Felix Auger-Aliassime (CAN)Stefanos Tsitsipas (GRE)6-4\, 6-22021Andrey RublevMarton Fucsovics (HUN)7-6(4)\, 6-4\n\n\n\nFun Fact: Roger Federer holds the record for the most singles titles at this event with three victories (2005\, 2012\, 2018). \n\n\n\n\n\n\n\n2026 Champions (To Be Updated)\n\n\n\nThis section will be updated following the conclusion of the tournament on February 15\, 2026. \n\n\n\n\nMen’s Singles Champion: TBD\n\n\n\nMen’s Doubles Champions: TBD\n\n\n\nWheelchair Singles Champion (Men): TBD\n\n\n\nWheelchair Singles Champion (Women): TBD
URL:https://tennistourcalendar.com/event/2026-abn-amro-open/
LOCATION:Rotterdam Ahoy\, Ahoyweg 10\, Rotterdam\, 3084\, Netherlands
CATEGORIES:ATP Tour
ATTACH;FMTTYPE=image/jpeg:https://tennistourcalendar.com/wp-content/uploads/2026/01/ABN-AMRO-Open.jpg
END:VEVENT
END:VCALENDAR