BEGIN:VCALENDAR
VERSION:2.0
PRODID:-//Tennis Tour Calendar - ECPv6.15.20//NONSGML v1.0//EN
CALSCALE:GREGORIAN
METHOD:PUBLISH
X-WR-CALNAME:Tennis Tour Calendar
X-ORIGINAL-URL:https://tennistourcalendar.com
X-WR-CALDESC:Events for Tennis Tour Calendar
REFRESH-INTERVAL;VALUE=DURATION:PT1H
X-Robots-Tag:noindex
X-PUBLISHED-TTL:PT1H
BEGIN:VTIMEZONE
TZID:Europe/Paris
BEGIN:DAYLIGHT
TZOFFSETFROM:+0100
TZOFFSETTO:+0200
TZNAME:CEST
DTSTART:20240331T010000
END:DAYLIGHT
BEGIN:STANDARD
TZOFFSETFROM:+0200
TZOFFSETTO:+0100
TZNAME:CET
DTSTART:20241027T010000
END:STANDARD
BEGIN:DAYLIGHT
TZOFFSETFROM:+0100
TZOFFSETTO:+0200
TZNAME:CEST
DTSTART:20250330T010000
END:DAYLIGHT
BEGIN:STANDARD
TZOFFSETFROM:+0200
TZOFFSETTO:+0100
TZNAME:CET
DTSTART:20251026T010000
END:STANDARD
BEGIN:DAYLIGHT
TZOFFSETFROM:+0100
TZOFFSETTO:+0200
TZNAME:CEST
DTSTART:20260329T010000
END:DAYLIGHT
BEGIN:STANDARD
TZOFFSETFROM:+0200
TZOFFSETTO:+0100
TZNAME:CET
DTSTART:20261025T010000
END:STANDARD
END:VTIMEZONE
BEGIN:VEVENT
DTSTART;VALUE=DATE:20251027
DTEND;VALUE=DATE:20251103
DTSTAMP:20260422T074344
CREATED:20251028T161243Z
LAST-MODIFIED:20251102T163800Z
UID:1561-1761523200-1762127999@tennistourcalendar.com
SUMMARY:2025 Rolex Paris Masters
DESCRIPTION:The 2025 Rolex Paris Masters was a professional men’s tennis tournament played on indoor hard courts. It was the 53rd edition of this ATP Masters 1000 event on the 2025 ATP Tour. The tournament took place from 27 October to 2 November 2025. \nA significant change for the 2025 edition was the venue; the event was held at La Défense Arena in Paris\, marking its move from the former venue\, the Accor Arena\, where it had been held for many years. This move was set to be for a decade-long stay. The Rolex Paris Masters was the ninth and final ATP Masters 1000 event of the season. \nThe 2025 Rolex Paris Masters served as the final tournament of the regular men’s tennis season\, making it crucial for players vying for qualification spots in the season-ending Nitto ATP Finals in Turin. The tournament was also a key battleground for the World No. 1 ranking heading into the end-of-year championships\, with top seeds Carlos Alcaraz and Jannik Sinner involved in a tight race. \nTournament Details\n\nCategory: ATP Tour Masters 1000\nDates: 27 October – 2 November 2025\nSurface: Hard (indoor)\nLocation: Paris\, France\nVenue: La Défense Arena (New venue for 2025)\nDraw Size: 56 Singles / 24 Doubles\nTournament Director: Cédric Pioline\n\nChampions\nSingles\nJannik Sinner delivered a commanding\, pitch-perfect performance at the 2025 Rolex Paris Masters\, securing the coveted title and simultaneously achieving the ultimate prize: reclaiming the World No. 1 ranking. The 24-year-old Italian concluded his flawless week at the newly inaugurated La Défense Arena with a clinical victory over a resilient Félix Auger-Aliassime\, triumphing 6–4\, 7–6(7–4) in a final that showcased Sinner’s current indoor dominance. \nSinner’s victory was a feat of historical significance. Not only did it mark his first-ever Paris Masters title and the fifth ATP Masters 1000 crown of his career (his 23rd ATP Tour title overall)\, but he achieved the championship without dropping a single set throughout the tournament. This level of unbroken dominance made him the first player to win an ATP Masters 1000 event in straight sets since Carlos Alcaraz achieved the feat at Indian Wells in 2023. \nHis journey through the draw was highlighted by a stunning semi-final dismantling of the former champion\, Alexander Zverev. Sinner completely overwhelmed the German\, who was also battling physical discomfort\, in a shocking 6-0\, 6-1 rout. Zverev\, the defending champion from the 2024 edition\, was simply unable to compete with the Italian’s searing pace and consistency. \nDoubles\nThe doubles tournament at the 2025 Rolex Paris Masters concluded with an impressive victory for the Finnish-British duo of Harri Heliövaara and Henry Patten. The third seeds delivered a strong performance against the all-British pairing of Julian Cash and Lloyd Glasspool in the final\, winning 6–3\, 6–4 to secure their first-ever ATP Masters 1000 title as a team. This victory\, while a crowning moment for Heliövaara and Patten\, also ensured the dramatic race for the Year-End World No. 1 doubles team would continue into the Nitto ATP Finals. \nThe final was a high-stakes affair\, particularly for Lloyd Glasspool\, who entered the week as the newly-crowned World No. 1 in the doubles rankings. Cash and Glasspool\, a formidable team in 2025 with titles including the Canadian Masters and Wimbledon\, needed to lift the Paris trophy to guarantee the Year-End No. 1 honour. However\, the defeat meant the battle for the top spot would be carried forward to the Finals in Turin\, especially after rival Horacio Zeballos (partnering Marcel Granollers) exited in the second round\, allowing Glasspool to retain the top ranking for the time being. The top-seeded pair of Marcelo Arévalo and Mate Pavić were also in contention but withdrew before their first match. \n\nPrize Money and Points\nThe total prize money pool for the 2025 Rolex Paris Masters was €6\,128\,940. \nSingles Prize Money and ATP Ranking Points\n\n\n\nRound\nATP Ranking Points\nPrize Money (€)\n\n\n\n\nWinner\n1000\n€946\,610\n\n\nFinalist\n600\n€516\,925\n\n\nSemi-finalist\n400\n€282\,650\n\n\nQuarter-finalist\n200\n€154\,170\n\n\nRound of 16\n100\n€82\,465\n\n\nRound of 32\n50\n€44\,220\n\n\nRound of 64\n10\n€24\,500\n\n\nQualifying 2\n16\n€12\,550\n\n\nQualifying 1\n0\n€6\,750\n\n\n\nDoubles Prize Money and ATP Ranking Points (Per Team)\n\n\n\nRound\nATP Ranking Points\nPrize Money (€)\n\n\n\n\nWinner\n1000\n€290\,410\n\n\nFinalist\n600\n€157\,760\n\n\nSemi-finalist\n360\n€86\,600\n\n\nQuarter-finalist\n180\n€47\,810\n\n\nRound of 16\n90\n€26\,275\n\n\nRound of 28\n0\n€15\,350\n\n\n\nProvisional Schedule\nThe tournament officially spans seven days of main draw action\, running from Monday\, October 27\, through to the finals on Sunday\, November 2. Qualifying took place on the preceding Saturday and Sunday (October 25–26). \n\n\n\nDate\nMain Draw Rounds\nDaily Session Structure (Center Court)\n\n\n\n\nMonday\, Oct 27\nSingles First Round\, Doubles First Round\nDay session (Starts 11:00 AM)\, Night session (Starts from 7:00 PM)\n\n\nTuesday\, Oct 28\nSingles First Round\, Singles Second Round\, Doubles First Round\nDay session (Starts 11:00 AM)\, Night session (Not before 7:00 PM)\n\n\nWednesday\, Oct 29\nSingles Second Round\, Doubles Second Round\nDay session (Starts 11:00 AM)\, Night session (Not before 7:00 PM)\n\n\nThursday\, Oct 30\nSingles Round of 16 (1/8 Finals)\, Doubles Second Round\nDay session (Starts 11:00 AM)\, Night session (Not before 7:00 PM)\n\n\nFriday\, Oct 31\nSingles Quarter-finals\, Doubles Quarter-finals\nDay session (Starts 2:00 PM)\, Night session (Not before 7:00 PM)\n\n\nSaturday\, Nov 1\nSingles Semi-finals\, Doubles Semi-finals\nDay session (Starts 11:30 AM)\, with Singles Semi-finals starting at 2:00 PM (followed by a Doubles Semi-final not before 4:30 PM)\n\n\nSunday\, Nov 2\nSingles Final\, Doubles Final\nDay session (Starts 12:30 PM for Doubles Final\, Singles Final not before 3:00 PM)\n\n\n\nNote: The schedule details are provisional and subject to change based on match length and local time. \n\nPlayer Field\nThe 56-player singles main draw is composed of direct entries based on ranking\, wildcards\, and players who emerged from the qualifying rounds. The doubles draw consists of 24 teams. \nSingles Main Draw Entrants\nThe top seeds are as follows (rankings as of October 20\, 2025): \n\n\n\nSeed\nRank\nPlayer\nCountry\n\n\n\n\n1\n1\nCarlos Alcaraz\nSpain\n\n\n2\n2\nJannik Sinner\nItaly\n\n\n3\n3\nAlexander Zverev\nGermany\n\n\n4\n4\nTaylor Fritz\nUSA\n\n\n5\n6\nBen Shelton\nUSA\n\n\n6\n7\nAlex de Minaur\nAustralia\n\n\n7\n8\nLorenzo Musetti\nItaly\n\n\n8\n9\nCasper Ruud\nNorway\n\n\n9\n10\nFélix Auger-Aliassime\nCanada\n\n\n10\n13\nKaren Khachanov\nRussia\n\n\n11\n14\nDaniil Medvedev\nRussia\n\n\n12\n15\nAndrey Rublev\nRussia\n\n\n13\n16\nAlexander Bublik\nKazakhstan\n\n\n14\n17\nJiří Lehečka\nCzech Republic\n\n\n15\n18\nAlejandro Davidovich Fokina\nSpain\n\n\n16\n19\nJakub Menšík\nCzech Republic\n\n\n\nNote: Several players ranked in the Top 21 were seeded\, but higher-ranked players like Novak Djokovic (5)\, Jack Draper (11)\, and Holger Rune (12) withdrew prior to the tournament. \nWildcards (Singles Main Draw)\nFour main draw wildcards were issued\, with a notable inclusion of the Shanghai Masters finalists: \n\nTérence Atmane (FRA)\nArthur Cazaux (FRA)\nArthur Rinderknech (FRA)\nValentin Vacherot (MON)\n\nQualifiers (Singles Main Draw)\nThe players who successfully advanced through the qualifying rounds include: \n\nFrancisco Comesaña\nDamir Džumhur\nTomás Martín Etcheverry\nJacob Fearnley\nSebastian Korda\nEthan Quinn\nAleksandar Vukic\n\nDoubles Main Draw Seeds\nThe top eight seeded doubles teams received a bye into the second round: \n\n\n\nSeed\nTeam\nCountry\n\n\n\n\n1\nMarcelo Arévalo / Mate Pavić\nESA / CRO\n\n\n2\nJulian Cash / Lloyd Glasspool\nGBR / GBR\n\n\n3\nHarri Heliövaara / Henry Patten\nFIN / GBR\n\n\n4\nMarcel Granollers / Horacio Zeballos\nESP / ARG\n\n\n5\nKevin Krawietz / Tim Pütz\nGER / GER\n\n\n6\nJoe Salisbury / Neal Skupski\nGBR / GBR\n\n\n7\nSimone Bolelli / Andrea Vavassori\nITA / ITA\n\n\n8\nChristian Harrison / Evan King\nUSA / USA\n\n\n\nWildcards (Doubles Main Draw)\nWildcards were also granted to the following doubles teams: \n\nThéo Arribagé / Albano Olivetti\nGrigor Dimitrov / Nicolas Mahut (Marking Mahut’s final professional appearance)\nQuentin Halys / Pierre-Hugues Herbert
URL:https://tennistourcalendar.com/event/2025-rolex-paris-masters/
LOCATION:La Défense Arena\, 99 Jard. de l'Arche\, Nanterre\, 92000\, France
CATEGORIES:ATP Tour
ATTACH;FMTTYPE=image/jpeg:https://tennistourcalendar.com/wp-content/uploads/2025/10/Rolex-Paris-Masters.jpg
END:VEVENT
END:VCALENDAR