BEGIN:VCALENDAR
VERSION:2.0
PRODID:-//Tennis Tour Calendar - ECPv6.15.20//NONSGML v1.0//EN
CALSCALE:GREGORIAN
METHOD:PUBLISH
X-ORIGINAL-URL:https://tennistourcalendar.com
X-WR-CALDESC:Events for Tennis Tour Calendar
REFRESH-INTERVAL;VALUE=DURATION:PT1H
X-Robots-Tag:noindex
X-PUBLISHED-TTL:PT1H
BEGIN:VTIMEZONE
TZID:America/Los_Angeles
BEGIN:DAYLIGHT
TZOFFSETFROM:-0800
TZOFFSETTO:-0700
TZNAME:PDT
DTSTART:20250309T100000
END:DAYLIGHT
BEGIN:STANDARD
TZOFFSETFROM:-0700
TZOFFSETTO:-0800
TZNAME:PST
DTSTART:20251102T090000
END:STANDARD
BEGIN:DAYLIGHT
TZOFFSETFROM:-0800
TZOFFSETTO:-0700
TZNAME:PDT
DTSTART:20260308T100000
END:DAYLIGHT
BEGIN:STANDARD
TZOFFSETFROM:-0700
TZOFFSETTO:-0800
TZNAME:PST
DTSTART:20261101T090000
END:STANDARD
BEGIN:DAYLIGHT
TZOFFSETFROM:-0800
TZOFFSETTO:-0700
TZNAME:PDT
DTSTART:20270314T100000
END:DAYLIGHT
BEGIN:STANDARD
TZOFFSETFROM:-0700
TZOFFSETTO:-0800
TZNAME:PST
DTSTART:20271107T090000
END:STANDARD
END:VTIMEZONE
BEGIN:VEVENT
DTSTART;TZID=America/Los_Angeles:20260301T000000
DTEND;TZID=America/Los_Angeles:20260315T235959
DTSTAMP:20260422T042810
CREATED:20260225T014231Z
LAST-MODIFIED:20260225T014236Z
UID:3249-1772323200-1773619199@tennistourcalendar.com
SUMMARY:2026 BNP Paribas Open
DESCRIPTION:Updated on October 24\, 2025\n\n\nAs the calendar turns to March\, the eyes of the sporting world shift to the Coachella Valley. The 2026 BNP Paribas Open\, held at the iconic Indian Wells Tennis Garden\, is set to reaffirm its status as the “Fifth Grand Slam.” Spanning from March 4 to March 15\, 2026\, this 52nd edition for the men and 37th for the women combines the rugged beauty of the California desert with the high-octane intensity of world-class tennis. \n\n\n\nFrom a star-studded player field to a record-breaking projected prize pool\, here is everything you need to know about the 2026 edition of Tennis Paradise. \n\n\n\nTable of Contents[Open][Close]Tournament Dates & VenueProvisional Schedule: The Road to the FinalsPrize Money and Point DistributionATP & WTA Point BreakdownThe 2026 Player Field: Titans and Rising StarsThe Men’s DrawThe Women’s DrawPast Champions (2025 Recap)Ticket Information & Fan ExperienceWhy Indian Wells is DifferentSpotlight: The Titans of 2026Carlos Alcaraz: The History MakerJannik Sinner: The Defending ConsistencyStadium 1 Viewing Guide: Finding the Perfect SeatThe Battle for ShadeProximity and ViewsHidden Gem: Stadium 2\n\n\n\nTournament Dates & Venue\n\n\n\nThe tournament officially begins with qualifying rounds on March 1\, with the main draw action commencing on Wednesday\, March 4. \n\n\n\nThe venue\, the Indian Wells Tennis Garden\, remains one of the most technologically advanced and fan-friendly sporting complexes in the world. Featuring Stadium 1—the second-largest tennis stadium in the world—and 28 additional courts\, the facility offers unparalleled views of the San Jacinto Mountains. The tournament is played on outdoor hardcourts (Plexipave)\, known for a medium-slow speed that rewards both power and tactical consistency. \n\n\n\n\n\n\n\nProvisional Schedule: The Road to the Finals\n\n\n\nThe 2026 schedule follows the traditional 12-day main draw format\, ensuring that fans get a mix of singles\, doubles\, and the fan-favorite Mixed Doubles Invitational. \n\n\n\n\n2026 Indian Wells Open / BNP Paribas Open Complete Schedule\n\n\n\n\n\nMarch 1–3: Qualifying Rounds (The battle for main draw entry).\n\n\n\nMarch 4–5: Men’s and Women’s 1st Round.\n\n\n\nMarch 6–9: 2nd and 3rd Rounds (The arrival of the top 32 seeds).\n\n\n\nMarch 10–11: Round of 16 and Quarterfinals; Mixed Doubles begins.\n\n\n\nMarch 12: Quarterfinal Thursday.\n\n\n\nMarch 13: Women’s Singles Semifinals & Men’s Doubles Semifinals.\n\n\n\nMarch 14: Women’s Doubles Final & Men’s Singles Semifinals.\n\n\n\nMarch 15: Championship Sunday (Men’s and Women’s Singles Finals).\n\n\n\n\n\n\n\n\nPrize Money and Point Distribution\n\n\n\nWhile official figures for 2026 are often finalized just before the first serve\, industry experts estimate the total prize pool will exceed $19.5 million\, continuing the tournament’s trend of leading the way in equal pay for ATP and WTA athletes. Winners of the singles titles are expected to take home roughly $1.15 million each. \n\n\n\nATP & WTA Point Breakdown\n\n\n\nThe stakes are high for the rankings\, with 1\,000 points on the line for the champions. \n\n\n\nRoundMen’s Singles (ATP)Women’s Singles (WTA)Winner10001000Finalist650650Semifinalist400390Quarterfinalist200215Round of 16100120Round of 325065\n\n\n\n\n\n\n\nThe 2026 Player Field: Titans and Rising Stars\n\n\n\nThe 2026 entry list is a “Who’s Who” of tennis royalty. Both draws feature a mandatory entry for top-ranked players\, ensuring a depth of talent rarely seen outside of the four Majors. \n\n\n\nThe Men’s Draw\n\n\n\nWorld No. 1 Carlos Alcaraz enters as a top seed\, looking to reclaim the desert crown. He faces stiff competition from Jannik Sinner\, who continues his ascent at World No. 2\, and the evergreen Novak Djokovic\, who remains a threat on these slow hardcourts. \n\n\n\n\nWatch out for: Taylor Fritz and Ben Shelton\, the American hopefuls looking to secure a “home” win.\n\n\n\nNotable Withdrawal: Holger Rune has unfortunately withdrawn due to a left Achilles tendon injury.\n\n\n\n\nThe Women’s Draw\n\n\n\nThe WTA field is led by the powerhouse Aryna Sabalenka and the tactical brilliance of Iga Świątek. \n\n\n\n\nThe Wildcard Story: All eyes will be on the legendary Venus Williams\, who has been granted a wildcard for the 2026 edition\, adding a nostalgic and heroic layer to the tournament.\n\n\n\nNext Gen: Keep an eye on Mirra Andreeva and Victoria Mboko\, the youngsters expected to disrupt the veteran hierarchy.\n\n\n\n\n\n\n\n\nPast Champions (2025 Recap)\n\n\n\nTo understand the 2026 landscape\, one must look back at the 2025 victors who conquered the desert: \n\n\n\n\nMen’s Singles: Jack Draper\n\n\n\nWomen’s Singles: Mirra Andreeva\n\n\n\nThe 2025 edition was noted for its extreme heat during the first week\, which favored the more physically conditioned baseline grinders.\n\n\n\n\n\n\n\n\nTicket Information & Fan Experience\n\n\n\nTickets for the 2026 BNP Paribas Open range from Single Session tickets to Full Series packages. \n\n\n\n\nGround Passes: These remain the best value\, allowing fans to wander the smaller courts and see Top 10 players from just a few rows away.\n\n\n\nEvening Sessions: Known for their electric atmosphere\, these sessions under the desert stars are often the first to sell out.\n\n\n\nDigital Integration: The 2026 tournament features an enhanced mobile app for real-time scores\, practice court schedules\, and contactless dining orders.\n\n\n\n\n\n\n\n\nWhy Indian Wells is Different\n\n\n\nWhat separates Indian Wells from other tournaments is the “Practice Court Experience.” Unlike the Grand Slams where practice sessions can be crowded or restricted\, the Tennis Garden allows fans to stand right at the fence as their favorite players run drills. It’s an intimate look at the work that goes into being a pro. \n\n\n\nFurthermore\, the Mixed Doubles Invitational (running March 10–15) offers a rare chance to see superstars pair up in a format that prioritizes speed and entertainment\, making it a highlight for families and casual fans alike. \n\n\n\nAs we head into the 2026 BNP Paribas Open\, the stage is set for a historic fortnight of tennis. Whether you are there for the breathtaking desert sunsets or the 130-mph aces\, Indian Wells remains the pinnacle of the spring tennis season. \n\n\n\n\n\n\n\nSpotlight: The Titans of 2026\n\n\n\nAs we approach the 2026 BNP Paribas Open\, the narrative is dominated by a young superstar who has already rewritten the record books this season. \n\n\n\nCarlos Alcaraz: The History Maker\n\n\n\nCarlos Alcaraz enters Indian Wells as the undisputed man to beat. The 22-year-old Spaniard has had a dream start to 2026: \n\n\n\n\nCareer Grand Slam: In February 2026\, Alcaraz became the youngest man in history to complete the Career Grand Slam by winning his maiden Australian Open title\, defeating Novak Djokovic in a thrilling four-set final.\n\n\n\nDoha Dominance: He arrives in the desert fresh off a dominant title run at the Qatar Open\, where he dismantled the field without dropping a set in the final matches.\n\n\n\nThe Desert King? Alcaraz is defending minimal points at Indian Wells this year (due to a second-round exit last year)\, meaning he has a massive opportunity to extend his lead as World No. 1.\n\n\n\n\nJannik Sinner: The Defending Consistency\n\n\n\nThe World No. 2\, Jannik Sinner\, remains Alcaraz’s primary rival. While Sinner fell in an epic five-set semifinal to Djokovic in Melbourne earlier this year\, his hard-court game is perfectly suited for the gritty Indian Wells surface. Sinner’s ability to take the ball early makes him a nightmare for opponents in the thin desert air. \n\n\n\n\n\n\n\nStadium 1 Viewing Guide: Finding the Perfect Seat\n\n\n\nStadium 1 is a cathedral of tennis\, seating 16\,100 fans. However\, not all seats are created equal—especially when the desert sun is at its peak. \n\n\n\nThe Battle for Shade\n\n\n\nIn the early afternoon\, nearly every seat is exposed to the sun. If you’re looking to stay cool during a Day Session\, keep these sections in mind: \n\n\n\n\nThe Shady Side (South and West): Sections 116 through 128 (Southwest corner) are the first to receive shade as the sun dips behind the stadium structure.\n\n\n\nLate Afternoon Relief: By 3:00 PM\, sections 126–135 on the West sideline are usually fully shaded\, with the sun at your back—ideal for visibility.\n\n\n\nBudget Shade: If you have Loge or Grandstand tickets\, the higher rows of the 400-level (Sections 408-416) offer some relief earlier than the lower bowl because of the suite overhangs.\n\n\n\n\nProximity and Views\n\n\n\n\nPlayer Spotting: For the best view of the players’ benches and the tunnel where they enter\, look for seats in the Southwest corner (near Entry B).\n\n\n\nThe “TV View”: If you prefer the angle you see on television\, aim for the North or South Baselines. Seats directly behind the server allow you to truly appreciate the movement and speed of the ball.\n\n\n\nThe 360° Experience: Don’t spend the whole day in your seat! Head to the very top rows of the Grandstand for a few games. On a clear day\, you can see the entire Coachella Valley and the snow-capped peaks of the San Jacinto Mountains.\n\n\n\n\nHidden Gem: Stadium 2\n\n\n\nIf Stadium 1 is too crowded\, remember that a Stadium 1 ticket gives you access to the general admission areas of Stadium 2. This 8\,000-seat stadium is much more intimate\, and the world-famous Nobu restaurant is built directly into the concourse\, allowing you to eat world-class sushi while watching a top-tier match.
URL:https://tennistourcalendar.com/event/2026-bnp-paribas-open/
LOCATION:Indian Wells Tennis Garden\, 78-200 Miles Ave\, Indian Wells\, California\, 92210\, United States
CATEGORIES:ATP Tour,WTA Tour
ATTACH;FMTTYPE=image/jpeg:https://tennistourcalendar.com/wp-content/uploads/2026/02/BNP-Paribas-Open.jpg
END:VEVENT
END:VCALENDAR