BEGIN:VCALENDAR
VERSION:2.0
PRODID:-//Tennis Tour Calendar - ECPv6.15.20//NONSGML v1.0//EN
CALSCALE:GREGORIAN
METHOD:PUBLISH
X-ORIGINAL-URL:https://tennistourcalendar.com
X-WR-CALDESC:Events for Tennis Tour Calendar
REFRESH-INTERVAL;VALUE=DURATION:PT1H
X-Robots-Tag:noindex
X-PUBLISHED-TTL:PT1H
BEGIN:VTIMEZONE
TZID:Europe/Monaco
BEGIN:DAYLIGHT
TZOFFSETFROM:+0100
TZOFFSETTO:+0200
TZNAME:CEST
DTSTART:20250330T010000
END:DAYLIGHT
BEGIN:STANDARD
TZOFFSETFROM:+0200
TZOFFSETTO:+0100
TZNAME:CET
DTSTART:20251026T010000
END:STANDARD
BEGIN:DAYLIGHT
TZOFFSETFROM:+0100
TZOFFSETTO:+0200
TZNAME:CEST
DTSTART:20260329T010000
END:DAYLIGHT
BEGIN:STANDARD
TZOFFSETFROM:+0200
TZOFFSETTO:+0100
TZNAME:CET
DTSTART:20261025T010000
END:STANDARD
BEGIN:DAYLIGHT
TZOFFSETFROM:+0100
TZOFFSETTO:+0200
TZNAME:CEST
DTSTART:20270328T010000
END:DAYLIGHT
BEGIN:STANDARD
TZOFFSETFROM:+0200
TZOFFSETTO:+0100
TZNAME:CET
DTSTART:20271031T010000
END:STANDARD
END:VTIMEZONE
BEGIN:VEVENT
DTSTART;TZID=Europe/Monaco:20260404T000000
DTEND;TZID=Europe/Monaco:20260412T235959
DTSTAMP:20260422T025300
CREATED:20260317T035906Z
LAST-MODIFIED:20260317T035912Z
UID:3513-1775260800-1776038399@tennistourcalendar.com
SUMMARY:2026 Monte-Carlo Masters
DESCRIPTION:Updated on October 24\, 2025\n\n\nThe 2026 Rolex Monte-Carlo Masters is set to usher in the prestigious European clay-court season with its signature blend of high-stakes tennis and Mediterranean luxury. As the first ATP Masters 1000 event on dirt of the calendar year\, the tournament remains a cornerstone of the professional circuit\, celebrated for its history\, stunning vistas\, and the grueling physical demands of its red clay. \n\n\n\nTable of Contents[Open][Close]Tournament Essentials: Dates and VenueDefending Champions: A Look Back at 2025The Elite 2026 Player FieldExpected Prize Money and PointsComplete Provisional ScheduleA Century of Tradition\n\n\n\nTournament Essentials: Dates and Venue\n\n\n\nThe 2026 edition will take place from April 4 to April 12\, 2026. The venue is the legendary Monte-Carlo Country Club\, located at 155\, avenue Princesse Grace\, 06190 Roquebrune Cap Martin. While the tournament bears the name of Monte-Carlo\, it is famously situated just across the border in France\, offering a panoramic view of the Mediterranean Sea that has become iconic in the world of sports. \n\n\n\n\nCategory: ATP Masters 1000\n\n\n\nSurface: Outdoor Clay\n\n\n\nDraw Size: 56 Singles Players\n\n\n\nFormat: Best of 3 sets\n\n\n\nMain Showcourt: Court Rainier III\, boasting a capacity of 10\,200 seats.\n\n\n\n\nDefending Champions: A Look Back at 2025\n\n\n\nThe 2026 tournament will see Carlos Alcaraz return as the defending singles champion. In the 2025 final\, Alcaraz showcased his clay-court mastery by overcoming Italy’s Lorenzo Musetti. Despite dropping the opening set 3–6 to a clinical Musetti\, Alcaraz found another gear\, sweeping the next two sets 6–1\, 6–0 to claim his first title in the Principality. \n\n\n\nIn the doubles category\, the 2025 edition produced a historic and emotional result as Romain Arneodo and Manuel Guinard captured the title. Arneodo made history by becoming the first Monégasque player to win a title at his home tournament. They defeated the British duo of Julian Cash and Lloyd Glasspool in a thrilling match tie-break\, finishing 1–6\, 7–6(8)\, [10–8] after saving two championship points. \n\n\n\nThe Elite 2026 Player Field\n\n\n\nThe entry list for 2026 is a “who’s who” of modern tennis\, featuring a mix of established legends\, current top-ten stars\, and the most exciting young talents on the tour. \n\n\n\nThe Top Tier Contenders: \n\n\n\n\nCarlos Alcaraz (ESP): The defending champion and a favorite on any clay surface.\n\n\n\nJannik Sinner (ITA): Following a spectacular 2025\, Sinner enters Monte-Carlo looking to secure his first title here.\n\n\n\nNovak Djokovic (SRB): A two-time champion in Monte-Carlo\, Djokovic remains the ultimate benchmark for excellence on the dirt.\n\n\n\nAlexander Zverev (GER): A consistent threat in Masters 1000 events\, Zverev’s power game is well-suited for the slow Monte-Carlo clay.\n\n\n\nDaniil Medvedev: Though he famously dislikes the “dirt\,” Medvedev’s defensive prowess makes him a dangerous out for anyone.\n\n\n\nCasper Ruud (NOR): A two-time Roland Garros finalist\, Ruud’s heavy topspin is built for these courts.\n\n\n\n\nThe Full Direct Acceptance List: \n\n\n\nThe 2026 field includes 56 players\, with the following direct acceptances: \n\n\n\n\nInternational Stars: Alex de Minaur (AUS)\, Taylor Fritz (USA)\, Felix Auger-Aliassime (CAN)\, Alexander Bublik (KAZ)\, Grigor Dimitrov (BUL)\, Stefanos Tsitsipas (GRE)\, Hubert Hurkacz (POL)\, Andrey Rublev\, Karen Khachanov.\n\n\n\nNext-Gen & Rising Talents: Arthur Fils (FRA)\, Joao Fonseca (BRA)\, Jakub Mensik (CZE)\, Flavio Cobolli (ITA)\, Jack Draper (GBR).\n\n\n\nClay Specialists & Veterans: Lorenzo Musetti (ITA)\, Alejandro Davidovich Fokina (ESP)\, Francisco Cerundolo (ARG)\, Tomas Martin Etcheverry (ARG)\, Jaume Munar (ESP)\, Alejandro Tabilo (CHI)\, Sebastian Korda (USA)\, Gabriel Diallo (CAN)\, Denis Shapovalov (CAN)\, Alexei Popyrin (AUS)\, Fabian Marozsan (HUN)\, Zizou Bergs (BEL)\, Luciano Darderi (ITA)\, Adrian Mannarino (FRA)\, Frances Tiafoe (USA)\, Nuno Borges (POR)\, Jiri Lehecka (CZE)\, Tomas Machac (CZE)\, Tallon Griekspoor (NED)\, Marin Cilic (CRO)\, Arthur Rinderknech (FRA)\, Cameron Norrie (GBR)\, Corentin Moutet (FRA)\, and Ugo Humbert (FRA).\n\n\n\n\nExpected Prize Money and Points\n\n\n\nFor 2026\, the total financial commitment is announced at €6\,791\,465. While the final 2026 round-by-round breakdown is subject to minor adjustments\, players can expect rewards similar to the 2025 distribution\, which saw significant increases. \n\n\n\n2025 Singles Prize Money Breakdown (Reference): \n\n\n\n\nWinner: €946\,610\n\n\n\nFinalist: €516\,925\n\n\n\nSemi-finalist: €282\,650\n\n\n\nQuarter-finalist: €154\,170\n\n\n\nRound of 16: €82\,465\n\n\n\nRound of 32: €44\,220\n\n\n\nRound of 64: €24\,500\n\n\n\n\nWinners also receive 1\,000 ATP Rankings points\, making it a critical week for players aiming for the top spots in the world rankings. \n\n\n\nComplete Provisional Schedule\n\n\n\nThe tournament spans nine days\, starting with the intensity of the qualifying rounds and culminating in the “Super Sunday” finals. \n\n\n\n\nSaturday\, April 4: Qualifications (14 matches) – Starting from 11:00 am.\n\n\n\nSunday\, April 5: Qualifications and 1st Round (13 matches) – Starting from 11:00 am.\n\n\n\nMonday\, April 6: 1st Round (17 matches) – Starting from 11:00 am.\n\n\n\nTuesday\, April 7: 1st & 2nd Rounds (16 matches) – Starting from 11:00 am.\n\n\n\nWednesday\, April 8: 2nd & 3rd Rounds (17 matches) – Starting from 11:00 am.\n\n\n\nThursday\, April 9: 3rd Round (12 matches) – Starting from 11:00 am.\n\n\n\nFriday\, April 10: Quarter-Finals (8 matches) – Starting from 11:00 am.\n\n\n\nSaturday\, April 11: Semi-Finals (4 matches):\n\n1st Double: From 11:00 am.\n\n\n\n1st Single: Not before 1:30 pm.\n\n\n\n2nd Single: Not before 3:30 pm.\n\n\n\n2nd Double: Followed by the singles.\n\n\n\n\n\nSunday\, April 12: Final (2 matches):\n\n12:00 pm: Doubles Final.\n\n\n\n3:00 pm: Singles Final.\n\n\n\n\n\n\nA Century of Tradition\n\n\n\nFounded in 1897\, the Monte-Carlo Masters is one of the oldest and most storied tournaments in tennis history. It has been the playground for the sport’s greatest legends\, most notably Rafael Nadal\, who holds the record for the most titles at a single tournament with 11 victories in the Principality. The transition from the hard courts of the early season to the red clay of Monte-Carlo marks a shift in strategy\, favoring players with exceptional fitness\, patience\, and the ability to slide effectively into their shots. \n\n\n\nAs the 2026 edition approaches\, all eyes will be on the Monte-Carlo Country Club to see if Alcaraz can defend his crown or if a new “King of the Clay” will emerge in the shadow of the Prince’s Palace.
URL:https://tennistourcalendar.com/event/2026-monte-carlo-masters/
LOCATION:Monte Carlo Country Club\, 155 Av. Princesse Grâce\, Roquebrune-Cap-Martin\, 06190\, France
CATEGORIES:ATP Tour
ATTACH;FMTTYPE=image/jpeg:https://tennistourcalendar.com/wp-content/uploads/2026/03/Monte-Carlo-Masters.jpg
END:VEVENT
END:VCALENDAR