BEGIN:VCALENDAR
VERSION:2.0
PRODID:-//Tennis Tour Calendar - ECPv6.15.20//NONSGML v1.0//EN
CALSCALE:GREGORIAN
METHOD:PUBLISH
X-WR-CALNAME:Tennis Tour Calendar
X-ORIGINAL-URL:https://tennistourcalendar.com
X-WR-CALDESC:Events for Tennis Tour Calendar
REFRESH-INTERVAL;VALUE=DURATION:PT1H
X-Robots-Tag:noindex
X-PUBLISHED-TTL:PT1H
BEGIN:VTIMEZONE
TZID:Europe/Helsinki
BEGIN:DAYLIGHT
TZOFFSETFROM:+0200
TZOFFSETTO:+0300
TZNAME:EEST
DTSTART:20240331T010000
END:DAYLIGHT
BEGIN:STANDARD
TZOFFSETFROM:+0300
TZOFFSETTO:+0200
TZNAME:EET
DTSTART:20241027T010000
END:STANDARD
BEGIN:DAYLIGHT
TZOFFSETFROM:+0200
TZOFFSETTO:+0300
TZNAME:EEST
DTSTART:20250330T010000
END:DAYLIGHT
BEGIN:STANDARD
TZOFFSETFROM:+0300
TZOFFSETTO:+0200
TZNAME:EET
DTSTART:20251026T010000
END:STANDARD
BEGIN:DAYLIGHT
TZOFFSETFROM:+0200
TZOFFSETTO:+0300
TZNAME:EEST
DTSTART:20260329T010000
END:DAYLIGHT
BEGIN:STANDARD
TZOFFSETFROM:+0300
TZOFFSETTO:+0200
TZNAME:EET
DTSTART:20261025T010000
END:STANDARD
END:VTIMEZONE
BEGIN:VEVENT
DTSTART;VALUE=DATE:20250901
DTEND;VALUE=DATE:20250907
DTSTAMP:20260424T185912
CREATED:20250830T081311Z
LAST-MODIFIED:20250906T160851Z
UID:386-1756684800-1757203199@tennistourcalendar.com
SUMMARY:2025 Copa Sevilla
DESCRIPTION:The 2025 Copa Sevilla was a professional men’s tennis tournament taking place in Seville\, Spain\, from September 1 to 6\, 2025. This event was a part of the ATP Challenger Tour\, specifically a Challenger 125 event\, and was played on outdoor clay courts. The tournament was held at the Real Club de Tenis Betis\, and featured a total prize money of €181\,250. The competition consisted of a 32-player singles main draw and a 16-team doubles main draw.1“Copa Sevilla Overview”. atptour.com. Retrieved 30 August 2025. \nIn a thrilling three-set final\, Peru’s Ignacio Buse captured the Copa Sevilla championship by defeating Argentina’s Genaro Alberto Olivieri (6-3\, 3-6\, 6-3). The win secures Buse his second ATP Challenger Tour title of the year\, demonstrating a remarkable run of form after his previous victory at the Heilbronner Neckarcup in early June. \nTournament Details\n\n\n\nDate\n1–6 September\n\n\nEdition\n27th\n\n\nDraw\n32 Singles / 16 Doubles\n\n\nCategory\nChallenger 125\n\n\nPrize Money\n€181\,250\n\n\nSurface\nClay\n\n\nLocation\nSeville\, Spain\n\n\nVenue\nReal Club de Tenis Betis\n\n\n\nLinks\n\n\n\nATP Tournament Profile\n\n\nResults\nDraws\nSchedule\n\n\n\nChampions\n\n\n\nEvent\nChampion(s)\nRunner(s)-up\n\n\nMen’s Singles\n🇵🇪 Ignacio Buse\n🇦🇷 Genaro Alberto Olivieri\n\n\n6–3\, 3–6\, 6–3\n\n\nMen’s Doubles\n🇨🇿 Jonáš Forejtek\n🇨🇿 Dominik\n🇪🇸 Mario Mansilla Díez\n🇪🇸 Bruno Pujol Navarro\n\n\n2–6\, 6–3\, [10–5]\n\n\n\nPrize Money and Ranking Points\nThe 2025 Copa Sevilla offered a substantial prize fund and a significant number of ATP ranking points\, making it a highly sought-after title for players on the Challenger circuit. As a Challenger 125 event\, the breakdown of ranking points was as follows: \nSingles\n\n\n\nResult\nPrize Money\nRanking Points\n\n\nChampion\n€25\,740\n125\n\n\nRunner-up\n€15\,150\n64\n\n\nSemifinalist\n€9\,015\n35\n\n\nQuarterfinalist\n€5\,235\n16\n\n\nRound of 16\n€3\,055\n8\n\n\nRound of 32\n€1\,890\n0\n\n\nQualifier\n€0\n5\n\n\n\nDoubles (per team)\n\n\n\nResult\nPrize Money\nRanking Points\n\n\nChampion\n€9\,010\n125\n\n\nRunner-up\n€5\,220\n75\n\n\nSemifinalist\n€3\,140\n45\n\n\nQuarterfinalist\n€1\,840\n25\n\n\nRound of 16\n€1\,050\n0\n\n\n\nTournament History\n\nNestled in the heart of Andalusia\, the city of Seville has long been a hub for culture and sport. Among its many sporting traditions\, the Copa Sevilla stands out as a testament to the city’s enduring love for tennis. This Challenger-level tournament\, held annually at the Real Club de Tenis Betis\, has a rich and storied history that dates back several decades. \nWhile the exact origins of the tournament are a subject of some debate\, the Copa Sevilla as we know it today began to take shape in the late 20th century. Initially an ATP Challenger event\, it quickly gained a reputation as a stepping stone for rising tennis stars. The red clay courts of the Real Club de Tenis Betis have witnessed the early careers of numerous players who would go on to achieve great success on the ATP Tour. \nOver the years\, the Copa Sevilla has played host to a plethora of notable champions. In the past\, players like Albert Portas\, who won the 2001 German Open\, and Félix Mantilla\, a former top-10 player\, have graced the winner’s circle. More recently\, the tournament has seen the likes of Pablo Carreño Busta and Roberto Bautista Agut\, both of whom have gone on to have stellar careers\, lift the trophy. \nThe tournament’s enduring appeal lies not only in its rich history but also in its vibrant atmosphere. The passionate local fans\, known as Sevillanos\, create an electrifying environment\, cheering on their favorite players with an infectious enthusiasm. The combination of high-quality tennis and a festive\, welcoming atmosphere makes the Copa Sevilla a unique and memorable experience for both players and spectators alike. \nAs the years pass\, the Copa Sevilla continues to evolve\, adapting to the changing landscape of professional tennis while staying true to its roots. It remains a vital part of the ATP Challenger Tour\, providing a platform for the next generation of tennis talent to make their mark on the world stage. For anyone with a love for the sport\, the history of the Copa Sevilla is a fascinating story of a tournament that has played an important role in shaping the careers of many of the game’s finest players. \n\nVenue\nThe Real Club de Tenis Betis\, located in Seville\, is not just a sports club but a cornerstone of Spanish tennis history. Established in 1929 in the El Porvenir neighborhood\, it began as a humble facility on the city’s outskirts\, surrounded by industrial factories. However\, its trajectory was soon shaped by an unexpected influence. In the 1940s\, a wave of European expatriates who had settled in Seville after the Ibero-American Exposition revitalized the club’s social landscape. \nThis new cosmopolitan infusion created a unique\, liberal\, and family-oriented environment\, a rare and welcome contrast to the prevailing social hardships of the era. Beyond its status as a premier tennis destination\, the club became a cherished social hub where members could unwind. The facilities regularly hosted Seville’s top players\, who not only honed their skills on the courts but also socialized in the club’s lounges\, enjoying games of bridge and canasta. The club quickly became a favored retreat for the city’s high society\, drawn by its charm and exclusive atmosphere. \nOver its long and distinguished history\, the Real Club de Tenis Betis has cemented its legacy by hosting a multitude of prestigious tournaments. It has been the venue for the Spanish Absolute and Junior Championships\, the Andalusian Championships\, and a variety of other notable competitions. Its most celebrated event\, the Copa Sevilla\, has been held here for decades\, with the 2023 edition marking its 60th anniversary. Other historic tournaments such as the Winter Cup and the O’kean Cup have also graced its courts\, contributing to the club’s reputation as the most successful tennis club in Andalusia and one of the oldest in all of Spain. The club’s continued prominence attests to its rich heritage and ongoing commitment to the sport of tennis. \n\nReferences1“Copa Sevilla Overview”. atptour.com. Retrieved 30 August 2025.
URL:https://tennistourcalendar.com/event/2025-copa-sevilla/
LOCATION:Real Club de Tenis Betis\, Ramón Carande\, 4\, Seville\, 41013\, Spain
CATEGORIES:ATP Challenger Tour
ATTACH;FMTTYPE=image/jpeg:https://tennistourcalendar.com/wp-content/uploads/2025/08/Copa-Sevilla-Tennis.jpg
END:VEVENT
BEGIN:VEVENT
DTSTART;VALUE=DATE:20250901
DTEND;VALUE=DATE:20250908
DTSTAMP:20260424T185912
CREATED:20250829T075047Z
LAST-MODIFIED:20250908T023757Z
UID:372-1756684800-1757289599@tennistourcalendar.com
SUMMARY:2025 AON Open Challenger
DESCRIPTION:The 2025 AON Open Challenger – Memorial Giorgio Messina was a professional men’s tennis tournament taking place in Genoa\, Italy\, from September 1 to 7\, 2025. This event was a part of the ATP Challenger Tour\, specifically a Challenger 125 event\, and was played on outdoor clay courts. The tournament was held at the Valletta Cambiaso\, Stadio Beppe Croce\, and featured a total prize money of €181\,250. The competition consisted of a 32-player singles main draw and a 16-team doubles main draw.1“AON Open Challenger Overview”. atptour.com. Retrieved 29 August 2025.2“AON Open Challenger 2025 a Genova”. La Mia Liguria. Retrieved 29 August 2025. \nTournament Details\n\n\n\nDate\n1–7 September\n\n\nEdition\n21st\n\n\nDraw\n32 Singles / 16 Doubles\n\n\nCategory\nChallenger 125\n\n\nPrize Money\n€181\,250\n\n\nSurface\nClay\n\n\nLocation\nGenoa\, Italy\n\n\nVenue\nValletta Cambiaso\, Stadio Beppe Croce\n\n\n\nLinks\n\n\n\nATP Tournament Profile\n\n\nResults\nDraws\nSchedule\n\n\n\nChampions\n\n\n\nEvent\nChampion(s)\nRunner(s)-up\n\n\nMen’s Singles\n🇮🇹 Luciano Darderi\n🇮🇹 Andrea Pellegrino\n\n\n6–1\, 6–3\n\n\nMen’s Doubles\n🇳🇱 Mick Veldheer\n🇵🇱 Szymon Walków\n🇮🇹 Gianluca Cadenasso\n🇮🇹 Lorenzo Carboni\n\n\n3–6\, 6–4\, [10–7]\n\n\n\nPrize Money and Ranking Points\nThe AON Open Challenger offers a substantial prize fund and a significant number of ATP ranking points\, making it a highly sought-after title for players on the Challenger circuit. As a Challenger 125 event\, the breakdown of ranking points is as follows: \nSingles\n\n\n\nResult\nPrize Money\nRanking Points\n\n\nChampion\n€25\,740\n125\n\n\nRunner-up\n€15\,150\n64\n\n\nSemifinalist\n€9\,015\n35\n\n\nQuarterfinalist\n€5\,235\n16\n\n\nRound of 16\n€3\,055\n8\n\n\nRound of 32\n€1\,890\n0\n\n\nQualifier\n€0\n5\n\n\n\nDoubles (per team)\n\n\n\nResult\nPrize Money\nRanking Points\n\n\nChampion\n€9\,010\n125\n\n\nRunner-up\n€5\,220\n75\n\n\nSemifinalist\n€3\,140\n45\n\n\nQuarterfinalist\n€1\,840\n25\n\n\nRound of 16\n€1\,050\n0\n\n\n\nPlayer Field\nThe tournament draws a mix of established players\, former top-ranked players on the comeback trail\, and rising stars of the sport. The 2025 player field is expected to include notable competitors such as Luciano Darderi\, Borna Coric\, and Pedro Martinez\, among others. The presence of players with such high ATP rankings underscores the tournament’s prestige and the competitive level of the event. The tournament serves as an excellent opportunity for tennis fans to witness top-tier competition in a stunning location. \nHistory\nFounded in 2003\, the AON Open Challenger has been a staple of the ATP Challenger Tour for over two decades. The tournament\, also known as Memorial Giorgio Messina\, is named in memory of Giorgio Messina\, a key figure in the tournament’s history. The event has become a significant fixture on the ATP Challenger Tour calendar\, known for its rich history and role in developing emerging talent. It was notably recognized as the “Challenger of the Year” in 2014\, a testament to its high standards and strong organization. The tournament has been held annually with the exceptions of 2020 and 2021\, when it was canceled due to the global COVID-19 pandemic. \nOver the years\, the AON Open Challenger has welcomed many players who have gone on to achieve success on the ATP Tour\, including past champions such as Fabio Fognini\, Lorenzo Sonego\, and Stefanos Tsitsipas. The 2024 singles champion was Francesco Passaro\, while the doubles title was won by the team of Benjamin Hassan and David Vega Hernández. The event’s history reflects its importance as a stepping stone for players aiming to break into the top tiers of professional tennis. \nThe 2025 Tournament\nThe 2025 edition of the tournament is a Challenger 125 event\, which means the singles champion will be awarded 125 ranking points. This makes it one of the most prestigious events on the Challenger Tour\, attracting a high-caliber field of players. The total prize money for the event is €181\,250\, with specific distribution for singles and doubles players to be confirmed. The tournament is known for its vibrant and electric atmosphere\, reflecting the passionate culture of Genoa. \nThe tournament’s location\, the Valletta Cambiaso\, Stadio Beppe Croce\, is a historic and picturesque venue\, providing an ideal setting for high-level tennis. The city of Genoa itself\, with its rich history and beautiful Mediterranean location\, adds to the appeal of the event for both players and spectators. \nVenue\nThe AON Open Challenger is held at the historic Valletta Cambiaso\, Stadio Beppe Croce\, a venue that is much more than just a tennis club. Located in the beautiful city of Genoa\, the facility is nestled within the picturesque Parco di Valletta Cambiaso\, offering a stunning backdrop for the tournament. \nThe Stadio Beppe Croce\, the central court\, is a permanent tennis stadium and one of the few of its kind in Italy\, providing an intimate and electrifying atmosphere for fans. The venue has a rich history\, having previously hosted prestigious events like the Davis Cup. \nThe clay courts are meticulously maintained\, ensuring a high-quality playing surface that challenges the skills of the world’s best players. The entire complex\, with its clubhouse and other amenities\, combines a sense of historical tradition with the modern needs of a professional tennis tournament\, creating a truly memorable experience for players and spectators alike. \n\nReferences1“AON Open Challenger Overview”. atptour.com. Retrieved 29 August 2025.2“AON Open Challenger 2025 a Genova”. La Mia Liguria. Retrieved 29 August 2025.
URL:https://tennistourcalendar.com/event/2025-aon-open-challenger/
LOCATION:Valletta Cambiaso\, Stadio Beppe Croce\, Giardini Carlo Alberto Dalla Chiesa\, Via Luigi Pirandello\, 6\, Genova\, 16145\, Italy
CATEGORIES:ATP Challenger Tour
ATTACH;FMTTYPE=image/jpeg:https://tennistourcalendar.com/wp-content/uploads/2025/08/AON-Open-Challenger-Tennis.jpg
ORGANIZER;CN="Sergio Palmieri (Technical Director)":MAILTO:segreteria@challengergenova.com
END:VEVENT
BEGIN:VEVENT
DTSTART;VALUE=DATE:20250908
DTEND;VALUE=DATE:20250915
DTSTAMP:20260424T185912
CREATED:20250908T032706Z
LAST-MODIFIED:20250914T090018Z
UID:648-1757289600-1757894399@tennistourcalendar.com
SUMMARY:2025 Szczecin Open
DESCRIPTION:The 2025 Szczecin Open (also known as the Invest in Szczecin Open) was a professional men’s tennis tournament played on outdoor clay courts in Szczecin\, Poland. It was the 32nd edition of the tournament and was part of the ATP Challenger Tour. The event took place from September 8 to September 14\, 2025. The tournament was an ATP Challenger 125\, offering a total prize money of €181\,250 and 125 ranking points to the singles champion. \nTournament Details\n\n\n\n\nDate\n8–14 September\n\n\nEdition\n32nd\n\n\nDraw\n32 Singles / 16 Doubles\n\n\nCategory\nChallenger 125\n\n\nPrize Money\n€181\,250\n\n\nSurface\nClay\n\n\nLocation\nSzczecin\, Poland\n\n\nVenue\nAleja Wojska Polskiego 127\n\n\n\n\nTournament Links\n\n\n\nATP Tournament Profile\n\n\nResults\nDraws\nSchedule\n\n\n\nChampions\n\n\n\nEvent\nChampion(s)\nRunner(s)-up\n\n\nSingles\n🇦🇷 Thiago Agustín Tirante\n🇪🇸 Pablo Llamas Ruiz\n\n\nScore: 6–3\, 6–2\n\n\nDoubles\n🇺🇦 Denys Molchanov\n🇦🇹 David Pichler\nIvan Liutarevich\n🇪🇸 Bruno Pujol Navarro\n\n\nScore: 3–6\, 7–6(7–1)\, [10–6]\n\n\n\nPrize Money and Ranking Points\nSingles\n\n\n\nStage\nPrize Money (EUR)\nRanking Points\n\n\nWinner\n€25\,740\n125\n\n\nFinalist\n€15\,150\n64\n\n\nSemifinalists\n€9\,015\n35\n\n\nQuarterfinalists\n€5\,235\n16\n\n\nRound of 16\n€3\,055\n8\n\n\nRound of 32\n€1\,890\n0\n\n\n\nDoubles\n\n\n\nStage\nPrize Money (EUR)\nRanking Points\n\n\nWinner\n€9\,010\n125\n\n\nFinalist\n€5\,220\n75\n\n\nSemifinalists\n€3\,140\n45\n\n\nQuarterfinalists\n€1\,840\n25\n\n\nRound of 16\n€1\,050\n0\n\n\n\nTournament History\nThe Szczecin Open has a long and storied history\, dating back to 1993. It was initially held as a Satellite event before becoming a part of the ATP Challenger Tour in 1996. The tournament has grown in prominence over the decades\, attracting top players from around the world and establishing itself as one of Poland’s most significant tennis events. It was awarded the ATP Challenger of the Year title multiple times\, including in 2002\, 2016\, and 2019\, recognizing its excellent organization\, player facilities\, and fan experience. The tournament’s rich history has seen numerous future top-10 players and Grand Slam champions compete on its courts early in their careers. The event’s consistent success and high standards have solidified its place as a key stop on the ATP Challenger circuit. \nTournament Venue\nThe 2025 Szczecin Open was held at the courts located at Aleja Wojska Polskiego 127 in Szczecin. The venue is a well-regarded tennis facility known for its red clay courts. The primary show court\, Center Bohdan Tomaszewski\, served as the centerpiece for the most important matches\, providing a fantastic atmosphere for both players and spectators. The venue’s intimate setting allowed fans to get close to the action\, creating a vibrant and energetic environment throughout the week. In addition to the tennis matches\, the venue also hosted the PGU Tennis Music Festival\, featuring daily free live concerts\, adding to the festive and engaging atmosphere of the event. \n2025 Tournament\nThe 2025 edition of the Szczecin Open featured a 32-player singles main draw and a 16-team doubles main draw. The field was strong\, with several top-150 players from the ATP rankings vying for the title. The top seed in the singles draw was Vít Kopřiva\, the defending champion from the 2024 edition. Other seeded players included Thiago Agustín Tirante\, Francesco Passaro\, and Daniel Elahi Galán.
URL:https://tennistourcalendar.com/event/2025-szczecin-open/
LOCATION:Aleja Wojska Polskiego 127\, Szczecin\, Poland
CATEGORIES:ATP Challenger Tour
ATTACH;FMTTYPE=image/jpeg:https://tennistourcalendar.com/wp-content/uploads/2025/09/Szczecin-Open-Tennis.jpg
END:VEVENT
BEGIN:VEVENT
DTSTART;VALUE=DATE:20250922
DTEND;VALUE=DATE:20250929
DTSTAMP:20260424T185912
CREATED:20250922T091044Z
LAST-MODIFIED:20250928T155912Z
UID:768-1758499200-1759103999@tennistourcalendar.com
SUMMARY:2025 Orléans Open
DESCRIPTION:The 2025 CO’Met Orléans Open was a professional tennis tournament played on indoor hard courts. It was the 20th edition of the tournament\, which was part of the 2025 ATP Challenger Tour. The event took place from September 22 to September 28\, 2025\, at the Palais des Sports in Orléans\, France. \nTournament Details\nThe 2025 Orléans Open was an ATP Challenger 125 tournament\, offering a prize fund of €181\,250 and significant ranking points to the players. The tournament\, known for its strong fields and historical significance on the Challenger circuit\, attracted a mix of established players and rising stars. The event’s move to the new CO’Met arena in recent years has further enhanced its profile\, providing modern facilities for both players and spectators. \nThe tournament featured a singles main draw of 32 players and a doubles main draw of 16 teams. The indoor hardcourt surface favored players with powerful serves and aggressive baselines\, leading to fast-paced and exciting matches throughout the week. \nTournament Links\n\n\n\nATP Tournament Profile\n\n\nResults\nDraws\nSchedule\n\n\n\nSingles\nChampions\nThe singles title was won by Martín Landaluce\, who defeated Raphaël Collignon in the final with a score of 6–7(6–8)\, 6–2\, 6–3. \nTop Seeds\nThe tournament drew a competitive field\, with several players ranked inside the world’s top 150. The top seeds for the singles main draw were: \n\nRaphaël Collignon (ranked No. 89)\nHugo Gaston (ranked No. 106)\nAlexander Blockx (ranked No. 120)\nLukáš Klein (ranked No. 123)\nMartín Landaluce (ranked No. 139)\nMatteo Gigante (ranked No. 141)\nPierre-Hugues Herbert (ranked No. 143)\nHarold Mayot (ranked No. 153)\n\nNotable wild card entrants included French fan favorites Grégoire Barrère and Benoît Paire\, adding to the local excitement. \nDoubles\nChampions\nThe doubles title was claimed by the pairing of Clément Chidekh and Luca Sanchez \, who triumphed over Théo Arribagé and Joshua Paris in the final with a score of 6–4\, 6–2. \nPrize Money and Points Distribution\nAs an ATP Challenger 125 event\, the 2025 Orléans Open offered a significant number of ranking points\, which are crucial for players aiming to improve their ATP ranking and qualify for higher-level tournaments. The prize money was distributed as follows: \n\n\n\nStage\nSingles\nDoubles (per team)\n\n\n\n\nChampion\n€25\,850\n€11\,200\n\n\nFinalist\n€15\,180\n€6\,550\n\n\nSemifinalists\n€8\,900\n€3\,950\n\n\nQuarterfinalists\n€5\,180\n€2\,300\n\n\nRound of 16\n€3\,010\n€1\,300\n\n\nRound of 32\n€1\,830\n–\n\n\n\nPoints for the ATP Rankings were awarded based on the following scale: \n\n\n\nStage\nSingles\nDoubles\n\n\n\n\nChampion\n125\n125\n\n\nFinalist\n75\n75\n\n\nSemifinalists\n45\n45\n\n\nQuarterfinalists\n25\n25\n\n\nRound of 16\n10\n10\n\n\nRound of 32\n5\n0\n\n\nQ. Champion\n5\n–\n\n\nQ. Finalist\n2\n–\n\n\n\n 
URL:https://tennistourcalendar.com/event/2025-orleans-open/
LOCATION:Palais des Sports\, 14 Rue Eugène Vignat\, Orléans\, 45000\, France
CATEGORIES:ATP Challenger Tour
ATTACH;FMTTYPE=image/jpeg:https://tennistourcalendar.com/wp-content/uploads/2025/09/Orleans-Open-Tennis.jpg
END:VEVENT
END:VCALENDAR