BEGIN:VCALENDAR
VERSION:2.0
PRODID:-//Tennis Tour Calendar - ECPv6.15.20//NONSGML v1.0//EN
CALSCALE:GREGORIAN
METHOD:PUBLISH
X-ORIGINAL-URL:https://tennistourcalendar.com
X-WR-CALDESC:Events for Tennis Tour Calendar
REFRESH-INTERVAL;VALUE=DURATION:PT1H
X-Robots-Tag:noindex
X-PUBLISHED-TTL:PT1H
BEGIN:VTIMEZONE
TZID:Europe/Helsinki
BEGIN:DAYLIGHT
TZOFFSETFROM:+0200
TZOFFSETTO:+0300
TZNAME:EEST
DTSTART:20240331T010000
END:DAYLIGHT
BEGIN:STANDARD
TZOFFSETFROM:+0300
TZOFFSETTO:+0200
TZNAME:EET
DTSTART:20241027T010000
END:STANDARD
BEGIN:DAYLIGHT
TZOFFSETFROM:+0200
TZOFFSETTO:+0300
TZNAME:EEST
DTSTART:20250330T010000
END:DAYLIGHT
BEGIN:STANDARD
TZOFFSETFROM:+0300
TZOFFSETTO:+0200
TZNAME:EET
DTSTART:20251026T010000
END:STANDARD
BEGIN:DAYLIGHT
TZOFFSETFROM:+0200
TZOFFSETTO:+0300
TZNAME:EEST
DTSTART:20260329T010000
END:DAYLIGHT
BEGIN:STANDARD
TZOFFSETFROM:+0300
TZOFFSETTO:+0200
TZNAME:EET
DTSTART:20261025T010000
END:STANDARD
END:VTIMEZONE
BEGIN:VEVENT
DTSTART;VALUE=DATE:20250922
DTEND;VALUE=DATE:20250929
DTSTAMP:20260424T202739
CREATED:20250922T091044Z
LAST-MODIFIED:20250928T155912Z
UID:768-1758499200-1759103999@tennistourcalendar.com
SUMMARY:2025 Orléans Open
DESCRIPTION:The 2025 CO’Met Orléans Open was a professional tennis tournament played on indoor hard courts. It was the 20th edition of the tournament\, which was part of the 2025 ATP Challenger Tour. The event took place from September 22 to September 28\, 2025\, at the Palais des Sports in Orléans\, France. \nTournament Details\nThe 2025 Orléans Open was an ATP Challenger 125 tournament\, offering a prize fund of €181\,250 and significant ranking points to the players. The tournament\, known for its strong fields and historical significance on the Challenger circuit\, attracted a mix of established players and rising stars. The event’s move to the new CO’Met arena in recent years has further enhanced its profile\, providing modern facilities for both players and spectators. \nThe tournament featured a singles main draw of 32 players and a doubles main draw of 16 teams. The indoor hardcourt surface favored players with powerful serves and aggressive baselines\, leading to fast-paced and exciting matches throughout the week. \nTournament Links\n\n\n\nATP Tournament Profile\n\n\nResults\nDraws\nSchedule\n\n\n\nSingles\nChampions\nThe singles title was won by Martín Landaluce\, who defeated Raphaël Collignon in the final with a score of 6–7(6–8)\, 6–2\, 6–3. \nTop Seeds\nThe tournament drew a competitive field\, with several players ranked inside the world’s top 150. The top seeds for the singles main draw were: \n\nRaphaël Collignon (ranked No. 89)\nHugo Gaston (ranked No. 106)\nAlexander Blockx (ranked No. 120)\nLukáš Klein (ranked No. 123)\nMartín Landaluce (ranked No. 139)\nMatteo Gigante (ranked No. 141)\nPierre-Hugues Herbert (ranked No. 143)\nHarold Mayot (ranked No. 153)\n\nNotable wild card entrants included French fan favorites Grégoire Barrère and Benoît Paire\, adding to the local excitement. \nDoubles\nChampions\nThe doubles title was claimed by the pairing of Clément Chidekh and Luca Sanchez \, who triumphed over Théo Arribagé and Joshua Paris in the final with a score of 6–4\, 6–2. \nPrize Money and Points Distribution\nAs an ATP Challenger 125 event\, the 2025 Orléans Open offered a significant number of ranking points\, which are crucial for players aiming to improve their ATP ranking and qualify for higher-level tournaments. The prize money was distributed as follows: \n\n\n\nStage\nSingles\nDoubles (per team)\n\n\n\n\nChampion\n€25\,850\n€11\,200\n\n\nFinalist\n€15\,180\n€6\,550\n\n\nSemifinalists\n€8\,900\n€3\,950\n\n\nQuarterfinalists\n€5\,180\n€2\,300\n\n\nRound of 16\n€3\,010\n€1\,300\n\n\nRound of 32\n€1\,830\n–\n\n\n\nPoints for the ATP Rankings were awarded based on the following scale: \n\n\n\nStage\nSingles\nDoubles\n\n\n\n\nChampion\n125\n125\n\n\nFinalist\n75\n75\n\n\nSemifinalists\n45\n45\n\n\nQuarterfinalists\n25\n25\n\n\nRound of 16\n10\n10\n\n\nRound of 32\n5\n0\n\n\nQ. Champion\n5\n–\n\n\nQ. Finalist\n2\n–\n\n\n\n 
URL:https://tennistourcalendar.com/event/2025-orleans-open/
LOCATION:Palais des Sports\, 14 Rue Eugène Vignat\, Orléans\, 45000\, France
CATEGORIES:ATP Challenger Tour
ATTACH;FMTTYPE=image/jpeg:https://tennistourcalendar.com/wp-content/uploads/2025/09/Orleans-Open-Tennis.jpg
END:VEVENT
END:VCALENDAR