BEGIN:VCALENDAR
VERSION:2.0
PRODID:-//Tennis Tour Calendar - ECPv6.15.20//NONSGML v1.0//EN
CALSCALE:GREGORIAN
METHOD:PUBLISH
X-ORIGINAL-URL:https://tennistourcalendar.com
X-WR-CALDESC:Events for Tennis Tour Calendar
REFRESH-INTERVAL;VALUE=DURATION:PT1H
X-Robots-Tag:noindex
X-PUBLISHED-TTL:PT1H
BEGIN:VTIMEZONE
TZID:Europe/Rome
BEGIN:DAYLIGHT
TZOFFSETFROM:+0100
TZOFFSETTO:+0200
TZNAME:CEST
DTSTART:20240331T010000
END:DAYLIGHT
BEGIN:STANDARD
TZOFFSETFROM:+0200
TZOFFSETTO:+0100
TZNAME:CET
DTSTART:20241027T010000
END:STANDARD
BEGIN:DAYLIGHT
TZOFFSETFROM:+0100
TZOFFSETTO:+0200
TZNAME:CEST
DTSTART:20250330T010000
END:DAYLIGHT
BEGIN:STANDARD
TZOFFSETFROM:+0200
TZOFFSETTO:+0100
TZNAME:CET
DTSTART:20251026T010000
END:STANDARD
BEGIN:DAYLIGHT
TZOFFSETFROM:+0100
TZOFFSETTO:+0200
TZNAME:CEST
DTSTART:20260329T010000
END:DAYLIGHT
BEGIN:STANDARD
TZOFFSETFROM:+0200
TZOFFSETTO:+0100
TZNAME:CET
DTSTART:20261025T010000
END:STANDARD
END:VTIMEZONE
BEGIN:VEVENT
DTSTART;VALUE=DATE:20251013
DTEND;VALUE=DATE:20251020
DTSTAMP:20260422T162421
CREATED:20251013T045821Z
LAST-MODIFIED:20251013T045821Z
UID:1225-1760313600-1760918399@tennistourcalendar.com
SUMMARY:2025 Olbia Challenger
DESCRIPTION:The 2025 Olbia Challenger is a professional tennis tournament being played on outdoor hard courts. It is part of the 2025 ATP Challenger Tour as a Challenger 125 event. It is taking place at the Tennis Club Terranova in Olbia\, Sardinia\, Italy\, from 13 to 19 October 2025. It features a 32-player singles main draw and a 16-team doubles main draw. The total prize money is €181\,250. \n\n\n\nATP Tournament Profile\n\n\nResults\nDraws\nSchedule\n\n\n\nChampions\n\n\n\nEvent\nChampion(s)\nRunner(s)-up\n\n\nSingles\n \n \n\n\n \n\n\nDoubles\n \n \n\n\n \n\n\n\n\nTournament Schedule\n\n\n\nDate\nStart Time\nEvent(s)\nNotes (Number of Matches)\n\n\n\n\nSUN\, 12 OCT\nFrom 10:00 AM\nQualifications\n12 Singles Matches\n\n\nMON\, 13 OCT\nFrom 10:00 AM\nQualifications and Main Draw Singles\n6 Qual. Matches and 5 Main Draw\n\n\nTUE\, 14 OCT\nFrom 10:00 AM\nFirst Round\n11 Singles Matches and 2 Doubles Matches\n\n\nWED\, 15 OCT\nFrom 11:00 AM\nRound of 16\n4 Singles Matches and 6 Doubles Matches\n\n\nTHU\, 16 OCT\nFrom 11:00 AM\nRound of 16\n4 Singles Matches and 4 Doubles Matches\n\n\nFRI\, 17 OCT\nFrom 11:00 AM\nSingles Quarterfinals and Doubles Semifinals\n4 Singles Matches and 2 Doubles Matches\n\n\nSAT\, 18 OCT\nFrom 1:00 PM\nDoubles Final\, Singles Semifinals\n–\n\n\nSUN\, 19 OCT\nAt 3:00 PM\nSingles Final\n–\n\n\n\nNote: The schedule states that times may be subject to change. Consult the order of play on the official site (olbiachallenger.com) for the definitive schedule. \n\nPrize Money and Ranking Points\n\n\n\nRound\nSingles\nDoubles\n\n\nWinner\n€25\,740 | 125\n€9\,010 | 125\n\n\nFinals\n€15\,150 | 64\n€5\,220 | 75\n\n\nSemi-Finals\n€9\,015 | 35\n€3\,140 | 45\n\n\nQuarter-Finals\n€5\,235 | 16\n€1\,840 | 25\n\n\nRound of 16\n€3\,055 | 8\n€1\,050 | 0\n\n\nRound of 32\n€1\,890 | 0\n–\n\n\n\nPlayer Field\nMain article: Top Seeds and Former Champion Headline the 2025 Olbia Challenger
URL:https://tennistourcalendar.com/event/2025-olbia-challenger/
LOCATION:Tennis Club Terranova\, Via Fausto Noce\, Olbia SS\, 07026\, Italy
CATEGORIES:ATP Challenger Tour
ATTACH;FMTTYPE=image/jpeg:https://tennistourcalendar.com/wp-content/uploads/2025/10/Olbia-Challenger-Tennis.jpg
END:VEVENT
END:VCALENDAR