BEGIN:VCALENDAR
VERSION:2.0
PRODID:-//Tennis Tour Calendar - ECPv6.15.20//NONSGML v1.0//EN
CALSCALE:GREGORIAN
METHOD:PUBLISH
X-ORIGINAL-URL:https://tennistourcalendar.com
X-WR-CALDESC:Events for Tennis Tour Calendar
REFRESH-INTERVAL;VALUE=DURATION:PT1H
X-Robots-Tag:noindex
X-PUBLISHED-TTL:PT1H
BEGIN:VTIMEZONE
TZID:Europe/Moscow
BEGIN:STANDARD
TZOFFSETFROM:+0300
TZOFFSETTO:+0300
TZNAME:MSK
DTSTART:20240101T000000
END:STANDARD
END:VTIMEZONE
BEGIN:VEVENT
DTSTART;VALUE=DATE:20250818
DTEND;VALUE=DATE:20250825
DTSTAMP:20260422T160114
CREATED:20250815T061301Z
LAST-MODIFIED:20251001T022035Z
UID:282-1755475200-1756079999@tennistourcalendar.com
SUMMARY:2025 Crete Challenger IV
DESCRIPTION:The 2025 Crete Challenger IV\, also known as the Hersonissos 4\, was a professional men’s tennis tournament held in Hersonissos\, Greece. It was part of the ATP Challenger Tour and was classified as a Challenger 50 event. The tournament was played on outdoor hard courts and took place at the Lyttos Sports Center. The tournament was held from August 18 to August 24\, 2025.1“2025 Crete Challenger IV (Hersonissos 4) Overview”. atptour.com. Retrieved 15 August 2025.2“Inaugural Crete Challenger at Lyttos Sports Center Begins”. greekcitytimes.com. Retrieved 15 August 2025.3“Crete Challenger Tournament Series”. cretechallenger.com. Retrieved 15 August 2025. \nTournament Details\n\n\n\nDate\n18–24 August\n\n\nEdition\n4th\n\n\nDraw\n32 Singles / 16 Doubles\n\n\nCategory\nChallenger 50\n\n\nPrize Money\n$60\,000\n\n\nSurface\nHard\n\n\nLocation\nHersonissos\, Greece\n\n\nVenue\nLyttos Sports Center\n\n\n\nTournament Links\n\n\n\nATP Tournament Profile\n\n\nDraws\nResults\n\n\n\nChampions\n\n\n\nSingles\n🇹🇳 Moez Echargui\n\n\nDoubles\n🇩🇪 Mats Rosenkranz\n🇬🇧 Harry Wendelken\n\n\n\nPrize Money and Ranking Points\n\n\n\n \nSingles\nDoubles\n\n\nWinner\n$8\,350 | 50 Points\n$2\,980 | 50 Points\n\n\nFinals\n$4\,910 | 25 Points\n$1\,740 | 30 Points\n\n\nSemi-Finals\n$2\,850 | 14 Points\n$1\,040 | 17 Points\n\n\nQuarter-Finals\n$1\,715 | 8 Points\n$620 | 9 Points\n\n\nRound of 16\n$1\,000 | 4 Points\n$340 | 0 Point\n\n\nRound of 32\n$620 | 0 Point\n–\n\n\n\nReferences1“2025 Crete Challenger IV (Hersonissos 4) Overview”. atptour.com. Retrieved 15 August 2025.2“Inaugural Crete Challenger at Lyttos Sports Center Begins”. greekcitytimes.com. Retrieved 15 August 2025.3“Crete Challenger Tournament Series”. cretechallenger.com. Retrieved 15 August 2025.
URL:https://tennistourcalendar.com/event/2025-crete-challenger-iv/
LOCATION:Lyttos Sports Center\, Lyttos Beach Hotel\, Hersonissos\, 700 14\, Greece
CATEGORIES:ATP Challenger Tour
ATTACH;FMTTYPE=image/jpeg:https://tennistourcalendar.com/wp-content/uploads/2025/08/Crete-Challenger.jpg
END:VEVENT
END:VCALENDAR