BEGIN:VCALENDAR
VERSION:2.0
PRODID:-//Tennis Tour Calendar - ECPv6.15.20//NONSGML v1.0//EN
CALSCALE:GREGORIAN
METHOD:PUBLISH
X-WR-CALNAME:Tennis Tour Calendar
X-ORIGINAL-URL:https://tennistourcalendar.com
X-WR-CALDESC:Events for Tennis Tour Calendar
REFRESH-INTERVAL;VALUE=DURATION:PT1H
X-Robots-Tag:noindex
X-PUBLISHED-TTL:PT1H
BEGIN:VTIMEZONE
TZID:Europe/Helsinki
BEGIN:DAYLIGHT
TZOFFSETFROM:+0200
TZOFFSETTO:+0300
TZNAME:EEST
DTSTART:20240331T010000
END:DAYLIGHT
BEGIN:STANDARD
TZOFFSETFROM:+0300
TZOFFSETTO:+0200
TZNAME:EET
DTSTART:20241027T010000
END:STANDARD
BEGIN:DAYLIGHT
TZOFFSETFROM:+0200
TZOFFSETTO:+0300
TZNAME:EEST
DTSTART:20250330T010000
END:DAYLIGHT
BEGIN:STANDARD
TZOFFSETFROM:+0300
TZOFFSETTO:+0200
TZNAME:EET
DTSTART:20251026T010000
END:STANDARD
BEGIN:DAYLIGHT
TZOFFSETFROM:+0200
TZOFFSETTO:+0300
TZNAME:EEST
DTSTART:20260329T010000
END:DAYLIGHT
BEGIN:STANDARD
TZOFFSETFROM:+0300
TZOFFSETTO:+0200
TZNAME:EET
DTSTART:20261025T010000
END:STANDARD
END:VTIMEZONE
BEGIN:VEVENT
DTSTART;VALUE=DATE:20250908
DTEND;VALUE=DATE:20250915
DTSTAMP:20260426T033734
CREATED:20250911T094247Z
LAST-MODIFIED:20250911T095017Z
UID:678-1757289600-1757894399@tennistourcalendar.com
SUMMARY:2025 Città di Biella
DESCRIPTION:The 2025 Città di Biella was a professional men’s tennis tournament played on outdoor clay courts. It was the 17th edition of the tournament and part of the 2025 ATP Challenger Tour. The event took place from September 8 to September 14\, 2025\, at the Tennis Lab Biella in Biella\, Italy.1“Città di Biella Overview”. atptour.com. Retrieved 8 September 2025.2“Il grande tennis ritorna a Biella”. ilbiellese.it (in Italian). Retrieved 8 September 2025. \nThe tournament\, categorized as an ATP Challenger 50 event\, returned to the calendar in 2025 after a hiatus. It offered a total prize money of €54\,000\, representing a significant increase from previous years\, and provided crucial ranking points for players on the professional circuit. \nTournament Details\n\n\n\nDate\n8–14 September\n\n\nEdition\n17th\n\n\nDraw\n32 Singles / 16 Doubles\n\n\nCategory\nChallenger 50\n\n\nPrize Money\n€50\,000\n\n\nSurface\nClay\n\n\nLocation\nBiella\, Italy\n\n\nVenue\nTennis Lab Biella\n\n\n\nTournament Links\n\n\n\nATP Tournament Profile\n\n\nResults\nDraws\nSchedule\n\n\n\nHistory of the Tournament\nThe Città di Biella has a long and varied history in professional tennis\, dating back to its first edition. Over the years\, it has served as a stepping stone for many players who later achieved success on the ATP Tour. The tournament has had several editions and has been a consistent fixture on the Challenger Tour\, although it has experienced some pauses in its history\, including the period from 2022 to 2024. \nThe event is known for its outdoor clay court surface\, which often attracts specialists in that discipline. Past champions have included both rising stars and established veterans. The 2021 edition\, for instance\, saw the singles title won by Federico Gaio\, while the doubles trophy went to Tomás Martín Etcheverry and Renzo Olivo. The tournament’s return in 2025 was met with enthusiasm\, as it provided another opportunity for players to compete and earn ranking points in the lead-up to the end of the season. \nVenue\nThe tournament was held at the Lauretana Forum in Biella\, Italy. This facility is well-regarded for its clay courts and provides an ideal setting for a Challenger-level event. The outdoor venue allows for a classic clay court playing experience\, characterized by long rallies and strategic play. The Lauretana Forum has a history of hosting high-level tennis\, making it a familiar and respected location for both players and fans. \nPlayers and Seeds\nThe singles main draw for the 2025 Città di Biella featured a field of 32 players. The seeded players were determined by the ATP rankings at the time of the draw. \nThe top seeds for the singles tournament were: \n\nStefano Travaglia (Italy)\nZdeněk Kolář (Czech Republic)\nMarco Cecchinato (Italy)\nAlexander Ritschard (Switzerland)\nMarko Topo (Germany)\nAlejandro Moro Cañas (Spain)\nOleg Prihodko (Ukraine)\nJelle Sels (Netherlands)\n\nThe tournament also granted wild card entries to several players\, including Flavio Arnaboldi and Gabriele Piraino. Additionally\, a number of players successfully navigated the qualifying rounds to earn a spot in the main draw. \nPrize Money and Points\nAs an ATP Challenger 50 event\, the 2025 Città di Biella offered a total prize money pool of €54\,000. This amount was a notable increase from the 2021 edition. The champion was set to receive €7\,530 in prize money and 50 ATP ranking points. \nThe prize money breakdown was as follows: \nSingles\n\n\n\nStage\nPrize Money (EUR)\nRanking Points\n\n\nWinner\n€7\,530\n50\n\n\nFinalist\n€4\,420\n25\n\n\nSemifinalists\n€2\,575\n14\n\n\nQuarterfinalists\n€1\,545\n8\n\n\nRound of 16\n€900\n4\n\n\nRound of 32\n€560\n0\n\n\n\nDoubles\n\n\n\nStage\nPrize Money (EUR)\nRanking Points\n\n\nWinner\n€2\,680\n50\n\n\nFinalist\n€1\,560\n30\n\n\nSemifinalists\n€940\n17\n\n\nQuarterfinalists\n€550\n9\n\n\nRound of 16\n€300\n0\n\n\n\n\nReferences1“Città di Biella Overview”. atptour.com. Retrieved 8 September 2025.2“Il grande tennis ritorna a Biella”. ilbiellese.it (in Italian). Retrieved 8 September 2025.
URL:https://tennistourcalendar.com/event/2025-citta-di-biella/
LOCATION:Tennis Lab Biella\, Via Liguria\, 2\, Biella\, 13900\, Italy
CATEGORIES:ATP Challenger Tour
ATTACH;FMTTYPE=image/jpeg:https://tennistourcalendar.com/wp-content/uploads/2025/09/Citta-di-Biella-Tennis.jpg
END:VEVENT
END:VCALENDAR