BEGIN:VCALENDAR
VERSION:2.0
PRODID:-//Tennis Tour Calendar - ECPv6.15.20//NONSGML v1.0//EN
CALSCALE:GREGORIAN
METHOD:PUBLISH
X-ORIGINAL-URL:https://tennistourcalendar.com
X-WR-CALDESC:Events for Tennis Tour Calendar
REFRESH-INTERVAL;VALUE=DURATION:PT1H
X-Robots-Tag:noindex
X-PUBLISHED-TTL:PT1H
BEGIN:VTIMEZONE
TZID:America/Denver
BEGIN:DAYLIGHT
TZOFFSETFROM:-0700
TZOFFSETTO:-0600
TZNAME:MDT
DTSTART:20240310T090000
END:DAYLIGHT
BEGIN:STANDARD
TZOFFSETFROM:-0600
TZOFFSETTO:-0700
TZNAME:MST
DTSTART:20241103T080000
END:STANDARD
BEGIN:DAYLIGHT
TZOFFSETFROM:-0700
TZOFFSETTO:-0600
TZNAME:MDT
DTSTART:20250309T090000
END:DAYLIGHT
BEGIN:STANDARD
TZOFFSETFROM:-0600
TZOFFSETTO:-0700
TZNAME:MST
DTSTART:20251102T080000
END:STANDARD
BEGIN:DAYLIGHT
TZOFFSETFROM:-0700
TZOFFSETTO:-0600
TZNAME:MDT
DTSTART:20260308T090000
END:DAYLIGHT
BEGIN:STANDARD
TZOFFSETFROM:-0600
TZOFFSETTO:-0700
TZNAME:MST
DTSTART:20261101T080000
END:STANDARD
END:VTIMEZONE
BEGIN:VEVENT
DTSTART;VALUE=DATE:20250919
DTEND;VALUE=DATE:20250922
DTSTAMP:20260425T232340
CREATED:20250809T183649Z
LAST-MODIFIED:20250922T075105Z
UID:205-1758240000-1758499199@tennistourcalendar.com
SUMMARY:2025 Laver Cup
DESCRIPTION:The 2025 Laver Cup was a men’s tennis tournament that took place from September 19 to September 21\, 2025\, at the Chase Center in San Francisco\, United States. It was the eighth edition of the tournament\, which pits six of Europe’s top men’s tennis players against six players from the rest of the world. Named in honor of Australian tennis legend Rod Laver\, the Laver Cup is a certified event on the ATP Tour calendar. \nIn a dramatic final day\, Team World clinched its third title in the tournament’s history with a final score of 15–9\, under the leadership of new captain Andre Agassi. They achieved the victory by winning four consecutive matches on Saturday and securing the final win on Sunday\, with Taylor Fritz defeating Alexander Zverev to seal the championship. \nTournament Format and Scoring\nThe Laver Cup is a three-day tournament with five sessions in total: a day session and a night session on Friday and Saturday\, and a final day session on Sunday. The local times for the sessions were 1:00 p.m. and 7:00 p.m. PDT on Friday and Saturday\, and 12:00 p.m. PDT on Sunday. \nEach day\, the competition included both singles and doubles matches. On Friday\, the day session featured two singles matches\, while the night session had one singles and one doubles match. Saturday followed a similar format\, with two singles matches during the day session and a single singles and doubles match at night. Sunday’s schedule started with a doubles match\, followed by singles matches as needed to reach the winning score. The match lineups for each day were determined by the team captains and were announced the day before. \nThe scoring system is unique and designed to create increasing pressure as the tournament progresses. Each match win on Friday was worth one point\, a win on Saturday was worth two points\, and a win on Sunday was worth three points. The first team to accumulate 13 points out of a total of 24 available points wins the Laver Cup. If the points are tied at 12–12 after all 12 matches\, a final overtime doubles match is played to decide the champion. All matches were a best-of-three-sets format with ad scoring. If the sets were split\, a 10-point match tiebreaker was used to decide the winner. Every player had to compete in at least one singles match during the first two days. No player could play singles more than twice\, and at least four of the six players had to play doubles during the three-day event. \nAn interesting aspect of the player compensation is that each player receives an appearance fee based on their ATP singles ranking. Additionally\, each of the six players on the winning team receives a prize of $250\,000 USD. No prize money is awarded to the losing team. \nTeam Captains and Rosters\nThis year marked a new era for the Laver Cup\, as the event introduced new team captains for the first time since its inception in 2017. Legendary tennis player Yannick Noah took over as the captain for Team Europe\, while another icon of the sport\, Andre Agassi\, took the helm for Team World. Supporting them were their respective vice-captains: Tim Henman for Team Europe and Patrick Rafter for Team World. The captains play a crucial role\, not only in selecting players but also in determining the daily lineups\, providing on-court coaching\, and formulating strategies to help their team accumulate the 13 points needed to win the cup. \nThe team rosters were comprised of six players each. The three highest-ranked players from each region\, based on their ATP singles rankings as of the Monday following Roland-Garros\, automatically received an invitation. The remaining three spots on each team are “Captain’s Picks\,” which could be announced anytime before the start of the US Open. \nTeam Europe\n\nCarlos Alcaraz (ESP)\nAlexander Zverev (GER)\nHolger Rune (DEN)\nCasper Ruud (NOR)\nJakub Menšík (CZE)\nFlavio Cobolli (ITA)\n\nTeam World\n\nTaylor Fritz (USA)\nAlex de Minaur (AUS)\nFrancisco Cerúndolo (ARG)\nJoão Fonseca (BRA)\nAlex Michelsen (USA)\nReilly Opelka (USA)\n\nResults\nThe competition began on Friday\, September 19\, and concluded with Team World’s victory on Sunday\, September 21. \nDay 1 (Friday\, September 19)\nEach win was worth one point. Team Europe took an early lead\, ending the day with a 3–1 advantage. \n\nMatch 1 (Singles): Casper Ruud (NOR) def. Reilly Opelka (USA) 6–4\, 7–6(4)\nMatch 2 (Singles): Jakub Menšík (CZE) def. Alex Michelsen (USA) 6–1\, 6–7(3)\, [10–8]\nMatch 3 (Singles): João Fonseca (BRA) def. Flavio Cobolli (ITA) 6–4\, 6–3\nMatch 4 (Doubles): Carlos Alcaraz (ESP) / Jakub Menšík (CZE) def. Taylor Fritz (USA) / Alex Michelsen (USA) 7–6(7)\, 6–4\n\nDay 1 Score: Team Europe 3 – 1 Team World \nDay 2 (Saturday\, September 20)\nEach win was worth two points. Team World made a historic comeback\, sweeping all four matches to take a commanding 9–3 lead. \n\nMatch 5 (Singles): Alex de Minaur (AUS) def. Alexander Zverev (GER) 6–1\, 6–4\nMatch 6 (Singles): Francisco Cerúndolo (ARG) def. Holger Rune (DEN) 6–3\, 7–6(5)\nMatch 7 (Singles): Taylor Fritz (USA) def. Carlos Alcaraz (ESP) 6–3\, 6–2\nMatch 8 (Doubles): Alex de Minaur (AUS) / Alex Michelsen (USA) def. Holger Rune (DEN) / Casper Ruud (NOR) 6–3\, 6–4\n\nDay 2 Score: Team Europe 3 – 9 Team World \nDay 3 (Sunday\, September 21)\nEach win was worth three points. Team Europe mounted a comeback\, but it was not enough as Team World’s strong performance on Saturday proved to be the decisive factor. \n\nMatch 9 (Doubles): Carlos Alcaraz (ESP) / Casper Ruud (NOR) def. Alex Michelsen (USA) / Reilly Opelka (USA) 7–6(4)\, 6–1\nMatch 10 (Singles): Alex de Minaur (AUS) def. Jakub Menšík (CZE) 6–3\, 6–4\nMatch 11 (Singles): Carlos Alcaraz (ESP) def. Francisco Cerúndolo (ARG) 6–2\, 6–1\nMatch 12 (Singles): Taylor Fritz (USA) def. Alexander Zverev (GER) 6–3\, 7–6(4)\n\nFinal Score: Team World 15 – 9 Team Europe \nWith his victory in Match 12\, Taylor Fritz clinched the title for Team World\, securing the final three points and bringing their total to an insurmountable 15. The win marked the third time Team World has lifted the Laver Cup trophy.
URL:https://tennistourcalendar.com/event/2025-laver-cup/
LOCATION:Chase Center\, 1 Warriors Way\, San Francisco\, CA\, 94158\, United States
CATEGORIES:ATP Tour
ATTACH;FMTTYPE=image/jpeg:https://tennistourcalendar.com/wp-content/uploads/2025/08/2025-Laver-Cup.jpg
END:VEVENT
END:VCALENDAR