BEGIN:VCALENDAR
VERSION:2.0
PRODID:-//Tennis Tour Calendar - ECPv6.15.20//NONSGML v1.0//EN
CALSCALE:GREGORIAN
METHOD:PUBLISH
X-ORIGINAL-URL:https://tennistourcalendar.com
X-WR-CALDESC:Events for Tennis Tour Calendar
REFRESH-INTERVAL;VALUE=DURATION:PT1H
X-Robots-Tag:noindex
X-PUBLISHED-TTL:PT1H
BEGIN:VTIMEZONE
TZID:America/Halifax
BEGIN:DAYLIGHT
TZOFFSETFROM:-0400
TZOFFSETTO:-0300
TZNAME:ADT
DTSTART:20240310T060000
END:DAYLIGHT
BEGIN:STANDARD
TZOFFSETFROM:-0300
TZOFFSETTO:-0400
TZNAME:AST
DTSTART:20241103T050000
END:STANDARD
BEGIN:DAYLIGHT
TZOFFSETFROM:-0400
TZOFFSETTO:-0300
TZNAME:ADT
DTSTART:20250309T060000
END:DAYLIGHT
BEGIN:STANDARD
TZOFFSETFROM:-0300
TZOFFSETTO:-0400
TZNAME:AST
DTSTART:20251102T050000
END:STANDARD
BEGIN:DAYLIGHT
TZOFFSETFROM:-0400
TZOFFSETTO:-0300
TZNAME:ADT
DTSTART:20260308T060000
END:DAYLIGHT
BEGIN:STANDARD
TZOFFSETFROM:-0300
TZOFFSETTO:-0400
TZNAME:AST
DTSTART:20261101T050000
END:STANDARD
END:VTIMEZONE
BEGIN:VEVENT
DTSTART;VALUE=DATE:20250807
DTEND;VALUE=DATE:20250819
DTSTAMP:20260424T224433
CREATED:20250804T003810Z
LAST-MODIFIED:20251001T023228Z
UID:43-1754524800-1755561599@tennistourcalendar.com
SUMMARY:2025 Cincinnati Open
DESCRIPTION:The 2025 Cincinnati Open was a professional tennis tournament that took place from August 5 to August 18\, 2025. It was a combined men’s and women’s event played on outdoor hardcourts. The tournament was held at the Lindner Family Tennis Center in Mason\, Ohio\, a suburb of Cincinnati\, United States. \nThe tournament was a significant fixture on both the Association of Tennis Professionals (ATP) Tour and the Women’s Tennis Association (WTA) Tour. The men’s event was part of the ATP Tour Masters 1000 series\, while the women’s event was classified as a WTA 1000 tournament. The 2025 edition marked the 124th men’s tournament and the 97th women’s tournament. \nThe event served as a key tune-up for the US Open\, the final Grand Slam tournament of the year. It featured singles and doubles competitions for both men and women\, attracting top-ranked players from around the world. The total prize money for the men’s tournament was $9\,193\,540\, while the women’s tournament offered a prize fund of $5\,152\,599. \nThe singles draws for both events were increased from 56 to 96 players that year. Qualifying matches were played on Tuesday\, August 5 and Wednesday\, August 6\, and both the men’s and women’s singles finals were held on Monday\, August 18. \nTournament Details\n\n\n\nDate\n7–18 August\n\n\nEdition\n124th (men) / 97th (women)\n\n\nDraw\n96MS/94WS/32MD/32WD\n\n\nCategory\nATP Tour Masters 1000 (men)\n\n\nWTA 1000 (women)\n\n\nTotal Prize Money\n$9\,193\,540 (men)\n\n\n$5\,152\,599 (women)\n\n\nSurface\nHard\n\n\nLocation\nCincinnati\, United States\n\n\nVenue\nLindner Family Tennis Center\n\n\n\nChampions\n\n\n\nMen’s Singles\n🇪🇸 Carlos Alcaraz\n\n\nWomen’s Singles\n🇵🇱 Iga Świątek\n\n\nMen’s Doubles\n🇭🇷 Nikola Mektić\n🇺🇲 Rajeev Ram\n\n\nWomen’s Doubles\n🇨🇦 Gabriela Dabrowski\n🇳🇿 Erin Routliffe\n\n\n\nCarlos Alcaraz and Iga Świątek claimed the singles titles at the 2025 Cincinnati Open\, though their paths to victory differed dramatically. Alcaraz captured his eighth Masters 1000 crown after defending champion Jannik Sinner retired down 0-5 in the final\, making Alcaraz the youngest men’s champion since Andy Murray in 2008. Świątek\, meanwhile\, was in dominant form\, defeating Jasmine Paolini 7-5\, 6-4 without dropping a set all tournament to secure her eleventh WTA 1000 title. \nThe event saw historic runs beyond the champions. Térence Atmane became the first qualifier to reach the semifinals since 2015\, while Aryna Sabalenka’s title defense ended in the quarterfinals with a loss to Elena Rybakina. \nIn doubles\, Nikola Mektić and Rajeev Ram won the men’s title\, and the women’s doubles crown was successfully defended by Erin Routliffe\, who won with new partner Gabriela Dabrowski. The tournament also crowned a new ATP doubles World No. 1\, as Lloyd Glasspool ascended to the top ranking. \nPrize Money\nMen’s Singles and Men’s Doubles\n\n\n\n\nMen’s Singles\nMen’s Doubles\n\n\nWinner\n$1\,124\,380\n$457\,150\n\n\nFinals\n$597\,890\n$242\,020\n\n\nSemi-Finals\n$332\,160\n$129\,970\n\n\nQuarter-Finals\n$189\,075\n$65\,000\n\n\nRound of 16\n$103\,225\n$34\,850\n\n\nRound of 32\n$60\,400\n$19\,050\n\n\nRound of 64\n$35\,260\n–\n\n\nRound of 96\n$23\,760\n–\n\n\n\nWomen’s Singles and Women’s Doubles\n\n\n\n\nWomen’s Singles\nWomen’s Doubles\n\n\nWinner\n$752\,275 | 1\,000 points\n$262\,780\n\n\nFinals\n$391\,600 | 650 points\n$139\,120\n\n\nSemi-Finals\n$206\,100 | 390 points\n$74\,700\n\n\nQuarter-Finals\n$106\,900 | 215 points\n$37\,360\n\n\nRound of 16\n$56\,678 | 120 points\n$19\,970\n\n\nRound of 32\n$32\,840 | 65 points\n$10\,950\n\n\nRound of 64\n$18\,200 | 35 points\n–\n\n\nRound of 96\n$11\,270 | 10 points\n–
URL:https://tennistourcalendar.com/event/2025-cincinnati-open/
LOCATION:Lindner Family Tennis Center\, 5460 Courseview Dr\, Mason\, OH\, 45040\, United States
CATEGORIES:ATP Tour,WTA Tour
ATTACH;FMTTYPE=image/jpeg:https://tennistourcalendar.com/wp-content/uploads/2025/08/Cincinnati-Open-1.jpg
ORGANIZER;CN="Beemok Sports & Entertainment":MAILTO:info@beemokse.com
END:VEVENT
END:VCALENDAR