BEGIN:VCALENDAR
VERSION:2.0
PRODID:-//Tennis Tour Calendar - ECPv6.15.20//NONSGML v1.0//EN
CALSCALE:GREGORIAN
METHOD:PUBLISH
X-WR-CALNAME:Tennis Tour Calendar
X-ORIGINAL-URL:https://tennistourcalendar.com
X-WR-CALDESC:Events for Tennis Tour Calendar
REFRESH-INTERVAL;VALUE=DURATION:PT1H
X-Robots-Tag:noindex
X-PUBLISHED-TTL:PT1H
BEGIN:VTIMEZONE
TZID:Asia/Shanghai
BEGIN:STANDARD
TZOFFSETFROM:+0800
TZOFFSETTO:+0800
TZNAME:CST
DTSTART:20240101T000000
END:STANDARD
END:VTIMEZONE
BEGIN:VEVENT
DTSTART;VALUE=DATE:20250914
DTEND;VALUE=DATE:20251006
DTSTAMP:20260424T164403
CREATED:20250812T051245Z
LAST-MODIFIED:20251005T063155Z
UID:241-1757808000-1759708799@tennistourcalendar.com
SUMMARY:2025 China Open
DESCRIPTION:The 2025 China Open was a combined ATP and WTA tennis tournament that took place from September 14 to October 5\, 2025. It was the 24th edition of the China Open for men and the 26th for women and was held on outdoor hard courts at the National Tennis Center in Beijing\, China. The tournament was the first comprehensive tennis event in Asia to span three weeks\, incorporating a junior tournament alongside the main men’s and women’s events.1“2025 China Open“. english.beijing.gov.cn. Retrieved 12 August 2025. \nThe men’s tournament was part of the ATP Tour as an ATP 500 series event\, while the women’s event was a WTA 1000 tournament on the WTA Tour.2“China Open Tennis Tournament Guide“. thetennistribe.com. Retrieved 12 August 2025. \nThe 2025 China Open kicked off with an ITF J300 tournament for junior players\, which was scheduled from September 14 to 21. Following the junior event\, the main draws for the professional players would begin. The WTA 1000 tournament run from September 22 to October 5\, and the ATP 500 tournament was held from September 25 to October 1. The total prize money for the women’s event was $8\,963\,700\, and for the men’s event\, it was $4\,016\,050.3“China Open Overview“. atptour.com. Retrieved 12 August 2025.4“China Open 2025 Overview“. wtatennis.com. Retrieved 12 August 2025. \nThe tournament was held at the National Tennis Center\, a venue originally built for the 2008 Beijing Olympics. The center’s main court\, the Diamond Court\, was a 15\,000-seat stadium with a retractable roof. It had recently undergone significant upgrades\, including a new passage for direct access to key venues and a new sound system in the Diamond Court for an improved spectator experience. On the west side of the center\, five new international-standard courts and a “Signature Zone” had been added to allow fans to get closer to their favorite players.5“2025中国网球公开赛正式开票“. chinadaily.com.cn (in Chinese). Retrieved 12 August 2025. \nTournament Details\n\n\n\nDate\n25 September – 1 October (men)\n\n\n24 September – 5 October (women)\n\n\nEdition\n24th (ATP)\n\n\n26th (WTA)\n\n\nDraw\n32MS / 96WS / 16MD / 32WD\n\n\nCategory\nATP 500 (men)\n\n\nWTA 1000 (women)\n\n\nTotal Prize Money\n$12\,979\,750\n\n\nSurface\nHard\n\n\nLocation\nBeijing\, China\n\n\nVenue\nBeijing Olympic Green Tennis Center\n\n\n\nTournament Links (ATP)\n\n\n\nATP Tournament Profile\n\n\nResults\nDraws\nSchedule\n\n\n\nTournament Links (WTA)\n\n\n\nWTA Tournament Profile\n\n\nOrder of Play\nDraws\nPlayer List\n\n\n\nChampions\n\n\n\nEvent\nChampion(s)\nRunner(s)-up\n\n\nMen’s Singles\n🇮🇹 Jannik Sinner\n🇺🇸 Learner Tien\n\n\n6–2\, 6–2\n\n\nWomen’s Singles\n🇺🇸 Amanda Anisimova\n🇨🇿 Linda Nosková\n\n\n6–0\, 2–6\, 6–2\n\n\nMen’s Doubles\n🇫🇮 Harri Heliövaara\n🇬🇧 Henry Patten\nKaren Khachanov\nAndrey Rublev\n\n\n4–6\, 6–3\, [10–8]\n\n\nWomen’s Doubles\n🇮🇹 Sara Errani\n🇮🇹 Jasmine Paolini\n🇯🇵 Miyu Kato\n🇭🇺 Fanny Stollár\n\n\n6–7(1–7)\, 6–3\, [10–2]\n\n\n\nMen’s Singles Finals\n\n\n\nQuarterfinals\n\n\nJannik Sinner (ITA) [1] vs. Fábián Marozsán (HUN)\nAlex de Minaur (AUS) [3] vs. Jakub Menšík (CZE) [7]\nLearner Tien (USA) vs. Lorenzo Musetti (ITA) [4]\nDaniil Medvedev [8] vs. Alexander Zverev (GER) [2]\n\n\n6-1\, 7-5\n4-1(r)\n4-6\, 6-3\, 3-0(r)\n6-3\, 6-3\n\n\nSemifinals\n\n\nJannik Sinner (ITA) [1] vs. Alex de Minaur (AUS) [3]\nLearner Tien (USA) vs. Daniil Medvedev [8]\n\n\n6-3\, 4-6\, 6-2\n5-7\, 7-5\, 4-0(r)\n\n\nFinal\n\n\nJannik Sinner (ITA) [1] vs. Learner Tien (USA)\n\n\n6-2\, 6-2\n\n\n\nWomen’s Singles Finals\n\n\n\nQuarterfinals\n\n\nEmma Navarro (USA) [16] vs. Jessica Pegula (USA) [5]\nSonay Kartal (GBR) vs. Linda Nosková (CZE) [26]\nJasmine Paolini (ITA) [6] vs. Amanda Anisimova (USA) [3]\nEva Lys (GER) vs. Coco Gauff (USA) [2]\n\n\n77-62\, 2-6\, 1-6\n3-6\, 4-6\n77-64\, 3-6\, 4-6\n3-6\, 4-6\n\n\nSemifinals\n\n\nJessica Pegula (USA) [5] vs. Linda Nosková (CZE) [26]\nAmanda Anisimova (USA) [3] vs. Gauff (USA) [2]\n\n\n3-6\, 6-1\, 66–78\n6-1\, 6-2\n\n\nFinal\n\n\nLinda Nosková (CZE) [26] vs. Amanda Anisimova (USA) [3]\n\n\n0–6\, 6–2\, 2–6\n\n\n\nPrize Money and Ranking Points\nMen’s Singles\n\n\n\nRound\nPrize Money (USD)\nRanking Points\n\n\nWinner\n$751\,075\n500\n\n\nRunner-up\n$404\,105\n330\n\n\nSemifinals\n$215\,360\n200\n\n\nQuarterfinals\n$110\,030\n100\n\n\nRound of 16\n$58\,735\n50\n\n\nRound of 32\n$31\,320\n0\n\n\n\nWomen’s Singles\n\n\n\nRound\nPrize Money (USD)\nRanking Points\n\n\nWinner\n$1\,124\,380\n1000\n\n\nRunner-up\n$597\,890\n650\n\n\nSemifinals\n$332\,160\n390\n\n\nQuarterfinals\n$189\,075\n215\n\n\nRound of 16\n$103\,225\n120\n\n\nRound of 32\n$60\,400\n65\n\n\nRound of 64\n$35\,260\n35\n\n\nRound of 128\n$23\,760\n10\n\n\n\nMen’s Doubles (per team)\n\n\n\nRound\nPrize Money (USD)\nRanking Points\n\n\nWinners\n$246\,690\n500\n\n\nRunners-up\n$131\,560\n300\n\n\nSemifinals\n$66\,560\n180\n\n\nQuarterfinals\n$33\,290\n90\n\n\nRound of 16\n$17\,230\n0\n\n\n\nWomen’s Doubles (per team)\n\n\n\nRound\nPrize Money (USD)\nRanking Points\n\n\nWinners\n$457\,150\n1000\n\n\nRunners-up\n$242\,020\n650\n\n\nSemifinals\n$129\,970\n390\n\n\nQuarterfinals\n$65\,000\n215\n\n\nRound of 16\n$34\,850\n120\n\n\nRound of 32\n$19\,050\n10\n\n\n\nPlayer Field\nMen’s Singles: Sinner Reclaims China Open\nThe men’s singles portion of the China Open 2025 concluded\, with top seed and former champion Jannik Sinner reaffirming his dominance on the hard courts of Beijing. In a display of commanding form\, Sinner defeated American teenager Learner Tien in a straight-sets final\, 6-2\, 6-2\, to claim his second China Open title. \nSinner’s victory capped a stellar week for the world No. 1\, who entered the tournament as a clear favorite. The Italian\, who won the China Open in 2023\, demonstrated why he is considered one of the most formidable players on the ATP Tour. His path to the final was not without its challenges\, as he had to overcome a tenacious Alex de Minaur in the semifinals in a hard-fought three-set match\, 6-3\, 4-6\, 6-2. \nWhile Sinner’s victory was a testament to his consistent excellence\, the tournament was also defined by a series of surprising results and impressive performances from rising stars. One of the biggest headlines was the unexpected run of 19-year-old Learner Tien. The young American\, ranked No. 52 in the world\, had a breakout tournament\, reaching his first-ever ATP final after a stunning upset of Daniil Medvedev in the semifinals. Medvedev\, seeded eighth\, retired from their semifinal match with a score of 5-7\, 7-5\, 4-0. \nOther top seeds faced mixed results. World No. 3 Alexander Zverev\, who entered the tournament as the second seed\, was defeated by Daniil Medvedev in the quarterfinals\, 6-3\, 6-3. Zverev’s loss was a notable upset\, as he had been a strong contender for the title. The men’s draw also saw other key players exit early\, with fifth seed Karen Khachanov losing in the first round. Rising star Jakub Mensik\, seeded seventh\, also had his run cut short\, retiring from his quarterfinal match against Alex de Minaur. \nThe men’s final was a showcase of Sinner’s clinical efficiency. He broke Tien immediately in the first set and never looked back\, outclassing the young American with a powerful and consistent performance. Sinner’s 21st career title and his third of the 2025 season (following victories at the Australian Open and Wimbledon) solidifies his position at the top of the men’s game. \nWomen’s Singles: Anisimova Crowned Champion\n\nThe women’s singles event at the 2025 China Open concluded\, crowning a new champion in a final that was as dramatic as it was compelling. After a week of upsets and incredible performances\, American star Amanda Anisimova has emerged victorious\, defeating Czech Republic’s Linda Nosková with a final score of 6–0\, 2–6\, 6–2. The result marks a significant moment for both players and a dramatic shake-up in the final push for the year-end WTA Finals. \nThe women’s singles draw\, which began with a staggering 76 direct acceptances and a breathtaking collection of 12 Grand Slam champions\, lived up to its billing as a “who’s who” of tennis royalty. However\, the 96-player field\, which required a non-seeded player to win seven consecutive matches to take the title\, proved to be a minefield for the top seeds. The tournament was defined not just by its champions\, but by the surprising early exits of many of the sport’s biggest names. \nTop seed and world No. 1 Aryna Sabalenka\, despite her strong form at the US Open\, was unable to secure her first China Open title. Defending champion Coco Gauff\, fighting for crucial points to solidify her place in the WTA Finals\, also faced an early exit\, leaving the door open for a new contender. Former world No. 1s and Grand Slam champions like Iga Swiatek\, Elena Rybakina\, and Naomi Osaka all succumbed to the pressure of the demanding draw\, highlighting the intense depth of talent on the tour. \nThe stage was set for an underdog story\, and both Anisimova and Nosková delivered. Anisimova\, known for her powerful groundstrokes\, navigated the treacherous draw with remarkable consistency\, taking down a series of formidable opponents to reach her first final of the season. Her opponent\, the 20-year-old Linda Nosková\, had an equally impressive run\, displaying the aggressive baseline game that has marked her as a rising star. \nThe final match itself was a rollercoaster of momentum. Anisimova exploded out of the gate\, playing flawless tennis to win the first set 6–0. It seemed as though she would cruise to the title\, but Nosková mounted a stunning comeback\, adjusting her strategy and hitting her targets to take the second set 6–2. The match was forced into a decisive third set\, where Anisimova’s experience and grit shone through. She regained her composure\, broke Nosková’s serve\, and methodically closed out the final set 6–2 to claim the most significant title of her career. \nThe victory not only cements Anisimova’s return to the top echelon of the game but also has major implications for the race to the WTA Finals. While Sabalenka and Swiatek had already qualified\, the points gained by Anisimova and Nosková will significantly alter the rankings for the final few spots. This China Open will be remembered as a crucial battleground\, where the unseeded players proved they were a force to be reckoned with. On the domestic front\, Chinese fans rallied behind Olympic Singles Gold Medallist from the Paris Games\, Zheng Qinwen\, along with Wang Xinyu and Wang Yafan. While they were unable to make a deep run\, their competitive spirit on home soil was a testament to the growing strength of Chinese tennis. \n\nHistory\nThe China Open has a rich history\, with the first men’s singles and doubles events held in 1993 as part of a series of new ATP tournaments in Asia. The tournament was discontinued in 1998 but was reinstated in 2004\, with the women’s event joining the calendar. In 2006\, the China Open became the first tournament outside of the United States to use the Hawk-Eye electronic line-calling system. The event was not held from 2020 to 2022 due to the COVID-19 pandemic\, but returned in 2023. \nThe tournament has seen many legendary champions over the years. On the men’s side\, Novak Djokovic holds the record for most titles with six\, while Michael Chang won three consecutive titles in the tournament’s early years. Other notable men’s champions include Rafael Nadal\, Andy Murray\, and Jannik Sinner. On the women’s side\, Serena Williams\, Svetlana Kuznetsova\, and Agnieszka Radwańska are among the multi-time champions. The most recent women’s singles winner was Coco Gauff in 2024. \n\nReferences1“2025 China Open“. english.beijing.gov.cn. Retrieved 12 August 2025.2“China Open Tennis Tournament Guide“. thetennistribe.com. Retrieved 12 August 2025.3“China Open Overview“. atptour.com. Retrieved 12 August 2025.4“China Open 2025 Overview“. wtatennis.com. Retrieved 12 August 2025.5“2025中国网球公开赛正式开票“. chinadaily.com.cn (in Chinese). Retrieved 12 August 2025.
URL:https://tennistourcalendar.com/event/2025-china-open/
LOCATION:Beijing Olympic Green Tennis Center\, 2 Lincui Rd\, Chaoyang\, Beijing\, 100107\, China
CATEGORIES:ATP Tour,WTA Tour
ATTACH;FMTTYPE=image/jpeg:https://tennistourcalendar.com/wp-content/uploads/2025/08/China-Open-Tennis.jpg
END:VEVENT
BEGIN:VEVENT
DTSTART;VALUE=DATE:20251006
DTEND;VALUE=DATE:20251013
DTSTAMP:20260424T164403
CREATED:20250815T050916Z
LAST-MODIFIED:20251012T154326Z
UID:271-1759708800-1760313599@tennistourcalendar.com
SUMMARY:2025 Wuhan Open
DESCRIPTION:The 2025 Dongfeng Voyah · Wuhan Open was a women’s tennis tournament played on outdoor hard courts. It was the 8th edition of the Wuhan Open and a WTA 1000 event on the 2025 WTA Tour. The tournament took place at the Optics Valley International Tennis Centre in Wuhan\, Hubei\, China\, from October 6 to 12\, 2025.1“Dongfeng Voyah · Wuhan Open 2025 Overview”. wtatennis.com. Retrieved 15 August 2025. \nCoco Gauff clinched the 2025 Wuhan Open singles title with a straight-sets victory over fellow American Jessica Pegula in the final\, prevailing 6–4\, 7–5. This victory marked Gauff’s third WTA 1000 title and her eleventh singles title overall on the WTA Tour. Impressively\, Gauff did not drop a single set throughout the entire tournament. \nThe tournament saw a notable upset in the semifinals where Pegula ended the dominant run of three-time defending champion\, Aryna Sabalenka. Sabalenka’s loss\, though\, broke her incredible 20-match winning streak at the Wuhan Open\, which began with her debut in 2018. Despite the semi-final exit\, by reaching that stage\, Sabalenka secured the year-end world No. 1 ranking for the second consecutive year. \nThe 2025 edition was historic\, as it was the first time all four semifinalists were ranked inside the WTA’s top 10. Following the tournament’s conclusion\, Ekaterina Alexandrova debuted in the WTA rankings top 10\, becoming the third-oldest woman to achieve the feat. \nIn the doubles competition\, the unseeded team of Storm Hunter and Kateřina Siniaková defeated defending champion Anna Danilina and her partner Aleksandra Krunić in a straightforward final\, 6–3\, 6–2\, to take the title. \nThe previous year’s champions\, Danilina and Irina Khromacheva\, chose not to play together this year. Khromacheva partnered with Aldila Sutjiadi but suffered a first-round defeat to Leylah Fernandez and Erin Routliffe. \nSiniaková maintained her hold on the WTA No. 1 doubles ranking after her run to the semifinals. Taylor Townsend and Routliffe were the other players who had a chance to claim the top spot at the start of the event. \nChampions\n\n\n\nEvent\nChampion(s)\nRunner(s)-up\n\n\nSingles\n🇺🇸 Coco Gauff [3]\n🇺🇸 Jessica Pegula [6]\n\n\n6–4\, 7–5\n\n\nDoubles\n🇦🇺 Storm Hunter\n🇨🇿 Kateřina Siniaková\n🇰🇿 Anna Danilina [8]\n🇷🇸 Aleksandra Krunić\n\n\n 6–3\, 6–2\n\n\n\nTournament Details\n\n\n\nDate\n6–12 October\n\n\nEdition\n8th\n\n\nDraw\n56 Singles / 28 Doubles\n\n\nCategory\nWTA 1000\n\n\nTotal Prize Money\n$3\,654\,963\n\n\nSurface\nHard\n\n\nLocation\nWuhan\, Hubei\, China\n\n\nVenue\nOptics Valley International Tennis Center\n\n\n\nTournament Links\n\n\n\nOfficial Website\n\n\nWTA Tournament Profile\n\n\nOrder of Play\nDraws\nPlayer List\n\n\n\nTournament History\nThe Wuhan Open\, though a relatively young tournament on the WTA calendar\, has carved out a significant and dramatic history since its inception. Founded in 2014\, it was established with immediate prestige as a WTA Premier 5 event (now categorized as WTA 1000)\, a testament to China’s growing influence in the world of tennis and the WTA’s strategy to deepen its roots in the Asian market. Its creation was part of a strategic expansion of the Asian swing\, designed to create a powerful lead-in series to the China Open in Beijing. \nThe tournament was held from 2014 to 2019 at the state-of-the-art Optics Valley International Tennis Center in Wuhan\, the capital of Hubei province. This was a fitting location\, as Wuhan is the birthplace of Li Na\, China’s first Grand Slam singles champion and a global tennis icon. The tournament cleverly leveraged her legacy\, and Li Na herself served as the tournament ambassador\, lending her immense popularity to ensure its instant credibility and fan appeal. \nThe early editions of the Wuhan Open were marked by spectacular success and high-quality tennis. Its debut in 2014 saw Petra Kvitova claim the title\, defeating an impressive field. This set the tone for the event to become a mandatory stop for the world’s top players. The list of champions reads like a who’s who of women’s tennis\, including Venus Williams (2015)\, Caroline Wozniacki (2018)\, and Aryna Sabalenka (2018 & 2019). The tournament quickly gained a reputation for its excellent organization\, passionate crowds\, and world-class facilities\, particularly its striking center court with a petal-like roof. \nHowever\, the tournament’s trajectory was abruptly halted by the COVID-19 pandemic. The virus first emerged in Wuhan in late 2019\, leading to the city’s strict lockdown in early 2020. Unsurprisingly\, the 2020 edition was cancelled\, as were many tournaments worldwide. Unlike other events\, the Wuhan Open remained off the calendar for an extended period due to the unique circumstances of its origin city and China’s subsequent strict zero-COVID policy\, which prevented international sporting events from returning. This resulted in a four-year hiatus from 2020 to 2023. \nThe tournament’s return in September 2024 was a momentous occasion\, symbolizing a return to normalcy for the city of Wuhan and the WTA’s full-scale return to China after a prolonged absence. Its re-entry onto the calendar retained its elite WTA 1000 status\, cementing its position as one of the most important tournaments in the world\, second only to the Grand Slams and the WTA Finals. The 2024 event served as a critical proving ground for players ahead of the China Open and was a powerful symbol of the sport’s global reunification. \nIn summary\, the history of the Wuhan Open is a tale of two distinct chapters: its meteoric rise (2014-2019) as a beloved and successful event built on the legacy of Li Na\, followed by an unexpected and prolonged hiatus (2020-2023) due to a global pandemic that began at its doorstep. Its successful return in 2024 marks a new chapter\, reaffirming its vital role as a premier stop on the WTA Tour and a cornerstone of the Asian swing. \nThe Venue: Optics Valley International Tennis Center\nNestled in the heart of Wuhan’s burgeoning East Lake High-Tech Development Zone\, the Optics Valley International Tennis Center stands as a premier sporting venue and a cathedral for tennis enthusiasts in central China. Far more than just a collection of courts\, it is a modern\, architecturally striking complex designed to host world-class events and foster a deep passion for the sport. It is most famously the permanent home of the Wuhan Open\, a prestigious WTA 1000 tournament that attracts the absolute elite of women’s tennis every September\, transforming the city into a global sporting destination. \nThe center’s crown jewel is its magnificent 5\,000-seat stadium court\, renowned for its distinctive petal-shaped roof. This elegant\, flowing design is not merely aesthetic; it symbolizes the city’s nickname\, “the City of Rivers\,” and represents the dynamic energy of both Wuhan and the sport itself. The arena provides an intimate yet electrifying atmosphere for spectators\, ensuring superb sightlines and an immersive experience. Beyond the main stadium\, the facility boasts a comprehensive array of 15 additional outdoor hard courts\, including a secondary stadium with a capacity of 1\,500\, which are used for qualifying matches and practice sessions. \nDuring tournament time\, the center buzzes with a festival-like energy\, featuring fan zones\, gourmet food stalls\, and interactive activities. However\, its role extends beyond this single annual event. As a year-round public facility\, it serves as a vital hub for nurturing local talent\, hosting national tournaments\, and promoting grassroots tennis development. The Optics Valley International Tennis Center is a powerful symbol of Wuhan’s modernity and its commitment to health\, international culture\, and high-tech excellence\, solidifying its status as a key pillar of China’s impressive tennis infrastructure. \n\nReferences1“Dongfeng Voyah · Wuhan Open 2025 Overview”. wtatennis.com. Retrieved 15 August 2025.
URL:https://tennistourcalendar.com/event/2025-wuhan-open/
LOCATION:Optics Valley International Tennis Center\, Gaoxin 2 Rd\, Jiangxia District\, Wuhan\, Hubei\, 430075\, China
CATEGORIES:WTA Tour
ATTACH;FMTTYPE=image/jpeg:https://tennistourcalendar.com/wp-content/uploads/2025/08/Wuhan-Open.jpg
END:VEVENT
END:VCALENDAR