BEGIN:VCALENDAR
VERSION:2.0
PRODID:-//Tennis Tour Calendar - ECPv6.15.20//NONSGML v1.0//EN
CALSCALE:GREGORIAN
METHOD:PUBLISH
X-ORIGINAL-URL:https://tennistourcalendar.com
X-WR-CALDESC:Events for Tennis Tour Calendar
REFRESH-INTERVAL;VALUE=DURATION:PT1H
X-Robots-Tag:noindex
X-PUBLISHED-TTL:PT1H
BEGIN:VTIMEZONE
TZID:Asia/Qatar
BEGIN:STANDARD
TZOFFSETFROM:+0300
TZOFFSETTO:+0300
TZNAME:+03
DTSTART:20250101T000000
END:STANDARD
END:VTIMEZONE
BEGIN:VTIMEZONE
TZID:Asia/Dubai
BEGIN:STANDARD
TZOFFSETFROM:+0400
TZOFFSETTO:+0400
TZNAME:+04
DTSTART:20250101T000000
END:STANDARD
END:VTIMEZONE
BEGIN:VEVENT
DTSTART;TZID=Asia/Qatar:20260208T000000
DTEND;TZID=Asia/Qatar:20260214T235959
DTSTAMP:20260422T044456
CREATED:20260201T181340Z
LAST-MODIFIED:20260214T183116Z
UID:2941-1770508800-1771113599@tennistourcalendar.com
SUMMARY:2026 Qatar TotalEnergies Open
DESCRIPTION:Updated on August 6\, 2025\n\n\nThe 2026 tennis season is moving at a breakneck pace\, and as the “Middle East Swing” arrived\, all eyes turned to the golden sands of Doha. The 2026 Qatar TotalEnergies Open reclaimed its place as the premier early-season destination for the WTA’s elite\, delivering a week of high-octane tennis and a historic breakthrough for one of the tour’s most versatile players. \n\n\n\nAs the first WTA 1000 event of the year\, Doha served as more than just a tournament; it was a statement of intent. For the world’s top players\, the road to year-end greatness found its first major milestone here at the iconic Khalifa International Tennis & Squash Complex. \n\n\n\nTournament Dates and Venue\n\n\n\nThe 24th edition of the Qatar TotalEnergies Open took place from February 8 to February 14\, 2026. The matches were held at the Khalifa International Tennis & Squash Complex in Doha\, Qatar. The centerpiece was the magnificent 7\,000-seat Centre Court\, which offered an electric atmosphere for the season’s first 1000-level showdown. \n\n\n\n\n\n\n\nChampions\n\n\n\nThe 2026 tournament concluded with a mix of veteran resurgence and youth-led excitement. \n\n\n\nSingles: Muchová’s Masterclass\n\n\n\nIn a thrilling final\, 14th seed Karolína Muchová defeated Canadian teenage sensation Victoria Mboko 6–4\, 7–5. \n\n\n\n\nA Historic Win: This marks Muchová’s first WTA 1000 title and her second career title overall.\n\n\n\nThe Match: Muchová utilized her signature variety and all-court craft to overcome the power of the 19-year-old Mboko. Despite the loss\, Mboko’s run to the final ensured her a historic debut in the WTA Top 10 rankings the following Monday.\n\n\n\nDefending Champ: 2025 winner Amanda Anisimova was forced to retire from her second-round match against Karolína Plíšková.\n\n\n\n\nDoubles: The Great Escape\n\n\n\nThe doubles crown went to Anna Danilina and Aleksandra Krunić\, who staged one of the most remarkable comebacks in tournament history. They defeated the experienced duo of Hsieh Su-wei and Jeļena Ostapenko 0–6\, 7–6(7–3)\, [10–8]. \n\n\n\n\nPersistence Pays: After losing the first set 0–6 and facing a championship point in the second set\, Danilina and Krunić rallied to take the title.\n\n\n\nMilestones: This was Krunić’s first WTA 1000 doubles title and the second for Danilina.\n\n\n\n\n\n\n\n\nAt a Glance\n\n\n\nFeatureDetailsDatesFebruary 8–14\, 2026SurfaceOutdoor Hard CourtCategoryWTA 1000Total Financial Commitment$4\,088\,211Singles WinnerKarolína Muchová ($665\,000)Doubles WinnersDanilina / Krunić ($175\,900)\n\n\n\n\n\n\n\nSeeds and Storylines: A Look Back\n\n\n\nThe 2026 field was headlined by a “Big Three” but saw several upsets that shook the draw: \n\n\n\n\nIga Świątek (1): The three-time champion’s quest for a fourth title ended in the quarterfinals at the hands of Maria Sakkari.\n\n\n\nElena Rybakina (2): Fell to the eventual finalist Victoria Mboko in a tightly contested three-set quarterfinal.\n\n\n\nCoco Gauff (4): Suffered a surprising second-round exit.\n\n\n\nMirra Andreeva (5): The young star reached the third round before falling to the grit of the Doha veterans.\n\n\n\n\nThe 2026 Qatar TotalEnergies Open proved once again that Doha is a place where new legends can emerge and established stars can find their footing for the long season ahead. \n\n\n\n\n\n\n\nProvisional Tournament Schedule\n\n\n\nThe action kicks off with qualifying rounds on February 6\, leading into a week of nonstop main-draw drama. \n\n\n\n\nSunday\, Feb 8: First Round\n\n\n\nMonday\, Feb 9: First & Second Round\n\n\n\nTuesday\, Feb 10: Second & Third Round\n\n\n\nWednesday\, Feb 11: Round of 16\n\n\n\nThursday\, Feb 12: Quarterfinals\n\n\n\nFriday\, Feb 13: Semifinals\n\n\n\nSaturday\, Feb 14: Singles & Doubles Finals\n\n\n\n\n\n\n\n\nPrize Money and Ranking Points\n\n\n\nThe Qatar TotalEnergies Open is one of the most rewarding events on the calendar\, reflecting the nation’s commitment to women’s sport. Below is the prize distribution for the 2026 event. \n\n\n\nSingles Prize Money\n\n\n\nRoundPrize Money (USD)WTA PointsWinner$665\,0001000Runner-up$385\,001650Semifinalist$197\,000390Quarterfinalist$98\,500215Round of 16$49\,250120Round of 32$26\,00065Round of 56$18\,30010
URL:https://tennistourcalendar.com/event/2026-qatar-totalenergies-open/
LOCATION:Khalifa International Tennis and Squash Complex\, Al Majles Twaon Street\, Doha\, Qatar
CATEGORIES:WTA Tour
ATTACH;FMTTYPE=image/jpeg:https://tennistourcalendar.com/wp-content/uploads/2026/02/Qatar-TotalEnergies-Open-Tennis.jpg
END:VEVENT
BEGIN:VEVENT
DTSTART;TZID=Asia/Dubai:20260213T000000
DTEND;TZID=Asia/Dubai:20260228T235959
DTSTAMP:20260422T044456
CREATED:20260212T020714Z
LAST-MODIFIED:20260215T125356Z
UID:3107-1770940800-1772323199@tennistourcalendar.com
SUMMARY:2026 Dubai Tennis Championships
DESCRIPTION:Updated on August 6\, 2025\n\n\nAs the desert sun begins its annual dance over the Arabian Peninsula\, the tennis world turns its gaze toward the jewel of the Middle East. The 2026 Dubai Duty Free Tennis Championships is set to return to the Aviation Club Tennis Centre\, promising two weeks of high-octane drama\, elite athleticism\, and the glamour that only Dubai can provide. \n\n\n\nNow in its 34th year for the ATP and 26th year for the WTA\, this tournament has evolved from a burgeoning regional event into a cornerstone of the professional tours. As a WTA 1000 and an ATP 500 event\, it stands as a critical stop for players looking to cement their rankings before the tour moves toward the American “Sunshine Double.” \n\n\n\nTable of Contents[Open][Close]Tournament Dates & VenuePrize Money & Points DistributionWTA 1000 Prize Money (Women)ATP 500 Prize Money (Men)Provisional Schedule 2026WTA 1000 (Feb 15 – 21)ATP 500 (Feb 23 – 28)Stars to Watch: The Elite FieldThe Women’s Field (WTA)The Men’s Field (ATP)A Legacy of ChampionsMore Than Just Tennis: The Fan Experience\n\n\n\nTournament Dates & Venue\n\n\n\nThe 2026 edition continues the tradition of back-to-back weeks\, starting with the women’s elite and concluding with the men’s powerhouses. \n\n\n\n\nWomen’s WTA 1000: Qualifying: February 13 & 14 | Main Draw: February 15 – 21\, 2026\n\n\n\nMen’s ATP 500: Qualifying: February 21 & 22 | Main Draw: February 23 – 28\, 2026\n\n\n\nVenue: The iconic Aviation Club Tennis Centre\, Dubai\, UAE.\n\n\n\n\nThe venue is celebrated for its intimate atmosphere\, where fans can feel the “thwack” of the ball from nearly any seat in the house. \n\n\n\n\n\n\n\nPrize Money & Points Distribution\n\n\n\nDubai is famous for its generous purses. For 2026\, the stakes have been raised once again. Below is the breakdown for both the singles events. \n\n\n\nWTA 1000 Prize Money (Women)\n\n\n\nThe total prize pool for the women’s week has reached approximately $4\,088\,211\, reflecting an 11.8% increase from the previous year. \n\n\n\nRoundPrize Money (USD)Ranking PointsWinner$665\,0001\,000Finalist$385\,001650Semifinalist$197\,000390Quarterfinalist$98\,500215Round 3$49\,250120Round 2$26\,00065Round 1$18\,30010\n\n\n\nATP 500 Prize Money (Men)\n\n\n\nThe men’s total financial commitment stands at approximately $3\,311\,005. While official final figures are often refined at the draw\, the estimated distribution based on the 2026 ATP 500 structure is as follows: \n\n\n\nRoundPrize Money (USD)Ranking PointsWinner$529\,945500Finalist$285\,095330Semifinalist$151\,935200Quarterfinalist$77\,625100Round 2 (R16)$41\,43550Round 1 (R32)$22\,0950\n\n\n\n\n\n\n\nProvisional Schedule 2026\n\n\n\nMatches typically begin in the morning\, with the prestigious night sessions under the lights providing some of the most memorable moments of the tournament. \n\n\n\nWTA 1000 (Feb 15 – 21)\n\n\n\nDayTimeRoundsSun\, 15 Feb11am & 7pm1st RoundMon\, 16 Feb11am & 7pm1st RoundTue\, 17 Feb11am & 7pm2nd RoundWed\, 18 Feb11am & 7pm3rd RoundThu\, 19 Feb2pm & 7pmQuarterfinalsFri\, 20 Feb1pm & 7pmSemifinalsSat\, 21 Feb4:30pm & 7pmFinals\n\n\n\nATP 500 (Feb 23 – 28)\n\n\n\nDayTimeRoundsMon\, 23 Feb2pm & 7pm1st RoundTue\, 24 Feb2pm & 7pm2nd RoundWed\, 25 Feb2pm & 7pm3rd RoundThu\, 26 Feb2pm & 7pmQuarterfinalsFri\, 27 Feb1:30pm & 7pmSemifinalsSat\, 28 Feb4:30pm & 7pmFinals\n\n\n\n\n\n\n\nStars to Watch: The Elite Field\n\n\n\nThe 2026 Dubai Duty Free Tennis Championships has seen a shake-up in its entry list just as the gates open. While a string of high-profile withdrawals has shifted the spotlight\, the field remains incredibly deep\, featuring elite talent and the sport’s most exciting rising stars. \n\n\n\nThe Women’s Field (WTA 1000)\n\n\n\nSignificant Note: World No. 1 Aryna Sabalenka (fatigue) and World No. 2 Iga Świątek (scheduling) have officially withdrawn from this year’s event. They are joined on the sidelines by Doha champion Karolina Muchová\, Zheng Qinwen\, and Maria Sakkari. \n\n\n\n\nElena Rybakina (The New Top Seed): Fresh off her 2026 Australian Open triumph\, the Kazakh powerhouse is now the woman to beat. Her clinical serve and flat groundstrokes are lethal on these quick courts.\n\n\n\nCoco Gauff: The World No. 5 and fan favorite is looking to capitalize on the open draw. Her defensive prowess and improved aggressive play make her a top contender to reach the final Saturday.\n\n\n\nMirra Andreeva (Defending Champion): The 18-year-old returnee. After her historic run last year\, all eyes are on whether the “Teen Queen of Dubai” can maintain her composure as the defending champion.\n\n\n\nAmanda Anisimova: Following a resurgent start to 2026\, Anisimova enters as the No. 2 seed. Her ability to take the ball early could see her overpower the field in the bottom half of the draw.\n\n\n\nEmma Raducanu: The British star is back in the main draw on merit. Unseeded but dangerous\, she remains one of the most followed players and a legitimate threat to any seed in the early rounds.\n\n\n\n\nThe Men’s Field (ATP 500)\n\n\n\nThe men’s side features a “Clash of Champions\,” with four former winners returning to the Aviation Club. \n\n\n\n\nStefanos Tsitsipas (Defending Champion): The Greek star finally conquered Dubai in 2025. He returns with the confidence of a man who has mastered the desert conditions and is looking for a rare back-to-back title.\n\n\n\nDaniil Medvedev: The “Chessmaster” and 2023 champion. Medvedev thrives on the low-bouncing surface in Dubai and remains the most tactically versatile player in the draw.\n\n\n\nAndrey Rublev: A former champion (2022) and perennial contender. Rublev’s high-intensity game is a perfect match for the energetic Dubai night sessions.\n\n\n\nFelix Auger-Aliassime: Last year’s runner-up is on a mission. After pushing Tsitsipas to the limit in the 2025 final\, the Canadian is seeking redemption and his first Dubai crown.\n\n\n\nJack Draper: The British No. 1 is the tournament’s “dark horse.” His heavy left-handed game and massive serve make him a player none of the top seeds want to see in their quarter.\n\n\n\n\n\n\n\n\nA Legacy of Champions\n\n\n\nThe Dubai Duty Free Tennis Championships isn’t just a tournament; it’s a hall of fame in motion. The walls of the Aviation Club are adorned with the names of legends who have graced these courts. \n\n\n\n\nWomen’s Greats: Recent years have seen triumphs from Jasmine Paolini (2024)\, Barbora Krejčíková (2023)\, and the historic run of Elina Svitolina (back-to-back 2017-18). These modern stars join legends like Venus and Serena Williams\, Justine Henin (4-time champ)\, and Martina Hingis.\n\n\n\nMen’s Icons: The men’s side is dominated by the shadow of Roger Federer\, who holds a record eight titles. Other legendary winners include Novak Djokovic (5 titles)\, Rafael Nadal\, and Andre Agassi. Recent years have seen a shift toward the “new guard\,” with champions like Ugo Humbert (2024) and Aslan Karatsev (2021) proving that anyone in the draw can seize the moment.\n\n\n\n\n\n\n\n\nMore Than Just Tennis: The Fan Experience\n\n\n\nWhat sets Dubai apart is the off-court entertainment. The tournament is owned and organized by Dubai Duty Free\, ensuring a world-class luxury experience. \n\n\n\n\nThe Irish Village: Located right next to the stadium\, it becomes the heartbeat of the tournament\, where fans gather for live music and a unique atmosphere.\n\n\n\nKids’ Days & Clinics: The tournament continues its mission to grow the sport in the UAE\, hosting clinics for local schools and aspiring young players.\n\n\n\nGlobal Reach: With broadcast coverage reaching over 100 countries\, the event serves as a global billboard for Dubai as a premier sporting destination.\n\n\n\n\nAs we look toward mid-February\, the narrative is set. Will the veterans re-assert their dominance\, or will 2026 be the year a new teenage prodigy follows in Mirra Andreeva’s footsteps? One thing is certain: under the Dubai lights\, the tennis will be nothing short of spectacular.
URL:https://tennistourcalendar.com/event/2026-dubai-tennis-championships/
LOCATION:Dubai Duty Free Tennis Stadium\, Al Garhoud\, Dubai\, United Arab Emirates
CATEGORIES:ATP Tour,WTA Tour
ATTACH;FMTTYPE=image/jpeg:https://tennistourcalendar.com/wp-content/uploads/2026/02/Dubai-Tennis-Championships.jpg
END:VEVENT
END:VCALENDAR