BEGIN:VCALENDAR
VERSION:2.0
PRODID:-//Tennis Tour Calendar - ECPv6.15.20//NONSGML v1.0//EN
CALSCALE:GREGORIAN
METHOD:PUBLISH
X-ORIGINAL-URL:https://tennistourcalendar.com
X-WR-CALDESC:Events for Tennis Tour Calendar
REFRESH-INTERVAL;VALUE=DURATION:PT1H
X-Robots-Tag:noindex
X-PUBLISHED-TTL:PT1H
BEGIN:VTIMEZONE
TZID:Europe/Bucharest
BEGIN:DAYLIGHT
TZOFFSETFROM:+0200
TZOFFSETTO:+0300
TZNAME:EEST
DTSTART:20250330T010000
END:DAYLIGHT
BEGIN:STANDARD
TZOFFSETFROM:+0300
TZOFFSETTO:+0200
TZNAME:EET
DTSTART:20251026T010000
END:STANDARD
BEGIN:DAYLIGHT
TZOFFSETFROM:+0200
TZOFFSETTO:+0300
TZNAME:EEST
DTSTART:20260329T010000
END:DAYLIGHT
BEGIN:STANDARD
TZOFFSETFROM:+0300
TZOFFSETTO:+0200
TZNAME:EET
DTSTART:20261025T010000
END:STANDARD
BEGIN:DAYLIGHT
TZOFFSETFROM:+0200
TZOFFSETTO:+0300
TZNAME:EEST
DTSTART:20270328T010000
END:DAYLIGHT
BEGIN:STANDARD
TZOFFSETFROM:+0300
TZOFFSETTO:+0200
TZNAME:EET
DTSTART:20271031T010000
END:STANDARD
END:VTIMEZONE
BEGIN:VTIMEZONE
TZID:Europe/Prague
BEGIN:DAYLIGHT
TZOFFSETFROM:+0100
TZOFFSETTO:+0200
TZNAME:CEST
DTSTART:20250330T010000
END:DAYLIGHT
BEGIN:STANDARD
TZOFFSETFROM:+0200
TZOFFSETTO:+0100
TZNAME:CET
DTSTART:20251026T010000
END:STANDARD
BEGIN:DAYLIGHT
TZOFFSETFROM:+0100
TZOFFSETTO:+0200
TZNAME:CEST
DTSTART:20260329T010000
END:DAYLIGHT
BEGIN:STANDARD
TZOFFSETFROM:+0200
TZOFFSETTO:+0100
TZNAME:CET
DTSTART:20261025T010000
END:STANDARD
BEGIN:DAYLIGHT
TZOFFSETFROM:+0100
TZOFFSETTO:+0200
TZNAME:CEST
DTSTART:20270328T010000
END:DAYLIGHT
BEGIN:STANDARD
TZOFFSETFROM:+0200
TZOFFSETTO:+0100
TZNAME:CET
DTSTART:20271031T010000
END:STANDARD
END:VTIMEZONE
BEGIN:VTIMEZONE
TZID:America/Chicago
BEGIN:DAYLIGHT
TZOFFSETFROM:-0600
TZOFFSETTO:-0500
TZNAME:CDT
DTSTART:20250309T080000
END:DAYLIGHT
BEGIN:STANDARD
TZOFFSETFROM:-0500
TZOFFSETTO:-0600
TZNAME:CST
DTSTART:20251102T070000
END:STANDARD
BEGIN:DAYLIGHT
TZOFFSETFROM:-0600
TZOFFSETTO:-0500
TZNAME:CDT
DTSTART:20260308T080000
END:DAYLIGHT
BEGIN:STANDARD
TZOFFSETFROM:-0500
TZOFFSETTO:-0600
TZNAME:CST
DTSTART:20261101T070000
END:STANDARD
BEGIN:DAYLIGHT
TZOFFSETFROM:-0600
TZOFFSETTO:-0500
TZNAME:CDT
DTSTART:20270314T080000
END:DAYLIGHT
BEGIN:STANDARD
TZOFFSETFROM:-0500
TZOFFSETTO:-0600
TZNAME:CST
DTSTART:20271107T070000
END:STANDARD
END:VTIMEZONE
BEGIN:VEVENT
DTSTART;TZID=Europe/Bucharest:20260131T000000
DTEND;TZID=Europe/Bucharest:20260207T235959
DTSTAMP:20260422T044454
CREATED:20260131T135951Z
LAST-MODIFIED:20260131T135955Z
UID:2910-1769817600-1770508799@tennistourcalendar.com
SUMMARY:2026 Transylvania Open
DESCRIPTION:The WTA Tour returns to the heart of Romania this February for the sixth edition of the Transylvania Open powered by Kaufland. As one of the most beloved stops on the indoor hard-court circuit\, the tournament has quickly established a reputation for its electrifying atmosphere and high-caliber competition. This year\, the stakes are higher than ever as a mix of Grand Slam champions\, local heroes\, and rising stars converge in Cluj-Napoca to battle for the title. \n\n\n\nTournament Venue and Dates\n\n\n\nThe 2026 Transylvania Open will take place from February 1 to February 7\, 2026. The event is hosted at the prestigious BT Arena in Cluj-Napoca\, Romania\, a venue renowned for its state-of-the-art facilities and passionate crowd. Matches will be contested on indoor hard courts (Courtsol)\, providing a fast and consistent surface that favors aggressive baseliners and big servers alike. \n\n\n\nStars to Watch\n\n\n\nThe 2026 draw is headlined by a compelling group of athletes\, led by top seed Emma Raducanu. Raducanu\, the 2021 US Open champion\, enters the tournament ranked No. 29 in the world and remains a massive draw for the Romanian public due to her family ties to the country. Interestingly\, Raducanu arrives in Cluj following a recent split from her coach\, Francisco Roig\, adding a layer of intrigue to her performance as she seeks to find her rhythm early in the season. \n\n\n\nLocal fans will have plenty to cheer for with two Romanians seeded in the top three: \n\n\n\n\nJaqueline Cristian (No. 2 seed): Ranked No. 35\, Cristian is in peak form and looking to claim her first WTA singles title on home soil.\n\n\n\nSorana Cîrstea (No. 3 seed): The veteran Romanian star (No. 41) has announced that 2026 will be her final season on the professional tour\, making this appearance in Cluj an emotional farewell to her home fans.\n\n\n\n\nOther notable contenders include defending champion Anastasia Potapova (No. 5 seed)\, who looks to replicate her 2025 success\, and former world No. 1 Karolína Plíšková\, who enters the main draw as a dangerous wildcard. \n\n\n\nTournament Details and Seeded Players\n\n\n\nThe tournament is a WTA 250 event featuring a 32-player singles main draw and a 16-team doubles draw. The total financial commitment for the 2026 edition stands at $283\,347. \n\n\n\nTop 8 Seeded Players: \n\n\n\n\nEmma Raducanu (GBR) – Rank: 29\n\n\n\nJaqueline Cristian (ROU) – Rank: 35\n\n\n\nSorana Cîrstea (ROU) – Rank: 41\n\n\n\nXinyu Wang (CHN) – Rank: 46\n\n\n\nAnastasia Potapova (AUT) – Rank: 55\n\n\n\nAntonia Ruzic (CRO) – Rank: 65\n\n\n\nOlga Danilovic (SRB) – Rank: 69\n\n\n\nAnna Bondar (HUN) – Rank: 74\n\n\n\n\nPrize Money and Points Distribution\n\n\n\nThe tournament offers significant ranking points and financial rewards across both the singles and doubles competitions: \n\n\n\nSingles Prize Money\n\n\n\nRoundPrize MoneyRanking PointsWinner$37\,390250 ptFinal$22\,125163 ptSemifinals$12\,33198 ptQuarterfinals$7\,02554 ptRound of 16$4\,60030 ptRound of 32$3\,2051 pt\n\n\n\nDoubles Prize Money\n\n\n\nRoundPrize MoneyRanking PointsWinner$13\,600250 ptFinal$7\,650163 ptSemifinals$4\,39098 ptQuarterfinals$2\,62054 ptRound of 16$2\,0201 pt\n\n\n\nAs the indoor season heats up\, the Transylvania Open promises a week of high-octane tennis\, emotional farewells\, and the potential for a home-grown champion to lift the trophy in Cluj-Napoca.
URL:https://tennistourcalendar.com/event/2026-transylvania-open/
LOCATION:BTarena\, Strada Uzinei Electrice\, Cluj-Napoca\, 400375\, Romania
CATEGORIES:WTA Tour
ATTACH;FMTTYPE=image/jpeg:https://tennistourcalendar.com/wp-content/uploads/2026/01/Transylvania-Open-Tennis.jpg
END:VEVENT
BEGIN:VEVENT
DTSTART;TZID=Europe/Prague:20260131T000000
DTEND;TZID=Europe/Prague:20260207T235959
DTSTAMP:20260422T044455
CREATED:20260201T175002Z
LAST-MODIFIED:20260201T175011Z
UID:2934-1769817600-1770508799@tennistourcalendar.com
SUMMARY:2026 Ostrava Open
DESCRIPTION:Updated on August 12\, 2025\n\n\nThe 2026 Ostrava Open marks a long-awaited homecoming for elite women’s tennis in the Czech Republic. After a three-year hiatus\, the tournament returns to the calendar\, bringing high-stakes indoor hard-court action back to one of Europe’s most passionate tennis nations. While previously a WTA 500 event\, the 2026 edition finds its new rhythm as a competitive WTA 250\, serving as a critical early-season fixture for players looking to build momentum following the Australian Open. \n\n\n\nTournament Overview: Dates and Venue\n\n\n\nThe fourth edition of the Ostrava Open is scheduled to take place from February 1 through February 7\, 2026. As winter grips Central Europe\, the action will be heating up inside the iconic Ostravar Aréna. \n\n\n\nKnown for its electric atmosphere and fast indoor surface\, the Ostravar Aréna is a premier multi-purpose venue that has historically favored aggressive baseliners and big servers. The transition to a WTA 250 status ensures a diverse draw where rising stars and seasoned veterans clash for a significant share of the ranking points and prize money. \n\n\n\n\n\n\n\nThe Defending Champions\n\n\n\nBecause the tournament has not been held since 2022\, the “defending champion” title carries a bit of nostalgia. In that legendary 2022 final\, Barbora Krejčíková defeated Iga Świątek in a three-set thriller that many fans still cite as one of the best matches of that season. \n\n\n\nIn the doubles circuit\, the 2022 winners were Caty McNally and Alycia Parks. Notably\, Caty McNally returns to Ostrava this year as a seeded player in the singles draw\, looking to recapture the magic she found on these courts four years ago. \n\n\n\n\n\n\n\nProvisional Schedule\n\n\n\nFans can expect a week of relentless tennis. While the order of play is subject to change based on match lengths and player health\, the provisional structure is as follows: \n\n\n\n\nFeb 1–2: Round of 32 (Opening Rounds)\n\n\n\nFeb 3–4: Round of 16\n\n\n\nFeb 5: Quarterfinals\n\n\n\nFeb 6: Semifinals\n\n\n\nFeb 7: Championship Saturday (Singles & Doubles Finals)\n\n\n\n\n\n\n\n\nPrize Money and Ranking Points\n\n\n\nThe 2026 Ostrava Open offers a total financial commitment of $283\,347. For many players in the WTA 250 tier\, this tournament represents a vital opportunity to break into the Top 50 or secure a seeded position for the upcoming spring hard-court swing. \n\n\n\nSingles Distribution\n\n\n\nRoundPrize MoneyRanking PointsWinner$37\,390250Finalist$22\,125163Semifinals$12\,33198Quarterfinals$7\,02554Round of 16$4\,88530Round of 32$3\,5001\n\n\n\nDoubles Distribution (per team)\n\n\n\nRoundPrize MoneyRanking PointsWinner$13\,600250Finalist$7\,650163Semifinals$4\,39098Quarterfinals$2\,62054Round of 16$2\,0201\n\n\n\n\n\n\n\nEntry List: Seeds and Stars to Watch\n\n\n\nThe 2026 entry list features a fascinating mix of tactical veterans and powerful youngsters. Leading the charge is the evergreen Tatjana Maria\, whose unique slice-and-dice game style often thrives on the low-bouncing indoor courts of Ostrava. \n\n\n\nThe Top 8 Seeds\n\n\n\n\nTatjana Maria (GER): The world No. 42 and top seed. Her variety is a nightmare for opponents on fast surfaces.\n\n\n\nEmiliana Arango (COL): A rising force from South America who has shown great adaptability on hard courts.\n\n\n\nAnna Blinkova: Known for her flat\, powerful groundstrokes that pierce through the air in indoor conditions.\n\n\n\nRebecca Sramkova (SVK): A regional favorite who will likely enjoy significant support from the local crowd.\n\n\n\nViktorija Golubic (SUI): The Swiss star brings a one-handed backhand that is as beautiful as it is effective.\n\n\n\nCaty McNally (USA): A former doubles champion here\, she knows exactly what it takes to win in this arena.\n\n\n\nMoyuka Uchijima (JPN): A consistent performer who excels in fast-paced baseline exchanges.\n\n\n\nPanna Udvardy (HUN): Rounds out the seeds\, bringing a gritty competitive edge to the bottom of the draw.\n\n\n\n\n\n\n\n\nWhy This Tournament Matters\n\n\n\nThe Ostrava Open is more than just a tennis tournament; it is a celebration of the sport in a country that consistently produces world-class talent. For the players\, the timing is perfect. Coming off the high-intensity heat of the Australian summer\, the transition to the controlled\, indoor environment of Ostrava allows for tactical adjustments and a focus on precision. \n\n\n\nFor the fans in Ostrava\, the return of the WTA Tour is a major cultural event. The Ostravar Aréna is expected to be near capacity\, especially if any local Czech wildcards make a deep run into the second half of the week. \n\n\n\n\nNote for Bettors and Analysts: Keep a close eye on Caty McNally. Her previous success in Ostrava and her comfort with the indoor court speed make her a “dark horse” despite her No. 6 seeding. \n\n\n\n\n\n\n\n\nConclusion\n\n\n\nWith a prize pool of over $283\,000 and 250 ranking points on the line\, the 2026 Ostrava Open is set to be a highlight of the February tennis calendar. Whether you are tuning in for the tactical brilliance of Tatjana Maria or the homecoming of Caty McNally\, the Ostravar Aréna is the place to be. \n\n\n\nAs the first ball is struck on February 1st\, Ostrava will once again prove why it is one of the most beloved stops on the WTA Tour. \n\n\n\nWould you like me to format this article into a specific HTML structure or prepare a social media promotional post for the tournament?
URL:https://tennistourcalendar.com/event/2026-ostrava-open/
LOCATION:Ostravar Aréna\, Ruská 3077 /135\, Ostrava-jih-Zábřeh\, 700 30\, Czech Republic
CATEGORIES:WTA Tour
ATTACH;FMTTYPE=image/jpeg:https://tennistourcalendar.com/wp-content/uploads/2026/02/Ostrava-Open-Tennis.jpg
END:VEVENT
BEGIN:VEVENT
DTSTART;TZID=America/Chicago:20260221T000000
DTEND;TZID=America/Chicago:20260301T235959
DTSTAMP:20260422T044455
CREATED:20260225T010403Z
LAST-MODIFIED:20260225T010410Z
UID:3236-1771632000-1772409599@tennistourcalendar.com
SUMMARY:2026 ATX Open
DESCRIPTION:Updated on August 12\, 2025\n\n\nThe 2026 ATX Open returns to the heart of Texas for its fourth edition\, continuing its tradition as a premier destination for world-class women’s professional tennis. As a WTA 250 event on the 2026 WTA Tour\, the tournament offers a unique\, intimate atmosphere at The Westwood Country Club in Austin. \n\n\n\nFrom February 23 through March 1\, 2026\, fans will witness high-intensity hard-court action as top players and rising stars compete for a prestigious title and critical early-season ranking points. \n\n\n\n\n\n\n\nTournament Overview: Date and Venue\n\n\n\nSince its inception\, the ATX Open has become a staple of the American tennis spring\, celebrated for its “boutique” feel and enthusiastic local support. \n\n\n\n\nDates: February 23 – March 1\, 2026\n\n\n\nVenue: The Westwood Country Club\, Austin\, Texas\, USA\n\n\n\nSurface: Outdoor Hard\n\n\n\nClassification: WTA 250\n\n\n\nWTA Supervisor: Madison Shoemaker\n\n\n\n\nThe Westwood Country Club provides an exceptional backdrop\, offering a private-club feel that brings spectators closer to the action than almost any other stop on the tour. The tournament’s placement in late February allows it to serve as a key preparation event for the upcoming “Sunshine Double” in the United States. \n\n\n\n\n\n\n\nPrize Money and Ranking Points\n\n\n\nThe 2026 ATX Open provides a significant platform for players to climb the rankings. With a 250-point reward for the champion\, the tournament is a vital opportunity for both established veterans and the tour’s brightest prospects to solidify their standing. \n\n\n\nSingles Prize Money & Points\n\n\n\nRoundPrize MoneyWTA PointsWinner$37\,390250Finalist$22\,125163Semifinalist$12\,33198Quarterfinalist$7\,02554Round of 16$4\,28530Round of 32$3\,0651\n\n\n\nDoubles Prize Money & Points (Per Team)\n\n\n\nRoundPrize MoneyWTA PointsWinner$13\,600250Finalist$7\,650163Semifinalist$4\,39098Quarterfinalist$2\,62054Round of 16$2\,0201\n\n\n\n\n\n\n\nThe Player Field: Seeds and Shakeups\n\n\n\nThe 2026 field features a strong American presence alongside international talent. However\, the tournament landscape shifted significantly just before the start of play due to high-profile withdrawals. \n\n\n\nSingles Top Seeds\n\n\n\n\nJessica Pegula (Rank: 5): The world No. 5 entered as the clear favorite but unfortunately had to withdraw.\n\n\n\nIva Jovic (Rank: 20): The teenage phenom and top-20 star now carries the mantle as one of the highest-ranked players in the draw.\n\n\n\nWang Xinyu (Rank: 33): The versatile Chinese star brings a powerful baseline game to the Austin courts.\n\n\n\nPeyton Stearns (Rank: 58): A former University of Texas standout\, Stearns is the definitive “hometown hero” and always draws massive crowds in Austin.\n\n\n\nVarvara Gracheva (Rank: 60): A consistent performer on hard courts (Withdrawn).\n\n\n\nAnna Bondar (Rank: 65): The Hungarian veteran known for her tactical variety.\n\n\n\nCaty McNally (Rank: 68): A multi-talented player excelling in both singles and doubles.\n\n\n\nPetra Marcinko (Rank: 69): A former junior world No. 1 looking to make her mark on the senior tour.\n\n\n\n\nKey Withdrawals and Alternates\n\n\n\nThe draw was impacted by the late withdrawal of top seed Jessica Pegula due to a left knee injury\, and Varvara Gracheva due to a neck injury. Their absences have opened the door for Lucky Losers and Alternates\, including Yuan Yue and Linda Fruhvirtova\, both of whom are dangerous players capable of a deep run. \n\n\n\n\n\n\n\nDoubles Competition\n\n\n\nThe doubles draw in Austin is particularly prestigious this year\, featuring several teams with top-tier Grand Slam experience. \n\n\n\nTop Seeded Teams: \n\n\n\n\nStorm Hunter / Taylor Townsend: A powerhouse duo with a combined ranking of 29. They are the heavy favorites to take the title.\n\n\n\nShuko Aoyama / Ena Shibahara: The Japanese pair is famous for their lightning-fast reflexes and seamless chemistry.\n\n\n\nEudice Chong / Liang En-Shuo: An exciting Asian pairing with a knack for upsetting higher-seeded teams.\n\n\n\nKimberly Birrell / Caty McNally: A creative team featuring the crafty McNally\, who will be pulling double duty this week.\n\n\n\n\n\n\n\n\nProvisional Schedule\n\n\n\nThe ATX Open is designed to maximize the “Austin experience\,” often featuring night sessions that coincide with the city’s famous evening energy. \n\n\n\n\nMonday – Tuesday (Feb 23-24): Main Draw Singles Round 1 and Doubles Round 1.\n\n\n\nWednesday – Thursday (Feb 25-26): Round of 16 Singles; Quarterfinals Doubles.\n\n\n\nFriday (Feb 27): Singles Quarterfinals – A day traditionally packed with high-stakes matches.\n\n\n\nSaturday (Feb 28): Singles Semifinals and Doubles Semifinals.\n\n\n\nSunday (March 1): The Championship Sunday – Singles Final followed by the Doubles Final and trophy presentations.\n\n\n\n\n\n\n\n\nKey Narratives to Watch\n\n\n\nThe Stearns Homecoming\n\n\n\nFew players have a connection to a city quite like Peyton Stearns has with Austin. As a former National Champion at the University of Texas\, every one of her matches is expected to be a “standing room only” event. Her familiarity with the local climate and courts gives her a distinct home-court advantage. \n\n\n\nThe Rise of Iva Jovic\n\n\n\nAt just 18 years old and ranked 20th in the world\, Iva Jovic is the future of American tennis. With Pegula out of the draw\, Jovic has a golden opportunity to claim her first major title of the 2026 season and prove she belongs in the top tier of the WTA. \n\n\n\nFast Hard-Court Tactics\n\n\n\nThe courts at Westwood tend to play relatively fast\, rewarding aggressive serves and proactive net play. Expect players like Caty McNally and the team of Hunter/Townsend to use their all-court skills to dominate the rhythm of the matches. \n\n\n\n\n\n\n\nConclusion\n\n\n\nDespite the loss of some top seeds\, the 2026 ATX Open remains a must-watch event. The combination of Texas hospitality\, a passionate fan base\, and a draw filled with hungry young talent ensures that the fourth edition will be the most unpredictable yet. \n\n\n\nWould you like me to draft a localized “Fan Guide to the ATX Open” or perhaps a comparison of the top American players’ recent forms heading into this tournament?
URL:https://tennistourcalendar.com/event/2026-atx-open/
LOCATION:Westwood Country Club\, 3808 W 35th St\, Austin\, Texas\, 78703\, United States
CATEGORIES:WTA Tour
ATTACH;FMTTYPE=image/jpeg:https://tennistourcalendar.com/wp-content/uploads/2026/02/ATX-Open-Tennis.jpg
END:VEVENT
END:VCALENDAR