BEGIN:VCALENDAR
VERSION:2.0
PRODID:-//Tennis Tour Calendar - ECPv6.15.20//NONSGML v1.0//EN
CALSCALE:GREGORIAN
METHOD:PUBLISH
X-WR-CALNAME:Tennis Tour Calendar
X-ORIGINAL-URL:https://tennistourcalendar.com
X-WR-CALDESC:Events for Tennis Tour Calendar
REFRESH-INTERVAL;VALUE=DURATION:PT1H
X-Robots-Tag:noindex
X-PUBLISHED-TTL:PT1H
BEGIN:VTIMEZONE
TZID:Australia/Hobart
BEGIN:STANDARD
TZOFFSETFROM:+1100
TZOFFSETTO:+1000
TZNAME:AEST
DTSTART:20250405T160000
END:STANDARD
BEGIN:DAYLIGHT
TZOFFSETFROM:+1000
TZOFFSETTO:+1100
TZNAME:AEDT
DTSTART:20251004T160000
END:DAYLIGHT
BEGIN:STANDARD
TZOFFSETFROM:+1100
TZOFFSETTO:+1000
TZNAME:AEST
DTSTART:20260404T160000
END:STANDARD
BEGIN:DAYLIGHT
TZOFFSETFROM:+1000
TZOFFSETTO:+1100
TZNAME:AEDT
DTSTART:20261003T160000
END:DAYLIGHT
BEGIN:STANDARD
TZOFFSETFROM:+1100
TZOFFSETTO:+1000
TZNAME:AEST
DTSTART:20270403T160000
END:STANDARD
BEGIN:DAYLIGHT
TZOFFSETFROM:+1000
TZOFFSETTO:+1100
TZNAME:AEDT
DTSTART:20271002T160000
END:DAYLIGHT
END:VTIMEZONE
BEGIN:VEVENT
DTSTART;TZID=Australia/Hobart:20260112T000000
DTEND;TZID=Australia/Hobart:20260117T235959
DTSTAMP:20260422T071612
CREATED:20260110T133106Z
LAST-MODIFIED:20260110T135844Z
UID:2438-1768176000-1768694399@tennistourcalendar.com
SUMMARY:2026 Hobart International
DESCRIPTION:Updated on August 12\, 2025\n\n\nAs the Australian Open looms on the horizon\, the tennis world turns its eyes to the picturesque Domain Tennis Centre for the Hobart International 2026. Scheduled from January 12–17\, this WTA 250 event serves as a critical final tune-up for players seeking momentum before the first Grand Slam of the year. \n\n\n\nWith a prize money pool of $283\,347 and valuable ranking points on the line\, the draw features a compelling mix of Grand Slam champions\, rising stars\, and veteran legends. \n\n\n\nThe Contenders and Key Storylines\n\n\n\nEmma Raducanu Leads the Pack British star and 2021 US Open champion Emma Raducanu headlines the field as the No. 1 seed. After a stabilizing 2025 season that saw her return to the Top 30\, Raducanu arrives in Tasmania looking to cement her form on the hard courts. Her aggressive baseline game will be tested by the windy conditions often found at the Domain. \n\n\n\nThe Return of a Legend: Venus Williams In a storyline that defies time\, 45-year-old Venus Williams returns to professional competition with a Wild Card entry. The seven-time Grand Slam winner\, who delayed retirement to compete in the 2026 season\, is using Hobart as her launchpad for a historic 22nd Australian Open appearance. Her opening rounds will be must-watch TV as she looks to prove she can still compete with the modern tour’s best. \n\n\n\nIndonesian Rising Star: Janice Tjen Fresh off a breakout 2025 season where she captured her maiden WTA title in Chennai and cracked the Top 60\, Indonesia’s Janice Tjen is a player to watch. Tjen enters the main draw looking to continue her rapid ascent. Known for her heavy hitting and recent success on hard courts\, she poses a dangerous threat to any seeded player in her section. \n\n\n\nOther Seeds to Watch The depth of the field is highlighted by other key seeds: \n\n\n\n\nIva Jovic (USA)\, the No. 3 seed\, brings youthful energy to the draw.\n\n\n\nAnn Li (USA)\, seeded No. 4\, will look to utilize her speed and counter-punching ability.\n\n\n\nJessica Bouzas Maneiro (ESP) (No. 5 seed) and Tatjana Maria (GER) (No. 6 seed) add stylistic variety\, with Maria’s slice-and-dice game always tricky on quick surfaces.\n\n\n\nBarbora Krejcikova (CZE) is also in the draw\, adding major-winning pedigree to the bottom half.\n\n\n\n\nTournament Details\n\n\n\n\nDates: January 12–17\, 2026\n\n\n\nVenue: Domain Tennis Centre\, Hobart\, Australia.\n\n\n\nSurface: Hard (Greenset/Plexicushion).\n\n\n\nPrize Money: $283\,347.\n\n\n\n\nPrize Money and Points Distribution (Singles)\n\n\n\n\nWinner: $37\,390 and 250 points\n\n\n\nFinalist: $22\,125 and 163 points\n\n\n\nSemi-finalist: $12\,331 and 98 points\n\n\n\nQuarter-finalist: $7\,025 and 54 points\n\n\n\nRound of 16: $4\,285 and 30 points\n\n\n\nRound of 32: $3\,065 and 1 point\n\n\n\n\nWeather Outlook\n\n\n\nPlayers and fans should be prepared for potential interruptions. Early forecasts for race week suggest a mix of conditions\, with a high chance of rain predicted for Tuesday (Jan 13) through Thursday (Jan 15). The signature Hobart winds—often coming off the Derwent River—may also play a decisive factor\, favoring players who can adjust their toss and margins accordingly. \n\n\n\nFirst-Round Popcorn Matches\n\n\n\nBased on the draw\, fans should look out for: \n\n\n\n\nRaducanu (1) vs. the field: All eyes will be on her opening performance.\n\n\n\nVenus Williams (WC) vs. Williams’ Opponent: Every match is a celebration of her longevity.\n\n\n\nJanice Tjen: A potential dark horse who could upset the established order.\n\n\n\n\nWith the Australian Open just a week away\, the Hobart International offers the perfect blend of high-stakes competition and dramatic storylines. Play begins Monday\, January 12. \n\n\n\n\n\nTournament Director\n\n\n\n\n\n\n\n\n\n\n\n\n\nOrder of Play\n\nDraws
URL:https://tennistourcalendar.com/event/2026-hobart-international/
LOCATION:Domain Tennis Centre\, 2 Davies Ave\, Queens Domain\, Tasmania\, 7000\, Australia
CATEGORIES:WTA Tour
ATTACH;FMTTYPE=image/jpeg:https://tennistourcalendar.com/wp-content/uploads/2026/01/Hobart-International.jpg
END:VEVENT
END:VCALENDAR