BEGIN:VCALENDAR
VERSION:2.0
PRODID:-//Tennis Tour Calendar - ECPv6.15.20//NONSGML v1.0//EN
CALSCALE:GREGORIAN
METHOD:PUBLISH
X-WR-CALNAME:Tennis Tour Calendar
X-ORIGINAL-URL:https://tennistourcalendar.com
X-WR-CALDESC:Events for Tennis Tour Calendar
REFRESH-INTERVAL;VALUE=DURATION:PT1H
X-Robots-Tag:noindex
X-PUBLISHED-TTL:PT1H
BEGIN:VTIMEZONE
TZID:Australia/Brisbane
BEGIN:STANDARD
TZOFFSETFROM:+1000
TZOFFSETTO:+1000
TZNAME:AEST
DTSTART:20250101T000000
END:STANDARD
END:VTIMEZONE
BEGIN:VTIMEZONE
TZID:Australia/Adelaide
BEGIN:STANDARD
TZOFFSETFROM:+1030
TZOFFSETTO:+0930
TZNAME:ACST
DTSTART:20250405T163000
END:STANDARD
BEGIN:DAYLIGHT
TZOFFSETFROM:+0930
TZOFFSETTO:+1030
TZNAME:ACDT
DTSTART:20251004T163000
END:DAYLIGHT
BEGIN:STANDARD
TZOFFSETFROM:+1030
TZOFFSETTO:+0930
TZNAME:ACST
DTSTART:20260404T163000
END:STANDARD
BEGIN:DAYLIGHT
TZOFFSETFROM:+0930
TZOFFSETTO:+1030
TZNAME:ACDT
DTSTART:20261003T163000
END:DAYLIGHT
BEGIN:STANDARD
TZOFFSETFROM:+1030
TZOFFSETTO:+0930
TZNAME:ACST
DTSTART:20270403T163000
END:STANDARD
BEGIN:DAYLIGHT
TZOFFSETFROM:+0930
TZOFFSETTO:+1030
TZNAME:ACDT
DTSTART:20271002T163000
END:DAYLIGHT
END:VTIMEZONE
BEGIN:VTIMEZONE
TZID:Asia/Dubai
BEGIN:STANDARD
TZOFFSETFROM:+0400
TZOFFSETTO:+0400
TZNAME:+04
DTSTART:20250101T000000
END:STANDARD
END:VTIMEZONE
BEGIN:VEVENT
DTSTART;TZID=Australia/Brisbane:20260104T000000
DTEND;TZID=Australia/Brisbane:20260111T235959
DTSTAMP:20260425T231133
CREATED:20251021T140346Z
LAST-MODIFIED:20260111T141746Z
UID:1496-1767484800-1768175999@tennistourcalendar.com
SUMMARY:2026 Brisbane International
DESCRIPTION:Updated on August 8\, 2025\n\n\nAs the tennis world turns its eyes toward the new season\, the 2026 Brisbane International stands as one of the premier curtain-raisers for the Australian Summer of Tennis. Returning to the Queensland Tennis Centre with its electrifying atmosphere and world-class field\, this combined ATP 250 and WTA 500 event promises to set the tone for the upcoming Australian Open. \n\n\n\nWith defending champions eager to retain their crowns and a host of rising stars looking to make an early statement\, the 2026 edition is shaping up to be a blockbuster. This guide covers everything you need to know\, from the confirmed player field and schedule to prize money and historical context. \n\n\n\n\nJanuary 2026 Tennis Results: Brisbane\, Hong Kong\, Auckland\, and United Cup\n\n\n\n\nTable of Contents[Open][Close]Pre-Tournament Highlights: The Road to 2026Star-Studded Player FieldStrategic Partnerships and Fan Experience2026 Stars to WatchATP (Men’s Draw)WTA (Women’s Draw)Tournament Schedule (Provisional)Prize Money & Ranking PointsWTA Prize Money & Points (WTA 500)ATP Prize Money & Points (ATP 250)Recap: The 2025 Edition ChampionsVenue & History: The Queensland Tennis CentreWhy It MattersConclusion\n\n\n\nPre-Tournament Highlights: The Road to 2026\n\n\n\nThe buildup to the 2026 Brisbane International has been dominated by high-profile player announcements and the return of tennis giants to Queensland. As the first week of the new season\, the tournament serves as a critical litmus test for players’ off-season preparations. \n\n\n\nStar-Studded Player Field\n\n\n\nThe headline news for 2026 is the incredible depth of the player field. On the men’s side\, former World No. 1 Daniil Medvedev leads the charge. Known for his tactical brilliance and deep runs on hard courts\, Medvedev is looking to capture his first Brisbane title. He is joined by the defending champion\, Jiří Lehečka\, who stunned the field in 2025 with his aggressive baseline game. \n\n\n\nThe tournament also features one of the most exciting young prospects in tennis: Brazilian sensation João Fonseca. After a breakout 2025 season\, Fonseca’s inclusion adds a layer of youthful unpredictability to the draw. Other notable ATP entries include the explosive Tommy Paul\, Canadian shot-maker Denis Shapovalov\, and local favorite Alexei Popyrin. \n\n\n\nOn the women’s side\, the field is equally formidable. World No. 1 and defending champion Aryna Sabalenka returns to a court she has dominated in recent years. She will face stiff competition from 2024 champion Elena Rybakina\, whose power game is perfectly enhancing for the quick Brisbane courts. The American contingent is strong\, with Jessica Pegula\, Madison Keys\, and the resurgent Amanda Anisimova all confirmed. Additionally\, teenage phenomenon Mirra Andreeva continues her rapid ascent\, arriving in Brisbane as a seeded threat rather than just a promising talent. \n\n\n\nStrategic Partnerships and Fan Experience\n\n\n\nOff the court\, the tournament has announced Liquid I.V. as the Official Hydration Supplement Partner for 2026\, signaling a focus on player wellness and performance in the notorious Queensland heat. The “Ground Pass” experience has also been revamped for 2026\, with the “Family Fun Day” on Sunday\, Jan 4\, expected to draw record crowds with interactive activations and open practice sessions. \n\n\n\n\n\n\n\n2026 Stars to Watch\n\n\n\nATP (Men’s Draw)\n\n\n\n\n2026 Brisbane International Men’s Singles Draw\n\n\n\n\n\nDaniil Medvedev: A master of the hard court\, Medvedev’s defensive wall and flat groundstrokes make him the theoretical favorite. His form here will be a strong indicator of his Australian Open chances.\n\n\n\nJiří Lehečka (CZE): The 2025 champion has huge points to defend. His ability to hit through the court was unmatched last year\, but the pressure of defending a title is a new challenge.\n\n\n\nJoão Fonseca (BRA): The “Next Gen” spotlight is firmly on Fonseca. Fans should watch his matches for pure entertainment and explosive forehand winners.\n\n\n\nGrigor Dimitrov (BUL): A former champion (2017\, 2024) and beloved figure in Brisbane\, Dimitrov’s stylish game always draws a crowd. He remains a dangerous floater who thrives in these conditions.\n\n\n\n\nWTA (Women’s Draw)\n\n\n\n\nAryna Sabalenka: The undisputed Queen of Australia in recent years. Her power game is often unplayable in Brisbane. Watch for her serve statistics—if she is serving well\, she is nearly unbeatable here.\n\n\n\nElena Rybakina (KAZ): The cool-headed Kazakh is the perfect foil to Sabalenka’s fire. Her serve is arguably the best on tour\, and she will be looking to reclaim the trophy she lifted in 2024.\n\n\n\nMirra Andreeva: No longer just a prodigy\, Andreeva is now a legitimate contender. Her court craft and tennis IQ are well beyond her years\, and she could easily upset the top seeds.\n\n\n\nKarolina Pliskova (CZE): A three-time champion (2017\, 2019\, 2020)\, Pliskova enters as a veteran wildcard or lower seed\, but her history at this venue makes her a dangerous first-round opponent for anyone.\n\n\n\n\n\n\n\n\nTournament Schedule (Provisional)\n\n\n\nThe 2026 event kicks off early with qualifying rounds\, leading into a packed week of main draw action. Below is the provisional schedule of play. \n\n\n\nDateSession / RoundStart TimeApprox. FinishFri\, Jan 2Qualifying (Day Session – Free Entry)10:00 AM4:00 PMSat\, Jan 3Qualifying (Day Session – Free Entry)10:00 AM4:00 PMSun\, Jan 4Ground Pass (Family Fun Day)11:00 AMN/AQualifying / R1 Singles (Day Session)11:00 AM7:00 PMMon\, Jan 5R1 Singles (Day Session)11:00 AM5:00 PMR1 Singles (Night Session)6:30 PM11:00 PMTue\, Jan 6R1 / R2 Singles (Day Session)11:00 AM5:00 PMR2 Singles (Night Session)6:30 PM11:00 PMWed\, Jan 7R2 Singles (Day Session)11:00 AM5:00 PMNight Session (Pat Rafter Arena)6:30 PM11:00 PMThu\, Jan 8R2 / R3 Singles (Day Session)11:00 AM5:00 PMNight Session (Pat Rafter Arena)6:30 PM11:00 PMFri\, Jan 9Quarterfinals (Day Session)11:00 AM5:00 PMQuarterfinals (Night Session)6:30 PM11:00 PMSat\, Jan 10Semifinals (Day Session – Women’s & Men’s)11:00 AM5:00 PMSemifinals (Night Session – Men’s & W. Dbls Final)6:30 PM11:00 PMSun\, Jan 11FINALS (Men’s Dbls\, Women’s Sgls\, Men’s Sgls)2:00 PM9:00 PM\n\n\n\n\n\n\n\nPrize Money & Ranking Points\n\n\n\nThe Brisbane International offers significant financial incentives and ranking points\, particularly valuable for players looking to secure seedings ahead of the Australian Open. \n\n\n\nWTA Prize Money & Points (WTA 500)\n\n\n\nThe total financial commitment for the women’s event is USD 1\,691\,602. \n\n\n\n\nWinner: $214\,530 (500 Points)\n\n\n\nRunner-up: $134\,600 (325 Points)\n\n\n\nSemifinalist: $77\,115 (195 Points)\n\n\n\nQuarterfinalist: $37\,640 (108 Points)\n\n\n\nRound of 16: $19\,909 (60 Points)\n\n\n\nRound of 32: $13\,735 (32 Points)\n\n\n\nRound of 64: $11\,920 (1 Point)\n\n\n\n\nATP Prize Money & Points (ATP 250)\n\n\n\nThe ATP total prize money pool is USD 800 045. \n\n\n\n\nWinner: $114\,060 (250 Points)\n\n\n\nRunner-up: $66\,555 (165 Points)\n\n\n\nSemifinalist: $38\,885 (100 Points)\n\n\n\nQuarterfinalist: $21\,980 (50 Points)\n\n\n\nRound of 16: $12\,885 (25 Points)\n\n\n\nRound of 32: $7\,740 (0 Points)\n\n\n\n\n\n\n\n\nRecap: The 2025 Edition Champions\n\n\n\nThe 2025 tournament was a spectacle of aggressive tennis\, setting a high bar for the upcoming year. \n\n\n\nMen’s Singles Champion: Jiří Lehečka (CZE) Lehečka claimed his maiden ATP title in Brisbane in 2024 (2025 season)\, displaying a frightening level of dominance. In the final\, he defeated the towering American Reilly Opelka with a score of 4–1 (retired). While the final ended abruptly due to Opelka’s injury\, Lehečka’s path to the trophy was undeniable\, having taken out top seeds with his piercing forehand. \n\n\n\nWomen’s Singles Champion: Aryna Sabalenka Sabalenka reaffirmed her love affair with Australian hard courts by demolishing the field. She defeated the surprise finalist\, Polina Kudermetova\, in straight sets (6–4\, 6–3). Sabalenka’s campaign was a masterclass in controlled aggression\, and she did not drop a set throughout the week\, signaling the form that would make her the favorite for the majors. \n\n\n\nDoubles Champions \n\n\n\n\nMen: The British duo of Lloyd Glasspool and Julian Cash took home the trophy\, defeating the Czech pairing of Lehečka and Jakub Menšík in a thrilling match tie-break.\n\n\n\nWomen: The young powerhouse team of Mirra Andreeva and Diana Shnaider captured the title\, proving that the next generation had arrived in both singles and doubles.\n\n\n\n\n\n\n\n\nVenue & History: The Queensland Tennis Centre\n\n\n\nEstablished in 2009\, the Brisbane International quickly became a fan favorite due to its intimate yet electric venue. The Queensland Tennis Centre in Tennyson features the Pat Rafter Arena\, a 5\,500-seat center court covered by a PTFE glass fiber fabric roof. This roof is crucial\, as it allows play to continue during the frequent Queensland summer storms and provides much-needed shade from the blistering sun. \n\n\n\nThe tournament has a rich history of champions. Roger Federer famously won here in 2015\, winning over the locals with his grace and praising the tournament’s organization. Andy Murray is a two-time champion (2012\, 2013)\, and Serena Williams likewise dominated the women’s draw in 2013 and 2014. \n\n\n\nThe event took a hiatus and format change during the COVID-19 pandemic and the brief ATP Cup era but returned to its full combined glory in 2024. It is now firmly re-established as the “must-play” event for those serious about winning the Australian Open. \n\n\n\nWhy It Matters\n\n\n\nBrisbane is distinct because of its conditions. The humidity is often higher than in Melbourne\, and the courts can play slightly faster. Players who succeed here are usually the ones who have done their off-season fitness work diligently. It is often said in tennis circles: “If you are fit enough to win Brisbane\, you are fit enough to win the Slam.” \n\n\n\nConclusion\n\n\n\nThe 2026 Brisbane International is set to be a festival of tennis. With Daniil Medvedev seeking to add a new trophy to his cabinet\, Aryna Sabalenka aiming for a “Three-peat” of dominance in Australia\, and young guns like João Fonseca and Mirra Andreeva ready to upset the hierarchy\, the storylines are endless. \n\n\n\nFor fans attending\, the blend of night-session drama at Pat Rafter Arena and the accessible outside courts makes for a perfect summer day out. For viewers at home\, it is the official signal that tennis is back.
URL:https://tennistourcalendar.com/event/2026-brisbane-international/
LOCATION:Queensland Tennis Centre\, 190 King Arthur Terrace\, Tennyson QLD\, Queensland\, 4105\, Australia
CATEGORIES:ATP Tour,WTA Tour
ATTACH;FMTTYPE=image/jpeg:https://tennistourcalendar.com/wp-content/uploads/2025/10/Brisbane-International-Tennis.jpg
END:VEVENT
BEGIN:VEVENT
DTSTART;VALUE=DATE:20260112
DTEND;VALUE=DATE:20260118
DTSTAMP:20260425T231133
CREATED:20251105T080757Z
LAST-MODIFIED:20260117T133525Z
UID:1730-1768176000-1768694399@tennistourcalendar.com
SUMMARY:2026 Adelaide International
DESCRIPTION:Updated on August 8\, 2025\n\n\nThe 2026 Adelaide International has concluded its return to “The Drive\,” wrapping up a spectacular week that kicked off the Australian Summer of Tennis. As a premier preparation event for the Australian Open\, the tournament once again showcased a high-calibre combined field\, delivering world-class action from the best men’s and women’s players on tour. \n\n\n\nFrom blistering summer days to electric night sessions under the canopy-roofed Centre Court\, fans were treated to a week of upsets\, breakthroughs\, and championship resilience. The event solidified its reputation as a vital stop for players seeking crucial match practice\, valuable ranking points\, and an early-season title before heading to Melbourne. \n\n\n\nTable of Contents[Open][Close]2026 ChampionsWomen’s Singles Champion: Mirra AndreevaMen’s Singles Champion: Tomáš MacháčMen’s Doubles Champions: Harri Heliövaara & Henry PattenWomen’s Doubles Champions: Kateřina Siniaková & Zhang ShuaiQuad Wheelchair Singles Champion: Niels VinkTournament Essentials: Dates\, Venue\, and CategoryPrize Money and Points DistributionWTA 500 (Women’s Tour)ATP 250 (Men’s Tour)A Champion’s TraditionTournament Recap & Notable PerformancesAccessing Official ResultsLooking Ahead\n\n\n\n2026 Champions\n\n\n\nThe tournament finals on Saturday\, January 17\, saw four new champions etch their names into Adelaide history across the singles\, doubles\, and wheelchair events. \n\n\n\nWomen’s Singles Champion: Mirra Andreeva\n\n\n\nIn a dominant display of baseline aggression and tactical maturity\, 3rd seed Mirra Andreeva captured the WTA 500 title. The teenage sensation defeated Canadian rising star and 8th seed Victoria Mboko in straight sets\, 6-3\, 6-1. Andreeva’s victory sends a strong message to the field ahead of the first Grand Slam of the year\, showcasing the form that has made her one of the most exciting young talents in the sport. \n\n\n\nMen’s Singles Champion: Tomáš Macháč\n\n\n\nThe ATP 250 final was a gritty three-set battle that thrilled the capacity crowd. Czech star and 8th seed Tomáš Macháč outlasted France’s Ugo Humbert in a match defined by heavy hitting and dramatic momentum shifts. After dropping the second set in a tiebreak\, Macháč rallied decisively in the decider to claim the trophy with a 6-4\, 6-7(2)\, 6-2 victory. \n\n\n\nMen’s Doubles Champions: Harri Heliövaara & Henry Patten\n\n\n\nThe British-Finnish pairing of Harri Heliövaara and Henry Patten (Seeds 2) produced a clinical performance to defeat the formidable German duo of Kevin Krawietz and Tim Pütz (Seeds 4). The number two seeds claimed the title with a swift 6-3\, 6-2 win. \n\n\n\nWomen’s Doubles Champions: Kateřina Siniaková & Zhang Shuai\n\n\n\nKateřina Siniaková and Zhang Shuai clinched the 2026 Adelaide International women’s doubles title\, defeating Lyudmyla Kichenok and Desirae Krawczyk 6-1\, 6-4 in the final. \n\n\n\nQuad Wheelchair Singles Champion: Niels Vink\n\n\n\nIn a clash of the titans\, top seed Niels Vink overcame 2nd seed Sam Schröder in a high-quality final. Vink took the first set comfortably before edging a tight second-set tiebreak to win 6-1\, 7-6(3). \n\n\n\nTournament Essentials: Dates\, Venue\, and Category\n\n\n\nHeld during a prime week in January\, the tournament offered a fast-paced\, knockout format for both tours. \n\n\n\nDetailInformationDatesMonday\, January 12 – Saturday\, January 17\, 2026VenueMemorial Drive Tennis Centre\, Adelaide\, South AustraliaSurfaceOutdoor Hard Court (Greenset)CategoryWTA 500 (Women’s Tour) & ATP 250 (Men’s Tour)\n\n\n\nThe Memorial Drive Tennis Centre provided world-class tennis conditions\, with its hard-court surface identical to that used at the Australian Open\, ensuring players were perfectly tuned up for the conditions in Melbourne. \n\n\n\nPrize Money and Points Distribution\n\n\n\nAs a combined event\, the Adelaide International awarded different ranking points and prize money across the men’s and women’s draws. For 2026\, the total financial commitment exceeded US$1.9 million combined\, with significant increases in the women’s prize purse reflecting the WTA 500 status. \n\n\n\nWTA 500 (Women’s Tour)\n\n\n\nThe women’s event offered a total prize money pool of approximately $1\,206\,446. \n\n\n\n\nWinner: $185\,500 + 500 Points\n\n\n\nFinalist: $114\,500 + 325 Points\n\n\n\nSemifinalist: $66\,000 + 195 Points\n\n\n\nQuarterfinalist: $33\,470 + 108 Points\n\n\n\nDoubles Winners (Team): ~$61\,540\n\n\n\n\nATP 250 (Men’s Tour)\n\n\n\nThe men’s event featured a total prize pool of approximately $700\,045. \n\n\n\n\nWinner: $106\,490 + 250 Points\n\n\n\nFinalist: $62\,115 + 165 Points\n\n\n\nSemifinalist: $36\,520 + 100 Points\n\n\n\nQuarterfinalist: $21\,155 + 50 Points\n\n\n\nDoubles Winners (Team): ~$36\,610\n\n\n\n\nA Champion’s Tradition\n\n\n\nThe Adelaide International maintained its strong history of attracting Grand Slam contenders. Winning in Adelaide often provides the perfect launchpad for the rest of the season. \n\n\n\nYearMen’s Singles ChampionWomen’s Singles Champion2026Tomáš MacháčMirra Andreeva2025Félix Auger-AliassimeMadison Keys2024Jiří LehečkaJeļena Ostapenko2023Novak DjokovicAryna Sabalenka2020Andrey RublevAshleigh Barty\n\n\n\nTournament Recap & Notable Performances\n\n\n\nThe 2026 draw ceremony set the stage for a week of intense competition. \n\n\n\nATP Singles Highlights: \n\n\n\nThe men’s draw featured 28 players\, with the top four seeds receiving first-round byes. While heavy hitters like Ugo Humbert lived up to expectations by reaching the final\, it was Tomáš Macháč whose resilience stole the show. His path to the title required navigating a field of hard-court specialists\, culminating in a physically demanding three-set final that lasted nearly two and a half hours. \n\n\n\nWTA Singles Highlights: \n\n\n\nThe women’s draw of 30 players saw the top seeds assert their dominance early. However\, the story of the week was the continued rise of young talent. Victoria Mboko battled her way to the final as the 8th seed\, proving she belongs on the big stage\, but she ultimately couldn’t halt the momentum of the 3rd seed\, Mirra Andreeva\, who dropped very few games throughout the week. \n\n\n\nAccessing Official Results\n\n\n\nFor fans and media looking for the complete completed draw\, match statistics\, and detailed scorecards from the tournament week\, the official tour websites remain the definitive sources. \n\n\n\n\nOfficial ATP Overview & Results: Adelaide International Overview (ATP Tour Official Site)\n\n\n\nOfficial WTA Overview & Results: Adelaide International Overview (WTA Official Site)\n\n\n\n\nLooking Ahead\n\n\n\nWith the trophies lifted and the ranking points distributed\, the focus now shifts entirely to Melbourne Park. The 2026 Adelaide International provided the perfect prelude\, giving fans a glimpse of the form and rivalries that will define the Australian Open. \n\n\n\nThe Drive Experience Beyond the court\, the event was a massive success for fans. The “Pinky Flat” entertainment precinct buzzed all week with live music\, food trucks\, and family activities\, proving that the Adelaide International is as much a summer festival as it is a sporting event. \n\n\n\nFor news on the 2027 tournament and ticket releases later in the year\, keep an eye on the official website: https://www.tennis.com.au/adelaide-international
URL:https://tennistourcalendar.com/event/2026-adelaide-international/
LOCATION:Memorial Drive Tennis Centre\, Adelaide Oval\, War Memorial Dr\, Adelaide\, South Australia\, 5006\, Australia
CATEGORIES:ATP Tour,WTA Tour
ATTACH;FMTTYPE=image/jpeg:https://tennistourcalendar.com/wp-content/uploads/2025/11/Adelaide-International-Tennis-1.jpg
END:VEVENT
BEGIN:VEVENT
DTSTART;TZID=Asia/Dubai:20260131T000000
DTEND;TZID=Asia/Dubai:20260207T235959
DTSTAMP:20260425T231133
CREATED:20251105T145451Z
LAST-MODIFIED:20260201T185104Z
UID:1788-1769817600-1770508799@tennistourcalendar.com
SUMMARY:2026 Mubadala Abu Dhabi Open
DESCRIPTION:Last updated on August 8\, 2025\n\n\nThe United Arab Emirates is set to once again host the world’s best women tennis players as the Mubadala Abu Dhabi Open presented by Abu Dhabi Sports Council returns for its highly anticipated fourth edition. Confirmed for eight days of action\, the WTA 500 tournament will light up the International Tennis Centre at Zayed Sports City from Saturday\, 31 January to Saturday\, 7 February 2026. \n\n\n\nFollowing a record-breaking 2025 event that firmly cemented its status as one of the most prestigious stops on the Hologic WTA Tour\, the 2026 edition promises to be an even bigger spectacle. The tournament has rapidly become a highlight of the global sporting calendar\, not only for the valuable WTA ranking points on offer but for the high calibre of players it consistently attracts\, showcasing Abu Dhabi’s burgeoning reputation as a global destination for elite international sport. \n\n\n\n\n\n\n\nTournament Overview: Building on a Legacy of Success\n\n\n\nThe Mubadala Abu Dhabi Open has seen remarkable growth since becoming a permanent fixture on the WTA calendar. The previous edition in 2025 welcomed an elite field and drew thousands of fans across its eight action-packed days. The 2026 tournament will continue this trend\, featuring a main draw of 28 singles players and 16 top doubles teams\, all competing on the outdoor hard courts of the International Tennis Centre. \n\n\n\nThe event is a unique convergence of world-class sport and entertainment\, hosted in partnership with Mubadala and Abu Dhabi Sports Council. This continued commitment to excellence ensures that the tournament remains a premier event\, taking fans on an unforgettable journey from the opening qualifying rounds to the thrilling final showdown on 7 February. \n\n\n\n\n\n\n\nChampions’ Corner: A Stunning Comeback Crowns the 2025 Field\n\n\n\nThe 2025 edition delivered a true storybook ending in the singles competition. Olympic gold medalist and inaugural champion\, Belinda Bencic\, made a stunning comeback from the birth of her first child to claim her second Mubadala Abu Dhabi Open title. In a gripping final\, Bencic defeated the rising American star Ashlyn Krueger in a three-set battle (4–6\, 6–1\, 6–1)\, highlighting the incredible depth and competitive spirit of the WTA field. \n\n\n\nIn the doubles event\, the powerful pairing of Jeļena Ostapenko and Ellen Perez captured the crown\, defeating Kristina Mladenovic and Zhang Shuai with a decisive 6–2\, 6–1 victory. These past champions—Bencic\, Ostapenko\, and Perez—represent the standard of excellence fans can expect as they look to defend their titles against a hungry 2026 field. \n\n\n\n\n\n\n\nStars to Watch and Seedings\n\n\n\nThe 2026 entry list is headlined by world No. 10 Belinda Bencic\, who remains undefeated in Abu Dhabi and looks to make it a hat-trick of titles. \n\n\n\nFans should also keep a close eye on rising stars like Alexandra Eala\, who continues to inspire as a trailblazer for Southeast Asian tennis. \n\n\n\nOfficial Seedings (Singles)\n\n\n\nSeedPlayerRank1Belinda Bencic102Ekaterina Alexandrova113Clara Tauson144Emma Navarro155Liudmila Samsonova186Leylah Fernandez237Jelena Ostapenko248Paula Badosa26\n\n\n\n\n\n\n\n\n\n\n\nPrize Money and Points Distribution\n\n\n\nThe 2026 Mubadala Abu Dhabi Open features a significant total prize pool of $1\,206\,446 USD. This represents a steady increase\, reflecting the tournament’s growing prestige. Beyond the financial rewards\, the 500 ranking points available to the champion are critical for players looking to climb the ladder early in the season. \n\n\n\nRoundSingles Prize Money (USD)Singles PointsDoubles Prize Money (USD\, per team)Winner$185\,500500$61\,540Finalist$114\,500325$37\,400Semi-finalists$66\,003195$21\,720Quarter-finalists$35\,000108$11\,150Round of 16$18\,04560$6\,800 (R1)Round of 32 (R1)$13\,0051N/A\n\n\n\n\n\n\n\nProvisional Schedule (2026 Daily Breakdown)\n\n\n\nThe tournament structure ensures that every day offers high-stakes matches\, culminating in the finals on the first Saturday of February. \n\n\n\nDayDate (2026)Tournament StageNoteSaturdayJan 31Qualifying Rounds (Day 1)Family Day: Free entry for all fans.SundayFeb 1Qualifying Rounds (Final Day)Free entry for all fans.MondayFeb 2Main Draw – Round of 32Kids Under 12 go free.TuesdayFeb 3Round of 32 / Round of 16Kids Under 12 go free.WednesdayFeb 4Round of 16Kids Under 12 go free.ThursdayFeb 5Quarter-finalsWheelchair Tennis Invitational starts.FridayFeb 6Semi-finalsSingles & Doubles action.SaturdayFeb 7FinalsTournament Climax.\n\n\n\n\n\n\n\nThe Ultimate Fan Experience and Community Impact\n\n\n\nBeyond the world-class competition\, the Mubadala Abu Dhabi Open ensures a comprehensive and immersive experience for attendees of all ages in its vibrant Fan Village. Fans can look forward to special appearances from their favourite players\, live entertainment throughout the week\, exciting contests offering exclusive prizes\, and a wide selection of gourmet food and beverage options. \n\n\n\nNew for 2026\, the tournament will host a Wheelchair Tennis Invitational for the first time\, featuring singles\, doubles\, and mixed doubles competitions from February 5–7. This initiative highlights the event’s commitment to inclusivity and the growth of tennis for all “People of Determination.” \n\n\n\nThe tournament’s significance extends beyond the court\, serving as a powerful platform for community engagement. The event’s commitment to its legacy is clear\, with the continuation of the Schools Programme set to engage thousands of students across the capital\, actively encouraging youth participation in tennis and inspiring the next generation of players. \n\n\n\n\n\n\n\nBrief History: A Rapid Rise\n\n\n\nSince its inception\, the Abu Dhabi Open has quickly established itself as the premier opening event of the Middle East swing. \n\n\n\n\n2021: Aryna Sabalenka claimed the inaugural title\, setting the tone for the high level of talent the city attracts.\n\n\n\n2023: Belinda Bencic won the second edition\, marking the return of the event as a permanent WTA 500 fixture.\n\n\n\n2024: Elena Rybakina dominated the field to lift the trophy.\n\n\n\n2025: Bencic returned to the throne in a fairytale comeback.\n\n\n\n\nWith four years of history\, the tournament has evolved from a new addition to a “must-play” event for the world’s top ten players\, bridging the gap between the Australian Open and the WTA 1000 events in Doha and Dubai. \n\n\n\n\n\n\n\nTickets and Attendance\n\n\n\nTickets are currently available via Platinumlist. Fans are encouraged to book early to take advantage of the various packages: \n\n\n\n\nKids Go Free: Children under 12 can attend the first five days (through Wednesday\, Feb 4) free of charge.\n\n\n\nFree Opening Weekend: Access to the qualifying rounds on Saturday and Sunday is complimentary\, allowing fans to see elite talent fight for a spot in the main draw at no cost.\n\n\n\nPremium Options: Upgraded Courtside Hospitality tickets provide premium seating\, exclusive lounge access\, and gourmet dining for those seeking a luxurious experience.\n\n\n\n\nWTA Tournament Overview
URL:https://tennistourcalendar.com/event/2026-mubadala-abu-dhabi-open/
LOCATION:Abu Dhabi International Tennis Complex\, Zayed Sports City\, Al Rawdah - W57\, Abu Dhabi\, United Arab Emirates
CATEGORIES:WTA Tour
ATTACH;FMTTYPE=image/jpeg:https://tennistourcalendar.com/wp-content/uploads/2025/11/Mubadala-Abu-Dhabi-Open-Tennis.jpg
END:VEVENT
END:VCALENDAR