BEGIN:VCALENDAR
VERSION:2.0
PRODID:-//Tennis Tour Calendar - ECPv6.15.20//NONSGML v1.0//EN
CALSCALE:GREGORIAN
METHOD:PUBLISH
X-WR-CALNAME:Tennis Tour Calendar
X-ORIGINAL-URL:https://tennistourcalendar.com
X-WR-CALDESC:Events for Tennis Tour Calendar
REFRESH-INTERVAL;VALUE=DURATION:PT1H
X-Robots-Tag:noindex
X-PUBLISHED-TTL:PT1H
BEGIN:VTIMEZONE
TZID:Asia/Dubai
BEGIN:STANDARD
TZOFFSETFROM:+0400
TZOFFSETTO:+0400
TZNAME:+04
DTSTART:20250101T000000
END:STANDARD
END:VTIMEZONE
BEGIN:VEVENT
DTSTART;TZID=Asia/Dubai:20260131T000000
DTEND;TZID=Asia/Dubai:20260207T235959
DTSTAMP:20260422T072359
CREATED:20251105T145451Z
LAST-MODIFIED:20260201T185104Z
UID:1788-1769817600-1770508799@tennistourcalendar.com
SUMMARY:2026 Mubadala Abu Dhabi Open
DESCRIPTION:Last updated on August 8\, 2025\n\n\nThe United Arab Emirates is set to once again host the world’s best women tennis players as the Mubadala Abu Dhabi Open presented by Abu Dhabi Sports Council returns for its highly anticipated fourth edition. Confirmed for eight days of action\, the WTA 500 tournament will light up the International Tennis Centre at Zayed Sports City from Saturday\, 31 January to Saturday\, 7 February 2026. \n\n\n\nFollowing a record-breaking 2025 event that firmly cemented its status as one of the most prestigious stops on the Hologic WTA Tour\, the 2026 edition promises to be an even bigger spectacle. The tournament has rapidly become a highlight of the global sporting calendar\, not only for the valuable WTA ranking points on offer but for the high calibre of players it consistently attracts\, showcasing Abu Dhabi’s burgeoning reputation as a global destination for elite international sport. \n\n\n\n\n\n\n\nTournament Overview: Building on a Legacy of Success\n\n\n\nThe Mubadala Abu Dhabi Open has seen remarkable growth since becoming a permanent fixture on the WTA calendar. The previous edition in 2025 welcomed an elite field and drew thousands of fans across its eight action-packed days. The 2026 tournament will continue this trend\, featuring a main draw of 28 singles players and 16 top doubles teams\, all competing on the outdoor hard courts of the International Tennis Centre. \n\n\n\nThe event is a unique convergence of world-class sport and entertainment\, hosted in partnership with Mubadala and Abu Dhabi Sports Council. This continued commitment to excellence ensures that the tournament remains a premier event\, taking fans on an unforgettable journey from the opening qualifying rounds to the thrilling final showdown on 7 February. \n\n\n\n\n\n\n\nChampions’ Corner: A Stunning Comeback Crowns the 2025 Field\n\n\n\nThe 2025 edition delivered a true storybook ending in the singles competition. Olympic gold medalist and inaugural champion\, Belinda Bencic\, made a stunning comeback from the birth of her first child to claim her second Mubadala Abu Dhabi Open title. In a gripping final\, Bencic defeated the rising American star Ashlyn Krueger in a three-set battle (4–6\, 6–1\, 6–1)\, highlighting the incredible depth and competitive spirit of the WTA field. \n\n\n\nIn the doubles event\, the powerful pairing of Jeļena Ostapenko and Ellen Perez captured the crown\, defeating Kristina Mladenovic and Zhang Shuai with a decisive 6–2\, 6–1 victory. These past champions—Bencic\, Ostapenko\, and Perez—represent the standard of excellence fans can expect as they look to defend their titles against a hungry 2026 field. \n\n\n\n\n\n\n\nStars to Watch and Seedings\n\n\n\nThe 2026 entry list is headlined by world No. 10 Belinda Bencic\, who remains undefeated in Abu Dhabi and looks to make it a hat-trick of titles. \n\n\n\nFans should also keep a close eye on rising stars like Alexandra Eala\, who continues to inspire as a trailblazer for Southeast Asian tennis. \n\n\n\nOfficial Seedings (Singles)\n\n\n\nSeedPlayerRank1Belinda Bencic102Ekaterina Alexandrova113Clara Tauson144Emma Navarro155Liudmila Samsonova186Leylah Fernandez237Jelena Ostapenko248Paula Badosa26\n\n\n\n\n\n\n\n\n\n\n\nPrize Money and Points Distribution\n\n\n\nThe 2026 Mubadala Abu Dhabi Open features a significant total prize pool of $1\,206\,446 USD. This represents a steady increase\, reflecting the tournament’s growing prestige. Beyond the financial rewards\, the 500 ranking points available to the champion are critical for players looking to climb the ladder early in the season. \n\n\n\nRoundSingles Prize Money (USD)Singles PointsDoubles Prize Money (USD\, per team)Winner$185\,500500$61\,540Finalist$114\,500325$37\,400Semi-finalists$66\,003195$21\,720Quarter-finalists$35\,000108$11\,150Round of 16$18\,04560$6\,800 (R1)Round of 32 (R1)$13\,0051N/A\n\n\n\n\n\n\n\nProvisional Schedule (2026 Daily Breakdown)\n\n\n\nThe tournament structure ensures that every day offers high-stakes matches\, culminating in the finals on the first Saturday of February. \n\n\n\nDayDate (2026)Tournament StageNoteSaturdayJan 31Qualifying Rounds (Day 1)Family Day: Free entry for all fans.SundayFeb 1Qualifying Rounds (Final Day)Free entry for all fans.MondayFeb 2Main Draw – Round of 32Kids Under 12 go free.TuesdayFeb 3Round of 32 / Round of 16Kids Under 12 go free.WednesdayFeb 4Round of 16Kids Under 12 go free.ThursdayFeb 5Quarter-finalsWheelchair Tennis Invitational starts.FridayFeb 6Semi-finalsSingles & Doubles action.SaturdayFeb 7FinalsTournament Climax.\n\n\n\n\n\n\n\nThe Ultimate Fan Experience and Community Impact\n\n\n\nBeyond the world-class competition\, the Mubadala Abu Dhabi Open ensures a comprehensive and immersive experience for attendees of all ages in its vibrant Fan Village. Fans can look forward to special appearances from their favourite players\, live entertainment throughout the week\, exciting contests offering exclusive prizes\, and a wide selection of gourmet food and beverage options. \n\n\n\nNew for 2026\, the tournament will host a Wheelchair Tennis Invitational for the first time\, featuring singles\, doubles\, and mixed doubles competitions from February 5–7. This initiative highlights the event’s commitment to inclusivity and the growth of tennis for all “People of Determination.” \n\n\n\nThe tournament’s significance extends beyond the court\, serving as a powerful platform for community engagement. The event’s commitment to its legacy is clear\, with the continuation of the Schools Programme set to engage thousands of students across the capital\, actively encouraging youth participation in tennis and inspiring the next generation of players. \n\n\n\n\n\n\n\nBrief History: A Rapid Rise\n\n\n\nSince its inception\, the Abu Dhabi Open has quickly established itself as the premier opening event of the Middle East swing. \n\n\n\n\n2021: Aryna Sabalenka claimed the inaugural title\, setting the tone for the high level of talent the city attracts.\n\n\n\n2023: Belinda Bencic won the second edition\, marking the return of the event as a permanent WTA 500 fixture.\n\n\n\n2024: Elena Rybakina dominated the field to lift the trophy.\n\n\n\n2025: Bencic returned to the throne in a fairytale comeback.\n\n\n\n\nWith four years of history\, the tournament has evolved from a new addition to a “must-play” event for the world’s top ten players\, bridging the gap between the Australian Open and the WTA 1000 events in Doha and Dubai. \n\n\n\n\n\n\n\nTickets and Attendance\n\n\n\nTickets are currently available via Platinumlist. Fans are encouraged to book early to take advantage of the various packages: \n\n\n\n\nKids Go Free: Children under 12 can attend the first five days (through Wednesday\, Feb 4) free of charge.\n\n\n\nFree Opening Weekend: Access to the qualifying rounds on Saturday and Sunday is complimentary\, allowing fans to see elite talent fight for a spot in the main draw at no cost.\n\n\n\nPremium Options: Upgraded Courtside Hospitality tickets provide premium seating\, exclusive lounge access\, and gourmet dining for those seeking a luxurious experience.\n\n\n\n\nWTA Tournament Overview
URL:https://tennistourcalendar.com/event/2026-mubadala-abu-dhabi-open/
LOCATION:Abu Dhabi International Tennis Complex\, Zayed Sports City\, Al Rawdah - W57\, Abu Dhabi\, United Arab Emirates
CATEGORIES:WTA Tour
ATTACH;FMTTYPE=image/jpeg:https://tennistourcalendar.com/wp-content/uploads/2025/11/Mubadala-Abu-Dhabi-Open-Tennis.jpg
END:VEVENT
END:VCALENDAR