BEGIN:VCALENDAR
VERSION:2.0
PRODID:-//Tennis Tour Calendar - ECPv6.15.20//NONSGML v1.0//EN
CALSCALE:GREGORIAN
METHOD:PUBLISH
X-ORIGINAL-URL:https://tennistourcalendar.com
X-WR-CALDESC:Events for Tennis Tour Calendar
REFRESH-INTERVAL;VALUE=DURATION:PT1H
X-Robots-Tag:noindex
X-PUBLISHED-TTL:PT1H
BEGIN:VTIMEZONE
TZID:America/Halifax
BEGIN:DAYLIGHT
TZOFFSETFROM:-0400
TZOFFSETTO:-0300
TZNAME:ADT
DTSTART:20250309T060000
END:DAYLIGHT
BEGIN:STANDARD
TZOFFSETFROM:-0300
TZOFFSETTO:-0400
TZNAME:AST
DTSTART:20251102T050000
END:STANDARD
BEGIN:DAYLIGHT
TZOFFSETFROM:-0400
TZOFFSETTO:-0300
TZNAME:ADT
DTSTART:20260308T060000
END:DAYLIGHT
BEGIN:STANDARD
TZOFFSETFROM:-0300
TZOFFSETTO:-0400
TZNAME:AST
DTSTART:20261101T050000
END:STANDARD
BEGIN:DAYLIGHT
TZOFFSETFROM:-0400
TZOFFSETTO:-0300
TZNAME:ADT
DTSTART:20270314T060000
END:DAYLIGHT
BEGIN:STANDARD
TZOFFSETFROM:-0300
TZOFFSETTO:-0400
TZNAME:AST
DTSTART:20271107T050000
END:STANDARD
END:VTIMEZONE
BEGIN:VEVENT
DTSTART;TZID=America/Halifax:20260328T000000
DTEND;TZID=America/Halifax:20260405T235959
DTSTAMP:20260422T062506
CREATED:20260329T094206Z
LAST-MODIFIED:20260329T094210Z
UID:3607-1774656000-1775433599@tennistourcalendar.com
SUMMARY:2026 Charleston Open
DESCRIPTION:Updated on August 8\, 2025\n\n\nAs the tennis world pivots from the blistering hard courts of the “Sunshine Double” in Miami to the elegant\, moss-draped serenity of the Lowcountry\, all eyes turn to Daniel Island. The 2026 Credit One Charleston Open is not just another stop on the WTA Tour; it is a storied tradition\, a masterclass in Southern hospitality\, and the official starting gun for the clay-court season in North America. \n\n\n\nFrom March 28 to April 5\, 2026\, the world’s elite will descend upon the Credit One Stadium to slide\, grind\, and compete for one of the most unique trophies in the sport. This year’s edition carries extra weight\, marking a historic leap in prize money and featuring a generational crossroads of talent that promises one of the most unpredictable draws in recent memory. \n\n\n\n\n\n\n\nTournament Essentials: Dates and Venue\n\n\n\nThe 54th edition of this WTA 500 powerhouse kicks off with qualifying rounds on Saturday\, March 28\, leading into the main draw festivities beginning Monday\, March 30. \n\n\n\n\nDates: March 28 – April 5\, 2026\n\n\n\nVenue: Credit One Stadium\, Daniel Island\, Charleston\, South Carolina\n\n\n\nSurface: Green Clay (Har-Tru)\n\n\n\nLevel: WTA 500\n\n\n\nTotal Prize Money: US$2\,300\,000\n\n\n\n\nThe venue itself remains a marvel of modern sports architecture. Since its massive renovation\, the Credit One Stadium has set the gold standard for player and fan experience. Unlike the red dirt of Roland Garros\, Charleston’s green clay offers a slightly faster pace and a distinct “Carolina feel\,” favoring players who can balance defensive sliding with aggressive baseline play. \n\n\n\n\n\n\n\nThe Queen of the Lowcountry: Defending Champions\n\n\n\nAll roads to the title go through the world number five and defending champion\, Jessica Pegula. \n\n\n\nIn 2025\, Pegula captured an emotional victory on what she considers her second home turf\, defeating fellow American Sofia Kenin in a hard-fought 6-3\, 7-5 final. It was a milestone win for Pegula—not only her first title on clay but the moment she officially reclaimed the mantle of the No. 1 American. Her connection to the area runs deep; having trained on Daniel Island in her early twenties\, her 2025 triumph was a full-circle moment that cemented her status as the tournament’s “Homegrown Hero.” \n\n\n\nIn the doubles arena\, the formidable duo of Jelena Ostapenko and Erin Routliffe return to defend their 2025 crown. Known for their explosive power and tactical synergy\, they will be the team to beat in a field that historically treats doubles with high prestige. \n\n\n\n\n\n\n\nThe 2026 Player Field: Stars to Watch\n\n\n\nThe 2026 entry list reads like a “Who’s Who” of women’s tennis\, blending established icons with the meteoric rise of the next generation. \n\n\n\nThe Heavy Hitters\n\n\n\n\nJessica Pegula (Seed #1): The favorite. Her consistency and high tennis IQ make her a nightmare on green clay.\n\n\n\nEkaterina Alexandrova (Seed #2): A perennial threat in Charleston. Her flat\, piercing groundstrokes somehow find a way to penetrate the clay\, making her a dangerous finalist contender.\n\n\n\nBelinda Bencic (Seed #3): The 2022 champion. Bencic’s ability to take the ball early is legendary\, and she always seems to find her best form in the South Carolina air.\n\n\n\n\nThe “Teen Queen” and Rising Stars\n\n\n\nThe most discussed name in the 2026 draw is undoubtedly Iva Jovic (Seed #4). Currently ranked 17th in the world\, Jovic’s ascent has been the story of the last twelve months. Charleston fans love a breakout star\, and Jovic’s aggressive all-court game is perfectly suited for the Har-Tru surface. \n\n\n\nOther names to keep a sharp eye on include Diana Shnaider (Seed #7) and the tactical wizardry of Janice Tjen (Seed #12)\, both of whom have seen massive ranking jumps heading into the spring. \n\n\n\nThe American Contingent\n\n\n\nCharleston always brings out the best in the Americans. Madison Keys (Seed #5)\, the 2019 champion\, remains a force of nature with her serve and forehand. Meanwhile\, Sofia Kenin (Seed #16)\, last year’s runner-up\, returns with a point to prove and a game that thrives on the grit of the clay. \n\n\n\n\n\n\n\nPrize Money & Ranking Points\n\n\n\nThe 2026 edition features a total prize commitment of $2\,300\,000\, reinforcing its status as the premier WTA 500 event in the world. In a historic move\, the tournament has continued its commitment to pay parity and elevated purses\, ensuring that the champion walks away with a check north of $350\,000. \n\n\n\nResultPrize MoneyWTA PointsWinner$354\,345500Finalist$218\,225325Semifinalist$110\,370195Quarterfinalist$55\,200108Round of 16$27\,87060Round of 32$17\,23032Round of 64$13\,8301\n\n\n\n\n\n\n\nComplete Tournament Schedule\n\n\n\nPlanning your week at Daniel Island? Here is the definitive session-by-session breakdown. Please note that match times are subject to change based on weather and match length. \n\n\n\nProvisional Schedule (March 28 – April 5)\n\n\n\nSessionDateGates OpenStart TimeMatch NotesSession 1Sat 3/2810:00 am11:00 amQualifyingSession 2Sun 3/2910:00 am11:00 amQualifyingSession 3Mon 3/3010:00 am11:00 am1st Round (Day)Session 4Mon 3/305:00 pm6:00 pm1st Round (Night)Session 5Tue 3/3110:00 am11:00 am1st & 2nd Round (Day)Session 6Tue 3/315:00 pm6:00 pm1st & 2nd Round (Night)Session 7Wed 4/110:00 am11:00 am2nd Round (Day)Session 8Wed 4/15:00 pm6:00 pm2nd Round (Night)Session 9Thu 4/210:00 am11:00 am3rd Round (Day)Session 10Thu 4/25:00 pm6:00 pm3rd Round (Night)Session 11Fri 4/310:00 am11:00 amQuarterfinals (Day)Session 12Fri 4/35:00 pm6:00 pmQuarterfinals (Night)Session 13Sat 4/410:00 am11:00 amSemifinalsSession 14Sun 4/510:00 am12:30 pmFinals*\n\n\n\n*Doubles Final begins at 12:30 pm\, followed by the Singles Final at 3:00 pm. \n\n\n\n\n\n\n\nFan Experience: Beyond the Baseline\n\n\n\nWhat makes Charleston truly special isn’t just the tennis—it’s the atmosphere. The tournament is a lifestyle event\, often referred to as “the garden party of the WTA.” \n\n\n\n\nDining: Expect more than just stadium hot dogs. The Credit One Charleston Open is famous for its curated food villages\, featuring Lowcountry staples like shrimp and grits\, local oysters\, and craft cocktails.\n\n\n\nThe Terrace: The renovated stadium offers climate-controlled suites and a world-class terrace that provides panoramic views of Daniel Island and the marshes.\n\n\n\nJunior Tennis & Clinics: The tournament remains deeply committed to the community\, hosting clinics for young players throughout the week\, often with surprise appearances from top seeds.\n\n\n\n\n\n\n\n\nHow to Watch\n\n\n\nIf you can’t make it to South Carolina\, the 2026 Credit One Charleston Open will be broadcast extensively to over 160 countries. \n\n\n\n\nUnited States: Tennis Channel is the exclusive home for “first ball to last ball” coverage. You can stream every match live on the Tennis Channel App.\n\n\n\nInternational: Fans can tune in via WTA TV\, the tour’s official streaming service.\n\n\n\nRegional Partners: Check local listings for Sky Sports (UK)\, beIN Sports (Europe/Middle East)\, and DAZN (Canada).\n\n\n\n\n\n\n\n\nFinal Thoughts\n\n\n\nThe 2026 Credit One Charleston Open is shaping up to be a definitive moment in the season. Can Jessica Pegula defend her home turf? Will Iva Jovic prove that the “future” is actually right now? Or will a veteran like Belinda Bencic remind everyone why she’s a former champion? \n\n\n\nOne thing is certain: between the Spanish moss and the green clay\, magic is about to happen in the Lowcountry.
URL:https://tennistourcalendar.com/event/2026-charleston-open/
LOCATION:Credit One Stadium\, 161 Seven Farms Drive\, Charleston\, South Carolina\, 29492\, United States
CATEGORIES:WTA Tour
ATTACH;FMTTYPE=image/jpeg:https://tennistourcalendar.com/wp-content/uploads/2026/03/Charleston-Open.jpg
END:VEVENT
END:VCALENDAR